Workbook

Sheet بازارگردانی مفید

Sheet سهام
A2: صندوق سرمایه‌گذاری اختصاصی بازارگردانی مفید | B2: صندوق سرمایه‌گذاری اختصاصی بازارگردانی مفید | C2: صندوق سرمایه‌گذاری اختصاصی بازارگردانی مفید | D2: صندوق سرمایه‌گذاری اختصاصی بازارگردانی مفید | E2: صندوق سرمایه‌گذاری اختصاصی بازارگردانی مفید | F2: صندوق سرمایه‌گذاری اختصاصی بازارگردانی مفید | G2: صندوق سرمایه‌گذاری اختصاصی بازارگردانی مفید | H2: صندوق سرمایه‌گذاری اختصاصی بازارگردانی مفید | I2: صندوق سرمایه‌گذاری اختصاصی بازارگردانی مفید | J2: صندوق سرمایه‌گذاری اختصاصی بازارگردانی مفید | K2: صندوق سرمایه‌گذاری اختصاصی بازارگردانی مفید | L2: صندوق سرمایه‌گذاری اختصاصی بازارگردانی مفید | M2: صندوق سرمایه‌گذاری اختصاصی بازارگردانی مفید | N2: صندوق سرمایه‌گذاری اختصاصی بازارگردانی مفید | O2: صندوق سرمایه‌گذاری اختصاصی بازارگردانی مفید | P2: صندوق سرمایه‌گذاری اختصاصی بازارگردانی مفید | Q2: صندوق سرمایه‌گذاری اختصاصی بازارگردانی مفید | R2: صندوق سرمایه‌گذاری اختصاصی بازارگردانی مفید | S2: صندوق سرمایه‌گذاری اختصاصی بازارگردانی مفید | T2: صندوق سرمایه‌گذاری اختصاصی بازارگردانی مفید | U2: صندوق سرمایه‌گذاری اختصاصی بازارگردانی مفید | V2: صندوق سرمایه‌گذاری اختصاصی بازارگردانی مفید | W2: صندوق سرمایه‌گذاری اختصاصی بازارگردانی مفید | X2: صندوق سرمایه‌گذاری اختصاصی بازارگردانی مفید | Y2: صندوق سرمایه‌گذاری اختصاصی بازارگردانی مفید
A3: صورت وضعیت پورتفوی | B3: صورت وضعیت پورتفوی | C3: صورت وضعیت پورتفوی | D3: صورت وضعیت پورتفوی | E3: صورت وضعیت پورتفوی | F3: صورت وضعیت پورتفوی | G3: صورت وضعیت پورتفوی | H3: صورت وضعیت پورتفوی | I3: صورت وضعیت پورتفوی | J3: صورت وضعیت پورتفوی | K3: صورت وضعیت پورتفوی | L3: صورت وضعیت پورتفوی | M3: صورت وضعیت پورتفوی | N3: صورت وضعیت پورتفوی | O3: صورت وضعیت پورتفوی | P3: صورت وضعیت پورتفوی | Q3: صورت وضعیت پورتفوی | R3: صورت وضعیت پورتفوی | S3: صورت وضعیت پورتفوی | T3: صورت وضعیت پورتفوی | U3: صورت وضعیت پورتفوی | V3: صورت وضعیت پورتفوی | W3: صورت وضعیت پورتفوی | X3: صورت وضعیت پورتفوی | Y3: صورت وضعیت پورتفوی
A4: برای ماه منتهی به 1405/05/31 | B4: برای ماه منتهی به 1405/05/31 | C4: برای ماه منتهی به 1405/05/31 | D4: برای ماه منتهی به 1405/05/31 | E4: برای ماه منتهی به 1405/05/31 | F4: برای ماه منتهی به 1405/05/31 | G4: برای ماه منتهی به 1405/05/31 | H4: برای ماه منتهی به 1405/05/31 | I4: برای ماه منتهی به 1405/05/31 | J4: برای ماه منتهی به 1405/05/31 | K4: برای ماه منتهی به 1405/05/31 | L4: برای ماه منتهی به 1405/05/31 | M4: برای ماه منتهی به 1405/05/31 | N4: برای ماه منتهی به 1405/05/31 | O4: برای ماه منتهی به 1405/05/31 | P4: برای ماه منتهی به 1405/05/31 | Q4: برای ماه منتهی به 1405/05/31 | R4: برای ماه منتهی به 1405/05/31 | S4: برای ماه منتهی به 1405/05/31 | T4: برای ماه منتهی به 1405/05/31 | U4: برای ماه منتهی به 1405/05/31 | V4: برای ماه منتهی به 1405/05/31 | W4: برای ماه منتهی به 1405/05/31 | X4: برای ماه منتهی به 1405/05/31 | Y4: برای ماه منتهی به 1405/05/31
A5: 1- سرمایه گذاری ها
A6: 1-1-سرمایه‌گذاری در سهام و حق تقدم سهام
A7: نام شرکت | C7: 1405/05/01 | D7: 1405/04/31 | E7: 1405/04/31 | F7: 1405/04/31 | G7: 1405/04/31 | I7: تغییرات طی دوره | J7: تغییرات طی دوره | K7: تغییرات طی دوره | L7: تغییرات طی دوره | M7: تغییرات طی دوره | N7: تغییرات طی دوره | O7: تغییرات طی دوره | Q7: 1405/05/31 | R7: 1405/05/31 | S7: 1405/05/31 | T7: 1405/05/31 | U7: 1405/05/31 | V7: 1405/05/31 | W7: 1405/05/31 | X7: 1405/05/31 | Y7: 1405/05/31
A8: نام شرکت | C8: تعداد | E8: بهای تمام شده | G8: خالص ارزش فروش | I8: خرید طی دوره | J8: خرید طی دوره | K8: خرید طی دوره | M8: فروش طی دوره | N8: فروش طی دوره | O8: فروش طی دوره | Q8: تعداد | S8: قیمت بازار | U8: بهای تمام شده | W8: خالص ارزش فروش | Y8: درصد به کل دارایی‌های صندوق
A9: نام شرکت | C9: تعداد | E9: بهای تمام شده | G9: خالص ارزش فروش | I9: تعداد | K9: بهای تمام شده | M9: تعداد | O9: مبلغ فروش | Q9: تعداد | S9: قیمت بازار | U9: بهای تمام شده | W9: خالص ارزش فروش | Y9: درصد به کل دارایی‌های صندوق
A10: بانک خاورمیانه | C10: 768340025 | E10: 2569524896522 | G10: 3918627065909 | I10: 116994546 | K10: 722093248204 | M10: -79031100 | O10: 469469232150 | Q10: =C10+I10+M10 -> 806303471 | S10: 6320 | U10: 3022076646728 | W10: 5091965099888 | Y10: 0.042522109
A11: معدنکاران نسوز | C11: 980087262 | E11: 10257750065102 | G11: 12369094457450 | I11: 5464049 | K11: 74737734051 | M11: -7924636 | O11: 106921559375 | Q11: =C11+I11+M11 -> 977626675 | S11: 13340 | U11: 10249514291325 | W11: 13031628274218 | Y11: 0.10882485
A12: بیمه زندگی مفید | C12: 20058877 | E12: 72176531020 | G12: 254030081027 | I12: 0 | K12: 0 | M12: -20058877 | O12: 122256298645 | Q12: =C12+I12+M12 -> 0 | S12: 0 | U12: 0 | W12: 0 | Y12: 0
A13: مجتمع کاشی و سنگ پرسپولیس یزد | C13: 1041062645 | E13: 6762064651363 | G13: 6428877483069 | I13: 37842883 | K13: 270487875429 | M13: -65661128 | O13: 462546990516 | Q13: =C13+I13+M13 -> 1013244400 | S13: 7900 | U13: 6605831503477 | W13: 7998547240622 | Y13: 0.066794468
A14: کولان سل | C14: 122138985 | E14: 3146464664096 | G14: 3323316919683 | I14: 17236030 | K14: 476435707539 | M14: -1275000 | O14: 35389843526 | Q14: =C14+I14+M14 -> 138100015 | S14: 27500 | U14: 3590006580671 | W14: 3794864122187 | Y14: 0.031690246
A15: ح.بیمه زندگی مفید | C15: 0 | E15: 0 | G15: 0 | I15: 30088315 | K15: 0 | M15: 0 | O15: 0 | Q15: =C15+I15+M15 -> 30088315 | S15: 5490 | U15: 31261759285 | W15: 165059308864 | Y15: 0.0013783814
E16: =SUM(E10:E15) -> 22807980808103 | G16: =SUM(G10:G15) -> 26293946007138 | K16: =SUM(K10:K15) -> 1543754565223 | O16: =SUM(O10:O15) -> 1196583924212 | U16: =SUM(U10:U15) -> 23498690781486 | W16: =SUM(W10:W15) -> 30082064045779 | Y16: =SUM(Y10:Y15) -> 0.25121005

Sheet واحد های صندوق
A2: صندوق سرمایه‌گذاری اختصاصی بازارگردانی مفید | B2: صندوق سرمایه‌گذاری اختصاصی بازارگردانی مفید | C2: صندوق سرمایه‌گذاری اختصاصی بازارگردانی مفید | D2: صندوق سرمایه‌گذاری اختصاصی بازارگردانی مفید | E2: صندوق سرمایه‌گذاری اختصاصی بازارگردانی مفید | F2: صندوق سرمایه‌گذاری اختصاصی بازارگردانی مفید | G2: صندوق سرمایه‌گذاری اختصاصی بازارگردانی مفید | H2: صندوق سرمایه‌گذاری اختصاصی بازارگردانی مفید | I2: صندوق سرمایه‌گذاری اختصاصی بازارگردانی مفید | J2: صندوق سرمایه‌گذاری اختصاصی بازارگردانی مفید | K2: صندوق سرمایه‌گذاری اختصاصی بازارگردانی مفید | L2: صندوق سرمایه‌گذاری اختصاصی بازارگردانی مفید | M2: صندوق سرمایه‌گذاری اختصاصی بازارگردانی مفید | N2: صندوق سرمایه‌گذاری اختصاصی بازارگردانی مفید | O2: صندوق سرمایه‌گذاری اختصاصی بازارگردانی مفید | P2: صندوق سرمایه‌گذاری اختصاصی بازارگردانی مفید | Q2: صندوق سرمایه‌گذاری اختصاصی بازارگردانی مفید | R2: صندوق سرمایه‌گذاری اختصاصی بازارگردانی مفید | S2: صندوق سرمایه‌گذاری اختصاصی بازارگردانی مفید | T2: صندوق سرمایه‌گذاری اختصاصی بازارگردانی مفید | U2: صندوق سرمایه‌گذاری اختصاصی بازارگردانی مفید | V2: صندوق سرمایه‌گذاری اختصاصی بازارگردانی مفید | W2: صندوق سرمایه‌گذاری اختصاصی بازارگردانی مفید | X2: صندوق سرمایه‌گذاری اختصاصی بازارگردانی مفید | Y2: صندوق سرمایه‌گذاری اختصاصی بازارگردانی مفید
A3: صورت وضعیت پورتفوی | B3: صورت وضعیت پورتفوی | C3: صورت وضعیت پورتفوی | D3: صورت وضعیت پورتفوی | E3: صورت وضعیت پورتفوی | F3: صورت وضعیت پورتفوی | G3: صورت وضعیت پورتفوی | H3: صورت وضعیت پورتفوی | I3: صورت وضعیت پورتفوی | J3: صورت وضعیت پورتفوی | K3: صورت وضعیت پورتفوی | L3: صورت وضعیت پورتفوی | M3: صورت وضعیت پورتفوی | N3: صورت وضعیت پورتفوی | O3: صورت وضعیت پورتفوی | P3: صورت وضعیت پورتفوی | Q3: صورت وضعیت پورتفوی | R3: صورت وضعیت پورتفوی | S3: صورت وضعیت پورتفوی | T3: صورت وضعیت پورتفوی | U3: صورت وضعیت پورتفوی | V3: صورت وضعیت پورتفوی | W3: صورت وضعیت پورتفوی | X3: صورت وضعیت پورتفوی | Y3: صورت وضعیت پورتفوی
A4: برای ماه منتهی به 1405/05/31 | B4: برای ماه منتهی به 1405/05/31 | C4: برای ماه منتهی به 1405/05/31 | D4: برای ماه منتهی به 1405/05/31 | E4: برای ماه منتهی به 1405/05/31 | F4: برای ماه منتهی به 1405/05/31 | G4: برای ماه منتهی به 1405/05/31 | H4: برای ماه منتهی به 1405/05/31 | I4: برای ماه منتهی به 1405/05/31 | J4: برای ماه منتهی به 1405/05/31 | K4: برای ماه منتهی به 1405/05/31 | L4: برای ماه منتهی به 1405/05/31 | M4: برای ماه منتهی به 1405/05/31 | N4: برای ماه منتهی به 1405/05/31 | O4: برای ماه منتهی به 1405/05/31 | P4: برای ماه منتهی به 1405/05/31 | Q4: برای ماه منتهی به 1405/05/31 | R4: برای ماه منتهی به 1405/05/31 | S4: برای ماه منتهی به 1405/05/31 | T4: برای ماه منتهی به 1405/05/31 | U4: برای ماه منتهی به 1405/05/31 | V4: برای ماه منتهی به 1405/05/31 | W4: برای ماه منتهی به 1405/05/31 | X4: برای ماه منتهی به 1405/05/31 | Y4: برای ماه منتهی به 1405/05/31
A5: 2-1-سرمایه‌گذاری در واحدهای صندوق های سرمایه گذاری
A6: نام شرکت | C6: 1405/05/01 | D6: 1405/04/31 | E6: 1405/04/31 | F6: 1405/04/31 | G6: 1405/04/31 | I6: تغییرات طی دوره | J6: تغییرات طی دوره | K6: تغییرات طی دوره | L6: تغییرات طی دوره | M6: تغییرات طی دوره | N6: تغییرات طی دوره | O6: تغییرات طی دوره | Q6: 1405/05/31 | R6: 1405/05/31 | S6: 1405/05/31 | T6: 1405/05/31 | U6: 1405/05/31 | V6: 1405/05/31 | W6: 1405/05/31 | X6: 1405/05/31 | Y6: 1405/05/31
A7: نام شرکت | C7: تعداد | E7: بهای تمام شده | G7: خالص ارزش فروش | I7: خرید طی دوره | J7: خرید طی دوره | K7: خرید طی دوره | M7: فروش طی دوره | N7: فروش طی دوره | O7: فروش طی دوره | Q7: تعداد | S7: قیمت بازار | U7: بهای تمام شده | W7: خالص ارزش فروش | Y7: درصد به کل دارایی‌های صندوق
A8: نام شرکت | C8: تعداد | E8: بهای تمام شده | G8: خالص ارزش فروش | I8: تعداد | K8: بهای تمام شده | M8: تعداد | O8: مبلغ فروش | Q8: تعداد | S8: قیمت بازار | U8: بهای تمام شده | W8: خالص ارزش فروش | Y8: درصد به کل دارایی‌های صندوق
A9: صندوق طلای عیار مفید | C9: 30263342 | E9: 15249549369948 | G9: 15766360738729 | I9: 114370600 | K9: 57902520350211 | M9: -101950856 | O9: 52788763298000 | Q9: =C9+I9+M9 -> 42683086 | S9: 589719 | U9: 21637029325799 | W9: 25155924176758 | Y9: 0.21007272
A10: صندوق س توسعه فولاد- ثابت | C10: 43100000 | E10: 991723041836 | G10: 992054644904 | I10: 122810000 | K10: 2868504278685 | M10: -34092000 | O10: 800941289633 | Q10: =C10+I10+M10 -> 131818000 | S10: 23687 | U10: 3069179683646 | W10: 3121221590969 | Y10: 0.026064775
A11: صندوق س.توسعه اندوخته آینده-س | C11: 39289342 | E11: 4481326123402 | G11: 4639093422089 | I11: 79625426 | K11: 10503311111920 | M11: -92365276 | O11: 12260039743924 | Q11: =C11+I11+M11 -> 26549492 | S11: 142782 | U11: 3561031920663 | W11: 3789766053561 | Y11: 0.031647673
A12: صندوق ارمغان فیروزه آسیا-ثابت | C12: 1300000 | E12: 109488592537 | G12: 112502099548 | I12: 8200000 | K12: 718649304039 | M12: -9300000 | O12: 817445435248 | Q12: =C12+I12+M12 -> 200000 | S12: 88921 | U12: 17615294351 | W12: 17777642076 | Y12: 0.00014845798
A13: صندوق س شاخصی آرام مفید | C13: 61809724 | E13: 1921383381655 | G13: 1952412745693 | I13: 42041795 | K13: 1500323541879 | M13: -42791548 | O13: 1532688845790 | Q13: =C13+I13+M13 -> 61059971 | S13: 38973 | U13: 2048185379400 | W13: 2379047733416 | Y13: 0.019867011
A14: صندوق س. آوند مفید-د | C14: 82524751 | E14: 2370144143954 | G14: 2372317748306 | I14: 2648742323 | K14: 77379391252325 | M14: -2480771118 | O14: 72403879551647 | Q14: =C14+I14+M14 -> 250495956 | S14: 29510 | U14: 7389264799797 | W14: 7391812255625 | Y14: 0.061727731
A15: صندوق س.اعتماد آفرین پارسیان-د | C15: 25836000 | E15: 3426322709816 | G15: 3424771101796 | I15: 82155834 | K15: 11040332509164 | M15: -107991834 | O15: 14582286455997 | Q15: =C15+I15+M15 -> 0 | S15: 0 | U15: 0 | W15: 0 | Y15: 0
A16: صندوق س صنایع مفید1- بخشی | C16: 130326299 | E16: 2624706755710 | G16: 2994610892909 | I16: 31890944 | K16: 861681879353 | M16: -54244063 | O16: 1444807670440 | Q16: =C16+I16+M16 -> 107973180 | S16: 29834 | U16: 2353898962376 | W16: 3220402108720 | Y16: 0.026893014
A17: صندوق س. آرمان آتی کوثر-د | C17: 1065000 | E17: 125552220857 | G17: 125787608709 | I17: 4480000 | K17: 535801623958 | M17: -4000000 | O17: 481448995254 | Q17: =C17+I17+M17 -> 1545000 | S17: 121328 | U17: 184513176546 | W17: 187382637164 | Y17: 0.0015647996
A18: صندوق س صنایع مفید2-بخشی | C18: 122772237 | E18: 1357674873961 | G18: 1274399955854 | I18: 148560566 | K18: 1872020082071 | M18: -133908733 | O18: 1666229756613 | Q18: =C18+I18+M18 -> 137424070 | S18: 13966 | U18: 1692056329405 | W18: 1918746360188 | Y18: 0.016023115
A19: صندوق س.درآمد ثابت پاسارگاد-د | C19: 5400000 | E19: 86261095799 | G19: 88543537526 | I19: 16800000 | K19: 279564938353 | M19: -22200000 | O19: 369077420161 | Q19: =C19+I19+M19 -> 0 | S19: 0 | U19: 0 | W19: 0 | Y19: 0
A20: صندوق س صنایع مفید3- بخشی | C20: 81419613 | E20: 2704061262255 | G20: 2748065376453 | I20: 122012073 | K20: 4412190074124 | M20: -75560181 | O20: 2752735933239 | Q20: =C20+I20+M20 -> 127871505 | S20: 37384 | U20: 4542842003705 | W20: 4779057648867 | Y20: 0.039909074
... A35: صندوق س. ثبات ویستا -د | C35: 0 | E35: 0 | G35: 0 | I35: 14500000 | K35: 524329226428 | M35: -14500000 | O35: 529102621459 | Q35: =C35+I35+M35 -> 0 | S35: 0 | U35: 0 | W35: 0 | Y35: 0
E36: =SUM(E9:E35) -> 50778991260185 | G36: =SUM(G9:G35) -> 52363015115789 | K36: =SUM(K9:K35) -> 189595800093139 | O36: =SUM(O9:O35) -> 180881980609549 | U36: =SUM(U9:U35) -> 64063104180722 | W36: =SUM(W9:W35) -> 72550173372038 | Y36: =SUM(Y9:Y35) -> 0.6058538

Sheet اوراق مشارکت
A2: صندوق سرمایه‌گذاری اختصاصی بازارگردانی مفید | B2: صندوق سرمایه‌گذاری اختصاصی بازارگردانی مفید | C2: صندوق سرمایه‌گذاری اختصاصی بازارگردانی مفید | D2: صندوق سرمایه‌گذاری اختصاصی بازارگردانی مفید | E2: صندوق سرمایه‌گذاری اختصاصی بازارگردانی مفید | F2: صندوق سرمایه‌گذاری اختصاصی بازارگردانی مفید | G2: صندوق سرمایه‌گذاری اختصاصی بازارگردانی مفید | H2: صندوق سرمایه‌گذاری اختصاصی بازارگردانی مفید | I2: صندوق سرمایه‌گذاری اختصاصی بازارگردانی مفید | J2: صندوق سرمایه‌گذاری اختصاصی بازارگردانی مفید | K2: صندوق سرمایه‌گذاری اختصاصی بازارگردانی مفید | L2: صندوق سرمایه‌گذاری اختصاصی بازارگردانی مفید | M2: صندوق سرمایه‌گذاری اختصاصی بازارگردانی مفید | N2: صندوق سرمایه‌گذاری اختصاصی بازارگردانی مفید | O2: صندوق سرمایه‌گذاری اختصاصی بازارگردانی مفید | P2: صندوق سرمایه‌گذاری اختصاصی بازارگردانی مفید | Q2: صندوق سرمایه‌گذاری اختصاصی بازارگردانی مفید | R2: صندوق سرمایه‌گذاری اختصاصی بازارگردانی مفید | S2: صندوق سرمایه‌گذاری اختصاصی بازارگردانی مفید | T2: صندوق سرمایه‌گذاری اختصاصی بازارگردانی مفید | U2: صندوق سرمایه‌گذاری اختصاصی بازارگردانی مفید | V2: صندوق سرمایه‌گذاری اختصاصی بازارگردانی مفید | W2: صندوق سرمایه‌گذاری اختصاصی بازارگردانی مفید | X2: صندوق سرمایه‌گذاری اختصاصی بازارگردانی مفید | Y2: صندوق سرمایه‌گذاری اختصاصی بازارگردانی مفید
A3: صورت وضعیت پورتفوی | B3: صورت وضعیت پورتفوی | C3: صورت وضعیت پورتفوی | D3: صورت وضعیت پورتفوی | E3: صورت وضعیت پورتفوی | F3: صورت وضعیت پورتفوی | G3: صورت وضعیت پورتفوی | H3: صورت وضعیت پورتفوی | I3: صورت وضعیت پورتفوی | J3: صورت وضعیت پورتفوی | K3: صورت وضعیت پورتفوی | L3: صورت وضعیت پورتفوی | M3: صورت وضعیت پورتفوی | N3: صورت وضعیت پورتفوی | O3: صورت وضعیت پورتفوی | P3: صورت وضعیت پورتفوی | Q3: صورت وضعیت پورتفوی | R3: صورت وضعیت پورتفوی | S3: صورت وضعیت پورتفوی | T3: صورت وضعیت پورتفوی | U3: صورت وضعیت پورتفوی | V3: صورت وضعیت پورتفوی | W3: صورت وضعیت پورتفوی | X3: صورت وضعیت پورتفوی | Y3: صورت وضعیت پورتفوی
A4: برای ماه منتهی به 1405/05/31 | B4: برای ماه منتهی به 1405/05/31 | C4: برای ماه منتهی به 1405/05/31 | D4: برای ماه منتهی به 1405/05/31 | E4: برای ماه منتهی به 1405/05/31 | F4: برای ماه منتهی به 1405/05/31 | G4: برای ماه منتهی به 1405/05/31 | H4: برای ماه منتهی به 1405/05/31 | I4: برای ماه منتهی به 1405/05/31 | J4: برای ماه منتهی به 1405/05/31 | K4: برای ماه منتهی به 1405/05/31 | L4: برای ماه منتهی به 1405/05/31 | M4: برای ماه منتهی به 1405/05/31 | N4: برای ماه منتهی به 1405/05/31 | O4: برای ماه منتهی به 1405/05/31 | P4: برای ماه منتهی به 1405/05/31 | Q4: برای ماه منتهی به 1405/05/31 | R4: برای ماه منتهی به 1405/05/31 | S4: برای ماه منتهی به 1405/05/31 | T4: برای ماه منتهی به 1405/05/31 | U4: برای ماه منتهی به 1405/05/31 | V4: برای ماه منتهی به 1405/05/31 | W4: برای ماه منتهی به 1405/05/31 | X4: برای ماه منتهی به 1405/05/31 | Y4: برای ماه منتهی به 1405/05/31
A5: 3-1-سرمایه‌گذاری در اوراق بهادار با درآمد ثابت یا علی‌الحساب
A6: اطلاعات اوراق بهادار با درآمد ثابت | B6: اطلاعات اوراق بهادار با درآمد ثابت | C6: 1405/05/01 | D6: 1405/04/31 | E6: 1405/04/31 | F6: 1405/04/31 | G6: 1405/04/31 | I6: تغییرات طی دوره | J6: تغییرات طی دوره | K6: تغییرات طی دوره | L6: تغییرات طی دوره | M6: تغییرات طی دوره | N6: تغییرات طی دوره | O6: تغییرات طی دوره | Q6: 1405/05/31 | R6: 1405/05/31 | S6: 1405/05/31 | T6: 1405/05/31 | U6: 1405/05/31 | V6: 1405/05/31 | W6: 1405/05/31 | X6: 1405/05/31 | Y6: 1405/05/31
A7: نام اوراق | C7: تعداد | E7: بهای تمام شده | G7: خالص ارزش فروش | I7: خرید طی دوره | J7: خرید طی دوره | K7: خرید طی دوره | M7: فروش طی دوره | N7: فروش طی دوره | O7: فروش طی دوره | Q7: تعداد | S7: قیمت بازار هر ورقه | U7: بهای تمام شده | W7: خالص ارزش فروش | Y7: درصد به کل دارایی‌های صندوق
A8: نام اوراق | C8: تعداد | E8: بهای تمام شده | G8: خالص ارزش فروش | I8: تعداد | K8: بهای تمام شده | M8: تعداد | O8: مبلغ فروش | Q8: تعداد | S8: قیمت بازار هر ورقه | U8: بهای تمام شده | W8: خالص ارزش فروش | Y8: درصد به کل دارایی‌های صندوق
A9: سلف موازی آریان کیمیاتک | C9: 25463 | E9: 30010266786 | G9: 42999116654 | I9: 0 | K9: 0 | M9: -25463 | O9: 43062389025 | Q9: =C9+I9+M9 -> 0 | S9: 0 | U9: 0 | W9: 0 | Y9: 0
A10: سلف موازی میلگرد تبریز | C10: 10619 | E10: 31141143001 | G10: 43670230454 | I10: 0 | K10: 0 | M10: 0 | O10: 0 | Q10: =C10+I10+M10 -> 10619 | S10: 4183355 | U10: 31141143001 | W10: 44406950186 | Y10: 0.00037083467
A11: سلف استاندارد خودروی کرمان | C11: 64800 | E11: 99976334535 | G11: 138725606292 | I11: 0 | K11: 0 | M11: 0 | O11: 0 | Q11: =C11+I11+M11 -> 64800 | S11: 2176976 | U11: 99976334535 | W11: 141016936601 | Y11: 0.0011776078
A12: سلف شیرفرادما سولیکو | C12: 4649 | E12: 26480549550 | G12: 27512103246 | I12: 0 | K12: 0 | M12: 0 | O12: 0 | Q12: =C12+I12+M12 -> 4649 | S12: 5920000 | U12: 26480549550 | W12: 27512103246 | Y12: 0.00022974876
A13: سلف موازی هیدروکربن آفتاب054 | C13: 14500 | E13: 60180307000 | G13: 79949127972 | I13: 0 | K13: 0 | M13: 0 | O13: 0 | Q13: =C13+I13+M13 -> 14500 | S13: 5600895 | U13: 60180307000 | W13: 81183547195 | Y13: 0.0006779496
A14: صکوک مرابحه دعبید69-3ماهه23% | C14: 9179 | E14: 9158200339 | G14: 9085158141 | I14: 0 | K14: 0 | M14: 0 | O14: 0 | Q14: =C14+I14+M14 -> 9179 | S14: 989920 | U14: 9158200339 | W14: 9085158141 | Y14: 7.5868566e-05
A15: مرابحه شهر فرش-مفید060921 | C15: 20000 | E15: 20000000000 | G15: 18397332000 | I15: 0 | K15: 0 | M15: 0 | O15: 0 | Q15: =C15+I15+M15 -> 20000 | S15: 920000 | U15: 20000000000 | W15: 18397332000 | Y15: 0.0001536329
A16: مرابحه اورند پیشرو-مفید051118 | C16: 5000 | E16: 5000000000 | G16: 4996375000 | I16: 0 | K16: 0 | M16: 0 | O16: 0 | Q16: =C16+I16+M16 -> 5000 | S16: 1000000 | U16: 5000000000 | W16: 4996375000 | Y16: 4.1723853e-05
A17: اجاره اهداف مفید 14070531 | C17: 200000 | E17: 200000000000 | G17: 199855000000 | I17: 0 | K17: 0 | M17: 0 | O17: 0 | Q17: =C17+I17+M17 -> 200000 | S17: 1000000 | U17: 200000000000 | W17: 199855000000 | Y17: 0.0016689541
A18: مرابحه طبیعت سبز-مفید060920 | C18: 5000 | E18: 5000725000 | G18: 4999275000 | I18: 0 | K18: 0 | M18: 0 | O18: 0 | Q18: =C18+I18+M18 -> 5000 | S18: 1000000 | U18: 5000725000 | W18: 4999275000 | Y18: 4.1748071e-05
A19: مشارکت ش قم0612-3 ماهه 20.5% | C19: 3053 | E19: 3053442685 | G19: 3083079835 | I19: 0 | K19: 0 | M19: 0 | O19: 0 | Q19: =C19+I19+M19 -> 3053 | S19: 1009999 | U19: 3053442685 | W19: 3083079835 | Y19: 2.574626e-05
A20: صکوک مرابحه پاکشو603-3ماهه23% | C20: 10000 | E20: 10001420293 | G20: 9899564355 | I20: 0 | K20: 0 | M20: 0 | O20: 0 | Q20: =C20+I20+M20 -> 10000 | S20: 990100 | U20: 10001420293 | W20: 9899564355 | Y20: 8.2669529e-05
... A24: صکوک مرابحه دعبید803-بدون ضامن | C24: 500000 | E24: 499999540890 | G24: 494691088750 | I24: 0 | K24: 0 | M24: 0 | O24: 0 | Q24: =C24+I24+M24 -> 500000 | S24: 990100 | U24: 499999540890 | W24: 494691088750 | Y24: 0.0041310787
E25: =SUM(E9:E24) -> 1499322634891 | G25: =SUM(G9:G24) -> 1573920836377 | K25: =SUM(K9:K24) -> 22788806 | O25: =SUM(O9:O24) -> 43062389025 | U25: =SUM(U9:U24) -> 1469335156911 | W25: =SUM(W9:W24) -> 1535206944777 | Y25: =SUM(Y9:Y24) -> 0.012820245

Sheet سپرده
A2: صندوق سرمایه‌گذاری اختصاصی بازارگردانی مفید | B2: صندوق سرمایه‌گذاری اختصاصی بازارگردانی مفید | C2: صندوق سرمایه‌گذاری اختصاصی بازارگردانی مفید | D2: صندوق سرمایه‌گذاری اختصاصی بازارگردانی مفید | E2: صندوق سرمایه‌گذاری اختصاصی بازارگردانی مفید | F2: صندوق سرمایه‌گذاری اختصاصی بازارگردانی مفید | G2: صندوق سرمایه‌گذاری اختصاصی بازارگردانی مفید | H2: صندوق سرمایه‌گذاری اختصاصی بازارگردانی مفید | I2: صندوق سرمایه‌گذاری اختصاصی بازارگردانی مفید | J2: صندوق سرمایه‌گذاری اختصاصی بازارگردانی مفید | K2: صندوق سرمایه‌گذاری اختصاصی بازارگردانی مفید
A3: صورت وضعیت پورتفوی | B3: صورت وضعیت پورتفوی | C3: صورت وضعیت پورتفوی | D3: صورت وضعیت پورتفوی | E3: صورت وضعیت پورتفوی | F3: صورت وضعیت پورتفوی | G3: صورت وضعیت پورتفوی | H3: صورت وضعیت پورتفوی | I3: صورت وضعیت پورتفوی | J3: صورت وضعیت پورتفوی | K3: صورت وضعیت پورتفوی
A4: برای ماه منتهی به 1405/05/31 | B4: برای ماه منتهی به 1405/05/31 | C4: برای ماه منتهی به 1405/05/31 | D4: برای ماه منتهی به 1405/05/31 | E4: برای ماه منتهی به 1405/05/31 | F4: برای ماه منتهی به 1405/05/31 | G4: برای ماه منتهی به 1405/05/31 | H4: برای ماه منتهی به 1405/05/31 | I4: برای ماه منتهی به 1405/05/31 | J4: برای ماه منتهی به 1405/05/31 | K4: برای ماه منتهی به 1405/05/31
A5: 4-1- سرمایه‌گذاری در سپرده‌ بانکی
A6: سپرده | C6: 1405/05/01 | E6: تغییرات طی دوره | F6: تغییرات طی دوره | G6: تغییرات طی دوره | I6: 1405/05/31 | J6: 1405/05/31 | K6: 1405/05/31
A7: سپرده | C7: مبلغ | E7: افزایش | G7: کاهش | I7: مبلغ | K7: درصد به کل دارایی‌ها
A8: بانک پاسارگاد هفت تیر | C8: 2517161 | E8: 10689 | G8: 0 | I8: =C8+E8-G8 -> 2527850 | K8: 2.1109633e-08
A9: بانک خاورمیانه ظفر | C9: 314805408543 | E9: 450625444150 | G9: 525161009264 | I9: =C9+E9-G9 -> 240269843429 | K9: 0.0020064514
A10: بانک پاسارگاد هفت تیر | C10: 11407907 | E10: 48240 | G10: 0 | I10: =C10+E10-G10 -> 11456147 | K10: 9.5668279e-08
A11: بانک پاسارگاد هفت تیر | C11: 11494390 | E11: 48606 | G11: 0 | I11: =C11+E11-G11 -> 11542996 | K11: 9.639354e-08
A12: بانک پاسارگاد هفت تیر | C12: 12295971 | E12: 51995 | G12: 0 | I12: =C12+E12-G12 -> 12347966 | K12: 1.031157e-07
A13: بانک خاورمیانه آفریقا | C13: 43766667036 | E13: 785151997683 | G13: 816399471160 | I13: =C13+E13-G13 -> 12519193559 | K13: 0.00010454559
A14: بانک خاورمیانه آفریقا | C14: 104775158221 | E14: 75577503590305 | G14: 71540490347568 | I14: =C14+E14-G14 -> 4141788400958 | K14: 0.03458735
A15: بانک خاورمیانه آفریقا | C15: 68038721863 | E15: 7133597302421 | G15: 7199239300000 | I15: =C15+E15-G15 -> 2396724284 | K15: 2.0014625e-05
A16: بانک خاورمیانه آفریقا | C16: 1022708448 | E16: 6407141578582 | G16: 6407141726000 | I16: =C16+E16-G16 -> 1022561030 | K16: 8.5392282e-06
A17: بانک خاورمیانه آفریقا | C17: 60236177073 | E17: 1173369002866 | G17: 1233270582398 | I17: =C17+E17-G17 -> 334597541 | K17: 2.7941655e-06
A18: بانک خاورمیانه آفریقا | C18: 565376891 | E18: 544831608 | G18: 10000000 | I18: =C18+E18-G18 -> 1100208499 | K18: 9.1876486e-06
A19: بانک خاورمیانه آفریقا | C19: 1410998037 | E19: 8455585655 | G19: 0 | I19: =C19+E19-G19 -> 9866583692 | K19: 8.2394114e-05
... A77: بانک خاورمیانه آفریقا | C77: 217356968 | E77: 913382159 | G77: 0 | I77: =C77+E77-G77 -> 1130739127 | K77: 9.4426046e-06
C78: =SUM(C8:C77) -> 7393768116457 | E78: =SUM(E8:E77) -> 103427710643050 | G78: =SUM(G8:G77) -> 98764647291809 | I78: =SUM(I8:I77) -> 12056831467698 | K78: =SUM(K8:K77) -> 0.10068449

Sheet  درآمدها
A2: صندوق سرمایه‌گذاری اختصاصی بازارگردانی مفید | D2: صندوق سرمایه‌گذاری اختصاصی بازارگردانی مفید | E2: صندوق سرمایه‌گذاری اختصاصی بازارگردانی مفید | F2: صندوق سرمایه‌گذاری اختصاصی بازارگردانی مفید | G2: صندوق سرمایه‌گذاری اختصاصی بازارگردانی مفید | H2: صندوق سرمایه‌گذاری اختصاصی بازارگردانی مفید | I2: صندوق سرمایه‌گذاری اختصاصی بازارگردانی مفید
A3: صورت وضعیت درآمدها | D3: صورت وضعیت درآمدها | E3: صورت وضعیت درآمدها | F3: صورت وضعیت درآمدها | G3: صورت وضعیت درآمدها | H3: صورت وضعیت درآمدها | I3: صورت وضعیت درآمدها
A4: برای ماه منتهی به 1405/05/31 | D4: برای ماه منتهی به 1405/05/31 | E4: برای ماه منتهی به 1405/05/31 | F4: برای ماه منتهی به 1405/05/31 | G4: برای ماه منتهی به 1405/05/31 | H4: برای ماه منتهی به 1405/05/31 | I4: برای ماه منتهی به 1405/05/31
A6: توضیحات | C6: یادداشت | E6: مبلغ | G6: درصد از کل درآمدها | I6: درصد به کل دارایی‌های صندوق
A7: درآمد حاصل از سرمایه گذاری در سهام و حق تقدم سهام | C7: 1-2 | E7: ='سرمایه‌گذاری در سهام'!$I$15 -> 4311409476913 | G7: =E7/$E$12 -> 0.26050084 | I7: 0.036003826
A8: درآمد حاصل از سرمایه گذاری در واحدهای صندوق های سرمایه گذاری | C8: 2-2 | E8: ='سرمایه‌گذاری در صندوق '!$I$37 -> 11474563027667 | G8: =E8/$E$12 -> 0.69330768 | I8: 0.095822068
A9: سرمایه‌گذاری در اوراق بهادار | C9: 3-2 | E9: ='سرمایه‌گذاری در اوراق بهادار'!$I$26 -> 33269575543 | G9: =E9/$E$12 -> 0.00201019 | I9: 0.0002778284
A10: درآمد حاصل از سرمایه گذاری در سپرده بانکی و گواهی سپرده | C10: 4-2 | E10: ='درآمد سپرده بانکی'!$C$97 -> 178006602499 | G10: =E10/$E$12 -> 0.010755385 | I10: 0.001486502
A11: سایر درآمدها | C11: 5-2 | E11: ='سایر درآمدها'!$C$10 -> 553214251822 | G11: =E11/$E$12 -> 0.033425908 | I11: 0.0046197954
E12: =SUM(E7:E11) -> 16550462934444 | G12: =SUM(G7:G11) -> 1 | I12: =SUM(I7:I11) -> 0.13821002

Sheet سرمایه‌گذاری در سهام
A2: صندوق سرمایه‌گذاری اختصاصی بازارگردانی مفید | B2: صندوق سرمایه‌گذاری اختصاصی بازارگردانی مفید | C2: صندوق سرمایه‌گذاری اختصاصی بازارگردانی مفید | D2: صندوق سرمایه‌گذاری اختصاصی بازارگردانی مفید | E2: صندوق سرمایه‌گذاری اختصاصی بازارگردانی مفید | F2: صندوق سرمایه‌گذاری اختصاصی بازارگردانی مفید | G2: صندوق سرمایه‌گذاری اختصاصی بازارگردانی مفید | H2: صندوق سرمایه‌گذاری اختصاصی بازارگردانی مفید | I2: صندوق سرمایه‌گذاری اختصاصی بازارگردانی مفید | J2: صندوق سرمایه‌گذاری اختصاصی بازارگردانی مفید | K2: صندوق سرمایه‌گذاری اختصاصی بازارگردانی مفید | L2: صندوق سرمایه‌گذاری اختصاصی بازارگردانی مفید | M2: صندوق سرمایه‌گذاری اختصاصی بازارگردانی مفید | N2: صندوق سرمایه‌گذاری اختصاصی بازارگردانی مفید | O2: صندوق سرمایه‌گذاری اختصاصی بازارگردانی مفید | P2: صندوق سرمایه‌گذاری اختصاصی بازارگردانی مفید | Q2: صندوق سرمایه‌گذاری اختصاصی بازارگردانی مفید | R2: صندوق سرمایه‌گذاری اختصاصی بازارگردانی مفید | S2: صندوق سرمایه‌گذاری اختصاصی بازارگردانی مفید | T2: صندوق سرمایه‌گذاری اختصاصی بازارگردانی مفید | U2: صندوق سرمایه‌گذاری اختصاصی بازارگردانی مفید
A3: صورت وضعیت درآمدها | B3: صورت وضعیت درآمدها | C3: صورت وضعیت درآمدها | D3: صورت وضعیت درآمدها | E3: صورت وضعیت درآمدها | F3: صورت وضعیت درآمدها | G3: صورت وضعیت درآمدها | H3: صورت وضعیت درآمدها | I3: صورت وضعیت درآمدها | J3: صورت وضعیت درآمدها | K3: صورت وضعیت درآمدها | L3: صورت وضعیت درآمدها | M3: صورت وضعیت درآمدها | N3: صورت وضعیت درآمدها | O3: صورت وضعیت درآمدها | P3: صورت وضعیت درآمدها | Q3: صورت وضعیت درآمدها | R3: صورت وضعیت درآمدها | S3: صورت وضعیت درآمدها | T3: صورت وضعیت درآمدها | U3: صورت وضعیت درآمدها
A4: برای ماه منتهی به 1405/05/31 | B4: برای ماه منتهی به 1405/05/31 | C4: برای ماه منتهی به 1405/05/31 | D4: برای ماه منتهی به 1405/05/31 | E4: برای ماه منتهی به 1405/05/31 | F4: برای ماه منتهی به 1405/05/31 | G4: برای ماه منتهی به 1405/05/31 | H4: برای ماه منتهی به 1405/05/31 | I4: برای ماه منتهی به 1405/05/31 | J4: برای ماه منتهی به 1405/05/31 | K4: برای ماه منتهی به 1405/05/31 | L4: برای ماه منتهی به 1405/05/31 | M4: برای ماه منتهی به 1405/05/31 | N4: برای ماه منتهی به 1405/05/31 | O4: برای ماه منتهی به 1405/05/31 | P4: برای ماه منتهی به 1405/05/31 | Q4: برای ماه منتهی به 1405/05/31 | R4: برای ماه منتهی به 1405/05/31 | S4: برای ماه منتهی به 1405/05/31 | T4: برای ماه منتهی به 1405/05/31 | U4: برای ماه منتهی به 1405/05/31
A6: نام شرکت | C6: طی مرداد ماه | D6: طی ماه | E6: طی ماه | F6: طی ماه | G6: طی ماه | H6: طی ماه | I6: طی ماه | J6: طی ماه | K6: طی ماه | M6: از ابتدای سال مالی تا پایان مرداد ماه | N6: از ابتدای سال مالی تا پایان ماه | O6: از ابتدای سال مالی تا پایان ماه | P6: از ابتدای سال مالی تا پایان ماه | Q6: از ابتدای سال مالی تا پایان ماه | R6: از ابتدای سال مالی تا پایان ماه | S6: از ابتدای سال مالی تا پایان ماه | T6: از ابتدای سال مالی تا پایان ماه | U6: از ابتدای سال مالی تا پایان ماه
A7: نام شرکت | C7: درآمد سود سهام | E7: درآمد تغییر ارزش | G7: درآمد فروش | I7: مبلغ | K7: درصد از کل درآمدها | M7: درآمد سود سهام | O7: درآمد تغییر ارزش | Q7: درآمد فروش | S7: مبلغ | U7: درصد از کل درآمدها
A8: کولان سل | C8: =IFERROR(VLOOKUP(A8,'درآمد سود سهام'!$A$8:$M$12,13,0),0) -> 0 | E8: =IFERROR(VLOOKUP(A8,'درآمد ناشی از تغییر قیمت اوراق'!$A$8:$I$50,9,0),0) -> 31570349859 | G8: =IFERROR(VLOOKUP(A8,'درآمد ناشی از فروش'!$A$8:$I$46,9,0),0) -> -1069011369 | I8: =C8+E8+G8 -> 30501338490 | K8: =I8/$I$15 -> 0.0070745631 | M8: =IFERROR(VLOOKUP(A8,'درآمد سود سهام'!$A$8:$S$12,19,0),0) -> 134632552692 | O8: =IFERROR(VLOOKUP(A8,'درآمد ناشی از تغییر قیمت اوراق'!$A$8:$Q$50,17,0),0) -> -143965684343 | Q8: =IFERROR(VLOOKUP(A8,'درآمد ناشی از فروش'!$A$8:$Q$46,17,0),0) -> -5750423691 | S8: =M8+O8+Q8 -> -15083555342 | U8: =S8/$S$15 -> -0.0081944609
A9: مجتمع کاشی و سنگ پرسپولیس یزد | C9: =IFERROR(VLOOKUP(A9,'درآمد سود سهام'!$A$8:$M$12,13,0),0) -> 0 | E9: =IFERROR(VLOOKUP(A9,'درآمد ناشی از تغییر قیمت اوراق'!$A$8:$I$50,9,0),0) -> 1744089380190 | G9: =IFERROR(VLOOKUP(A9,'درآمد ناشی از فروش'!$A$8:$I$46,9,0),0) -> 17639492451 | I9: =C9+E9+G9 -> 1761728872641 | K9: =I9/$I$15 -> 0.40862017 | M9: =IFERROR(VLOOKUP(A9,'درآمد سود سهام'!$A$8:$S$12,19,0),0) -> 375191205604 | O9: =IFERROR(VLOOKUP(A9,'درآمد ناشی از تغییر قیمت اوراق'!$A$8:$Q$50,17,0),0) -> 1119398760860 | Q9: =IFERROR(VLOOKUP(A9,'درآمد ناشی از فروش'!$A$8:$Q$46,17,0),0) -> -30268165915 | S9: =M9+O9+Q9 -> 1464321800549 | U9: =S9/$S$15 -> 0.79552383
A10: بانک خاورمیانه | C10: =IFERROR(VLOOKUP(A10,'درآمد سود سهام'!$A$8:$M$12,13,0),0) -> 0 | E10: =IFERROR(VLOOKUP(A10,'درآمد ناشی از تغییر قیمت اوراق'!$A$8:$I$50,9,0),0) -> 830809709136 | G10: =IFERROR(VLOOKUP(A10,'درآمد ناشی از فروش'!$A$8:$I$46,9,0),0) -> 89904308789 | I10: =C10+E10+G10 -> 920714017925 | K10: =I10/$I$15 -> 0.2135529 | M10: =IFERROR(VLOOKUP(A10,'درآمد سود سهام'!$A$8:$S$12,19,0),0) -> 127544444150 | O10: =IFERROR(VLOOKUP(A10,'درآمد ناشی از تغییر قیمت اوراق'!$A$8:$Q$50,17,0),0) -> 1078042087839 | Q10: =IFERROR(VLOOKUP(A10,'درآمد ناشی از فروش'!$A$8:$Q$46,17,0),0) -> 112301713624 | S10: =M10+O10+Q10 -> 1317888245613 | U10: =S10/$S$15 -> 0.7159707
A11: معدنکاران نسوز | C11: =IFERROR(VLOOKUP(A11,'درآمد سود سهام'!$A$8:$M$12,13,0),0) -> 770822678489 | E11: =IFERROR(VLOOKUP(A11,'درآمد ناشی از تغییر قیمت اوراق'!$A$8:$I$50,9,0),0) -> 709330354015 | G11: =IFERROR(VLOOKUP(A11,'درآمد ناشی از فروش'!$A$8:$I$46,9,0),0) -> -14612711922 | I11: =C11+E11+G11 -> 1465540320582 | K11: =I11/$I$15 -> 0.33992139 | M11: =IFERROR(VLOOKUP(A11,'درآمد سود سهام'!$A$8:$S$12,19,0),0) -> 770822678489 | O11: =IFERROR(VLOOKUP(A11,'درآمد ناشی از تغییر قیمت اوراق'!$A$8:$Q$50,17,0),0) -> -1954698794168 | Q11: =IFERROR(VLOOKUP(A11,'درآمد ناشی از فروش'!$A$8:$Q$46,17,0),0) -> -15564404186 | S11: =M11+O11+Q11 -> -1199440519865 | U11: =S11/$S$15 -> -0.65162147
A12: بیمه زندگی مفید | C12: =IFERROR(VLOOKUP(A12,'درآمد سود سهام'!$A$8:$M$12,13,0),0) -> 9440993043 | E12: =IFERROR(VLOOKUP(A12,'درآمد ناشی از تغییر قیمت اوراق'!$A$8:$I$50,9,0),0) -> 0 | G12: =IFERROR(VLOOKUP(A12,'درآمد ناشی از فروش'!$A$8:$I$46,9,0),0) -> -10313615347 | I12: =C12+E12+G12 -> -872622304 | K12: =I12/$I$15 -> -0.00020239838 | M12: =IFERROR(VLOOKUP(A12,'درآمد سود سهام'!$A$8:$S$12,19,0),0) -> 9440993043 | O12: =IFERROR(VLOOKUP(A12,'درآمد ناشی از تغییر قیمت اوراق'!$A$8:$Q$50,17,0),0) -> 0 | Q12: =IFERROR(VLOOKUP(A12,'درآمد ناشی از فروش'!$A$8:$Q$46,17,0),0) -> 155107039875 | S12: =M12+O12+Q12 -> 164548032918 | U12: =S12/$S$15 -> 0.089394204
A13: نیان الکترونیک | C13: =IFERROR(VLOOKUP(A13,'درآمد سود سهام'!$A$8:$M$12,13,0),0) -> 0 | E13: =IFERROR(VLOOKUP(A13,'درآمد ناشی از تغییر قیمت اوراق'!$A$8:$I$50,9,0),0) -> 0 | G13: =IFERROR(VLOOKUP(A13,'درآمد ناشی از فروش'!$A$8:$I$46,9,0),0) -> 0 | I13: =C13+E13+G13 -> 0 | K13: =I13/$I$15 -> 0 | M13: =IFERROR(VLOOKUP(A13,'درآمد سود سهام'!$A$8:$S$12,19,0),0) -> 0 | O13: =IFERROR(VLOOKUP(A13,'درآمد ناشی از تغییر قیمت اوراق'!$A$8:$Q$50,17,0),0) -> 0 | Q13: -25330196504 | S13: =M13+O13+Q13 -> -25330196504 | U13: =S13/$S$15 -> -0.013761166
A14: ح.بیمه زندگی مفید | C14: =IFERROR(VLOOKUP(A14,'درآمد سود سهام'!$A$8:$M$12,13,0),0) -> 0 | E14: =IFERROR(VLOOKUP(A14,'درآمد ناشی از تغییر قیمت اوراق'!$A$8:$I$50,9,0),0) -> 133797549579 | G14: =IFERROR(VLOOKUP(A14,'درآمد ناشی از فروش'!$A$8:$I$46,9,0),0) -> 0 | I14: =C14+E14+G14 -> 133797549579 | K14: =I14/$I$15 -> 0.031033366 | M14: =IFERROR(VLOOKUP(A14,'درآمد سود سهام'!$A$8:$S$12,19,0),0) -> 0 | O14: =IFERROR(VLOOKUP(A14,'درآمد ناشی از تغییر قیمت اوراق'!$A$8:$Q$50,17,0),0) -> 133797549579 | Q14: =IFERROR(VLOOKUP(A14,'درآمد ناشی از فروش'!$A$8:$Q$46,17,0),0) -> 0 | S14: =M14+O14+Q14 -> 133797549579 | U14: =S14/$S$15 -> 0.072688353
C15: =SUM(C8:C14) -> 780263671532 | E15: =SUM(E8:E14) -> 3449597342779 | G15: =SUM(G8:G14) -> 81548462602 | I15: =SUM(I8:I14) -> 4311409476913 | K15: =SUM(K8:K14) -> 1 | M15: =SUM(M8:M14) -> 1417631873978 | O15: =SUM(O8:O14) -> 232573919767 | Q15: =SUM(Q8:Q14) -> 190495563203 | S15: =SUM(S8:S14) -> 1840701356948 | U15: =SUM(U8:U14) -> 1

Sheet سرمایه‌گذاری در صندوق 
A2: صندوق سرمایه‌گذاری اختصاصی بازارگردانی مفید | B2: صندوق سرمایه‌گذاری اختصاصی بازارگردانی مفید | C2: صندوق سرمایه‌گذاری اختصاصی بازارگردانی مفید | D2: صندوق سرمایه‌گذاری اختصاصی بازارگردانی مفید | E2: صندوق سرمایه‌گذاری اختصاصی بازارگردانی مفید | F2: صندوق سرمایه‌گذاری اختصاصی بازارگردانی مفید | G2: صندوق سرمایه‌گذاری اختصاصی بازارگردانی مفید | H2: صندوق سرمایه‌گذاری اختصاصی بازارگردانی مفید | I2: صندوق سرمایه‌گذاری اختصاصی بازارگردانی مفید | J2: صندوق سرمایه‌گذاری اختصاصی بازارگردانی مفید | K2: صندوق سرمایه‌گذاری اختصاصی بازارگردانی مفید | L2: صندوق سرمایه‌گذاری اختصاصی بازارگردانی مفید | M2: صندوق سرمایه‌گذاری اختصاصی بازارگردانی مفید | N2: صندوق سرمایه‌گذاری اختصاصی بازارگردانی مفید | O2: صندوق سرمایه‌گذاری اختصاصی بازارگردانی مفید | P2: صندوق سرمایه‌گذاری اختصاصی بازارگردانی مفید | Q2: صندوق سرمایه‌گذاری اختصاصی بازارگردانی مفید | R2: صندوق سرمایه‌گذاری اختصاصی بازارگردانی مفید | S2: صندوق سرمایه‌گذاری اختصاصی بازارگردانی مفید | T2: صندوق سرمایه‌گذاری اختصاصی بازارگردانی مفید | U2: صندوق سرمایه‌گذاری اختصاصی بازارگردانی مفید
A3: صورت وضعیت درآمدها | B3: صورت وضعیت درآمدها | C3: صورت وضعیت درآمدها | D3: صورت وضعیت درآمدها | E3: صورت وضعیت درآمدها | F3: صورت وضعیت درآمدها | G3: صورت وضعیت درآمدها | H3: صورت وضعیت درآمدها | I3: صورت وضعیت درآمدها | J3: صورت وضعیت درآمدها | K3: صورت وضعیت درآمدها | L3: صورت وضعیت درآمدها | M3: صورت وضعیت درآمدها | N3: صورت وضعیت درآمدها | O3: صورت وضعیت درآمدها | P3: صورت وضعیت درآمدها | Q3: صورت وضعیت درآمدها | R3: صورت وضعیت درآمدها | S3: صورت وضعیت درآمدها | T3: صورت وضعیت درآمدها | U3: صورت وضعیت درآمدها
A4: برای ماه منتهی به 1405/05/31 | B4: برای ماه منتهی به 1405/05/31 | C4: برای ماه منتهی به 1405/05/31 | D4: برای ماه منتهی به 1405/05/31 | E4: برای ماه منتهی به 1405/05/31 | F4: برای ماه منتهی به 1405/05/31 | G4: برای ماه منتهی به 1405/05/31 | H4: برای ماه منتهی به 1405/05/31 | I4: برای ماه منتهی به 1405/05/31 | J4: برای ماه منتهی به 1405/05/31 | K4: برای ماه منتهی به 1405/05/31 | L4: برای ماه منتهی به 1405/05/31 | M4: برای ماه منتهی به 1405/05/31 | N4: برای ماه منتهی به 1405/05/31 | O4: برای ماه منتهی به 1405/05/31 | P4: برای ماه منتهی به 1405/05/31 | Q4: برای ماه منتهی به 1405/05/31 | R4: برای ماه منتهی به 1405/05/31 | S4: برای ماه منتهی به 1405/05/31 | T4: برای ماه منتهی به 1405/05/31 | U4: برای ماه منتهی به 1405/05/31
A5: 2-2-درآمد حاصل از سرمایه­گذاری در واحدهای صندوق:
A6: نام شرکت | C6: طی مرداد ماه | D6: طی ماه | E6: طی ماه | F6: طی ماه | G6: طی ماه | H6: طی ماه | I6: طی ماه | J6: طی ماه | K6: طی ماه | M6: از ابتدای سال مالی تا پایان مرداد ماه | N6: از ابتدای سال مالی تا پایان ماه | O6: از ابتدای سال مالی تا پایان ماه | P6: از ابتدای سال مالی تا پایان ماه | Q6: از ابتدای سال مالی تا پایان ماه | R6: از ابتدای سال مالی تا پایان ماه | S6: از ابتدای سال مالی تا پایان ماه | T6: از ابتدای سال مالی تا پایان ماه | U6: از ابتدای سال مالی تا پایان ماه
A7: نام شرکت | C7: درآمد سود سهام | E7: درآمد تغییر ارزش | G7: درآمد فروش | I7: مبلغ | K7: درصد از کل درآمدها | M7: درآمد سود سهام | O7: درآمد تغییر ارزش | Q7: درآمد فروش | S7: مبلغ | U7: درصد از کل درآمدها
A8: صندوق س.توسعه اندوخته آینده-س | C8: 0 | E8: 113310229665 | G8: 794091033811 | I8: =C8+E8+G8 -> 907401263476 | K8: =I8/$I$37 -> 0.079079374 | M8: 0 | O8: 225637031253 | Q8: 800262070257 | S8: =M8+O8+Q8 -> 1025899101510 | U8: =S8/$S$37 -> 0.07578605
A9: صندوق ارمغان فیروزه آسیا-ثابت | C9: 0 | E9: -927279107 | G9: 4998952845 | I9: =C9+E9+G9 -> 4071673738 | K9: =I9/$I$37 -> 0.00035484347 | M9: 0 | O9: 162347725 | Q9: 11315181921 | S9: =M9+O9+Q9 -> 11477529646 | U9: =S9/$S$37 -> 0.00084787737
A10: صندوق س صنایع مفید6- بخشی | C10: 0 | E10: 91598693933 | G10: 151935011142 | I10: =C10+E10+G10 -> 243533705075 | K10: =I10/$I$37 -> 0.021223789 | M10: 0 | O10: 92699439779 | Q10: 131958314808 | S10: =M10+O10+Q10 -> 224657754587 | U10: =S10/$S$37 -> 0.0165961
A11: صندوق س شاخصی آرام مفید | C11: 0 | E11: 339383488762 | G11: 119616802871 | I11: =C11+E11+G11 -> 459000291633 | K11: =I11/$I$37 -> 0.040001549 | M11: 0 | O11: 292338442502 | Q11: 131655582068 | S11: =M11+O11+Q11 -> 423994024570 | U11: =S11/$S$37 -> 0.03132163
A12: صندوق س.درآمد ثابت کارآمد-د | C12: 0 | E12: 0 | G12: 10582469883 | I12: =C12+E12+G12 -> 10582469883 | K12: =I12/$I$37 -> 0.00092225472 | M12: 0 | O12: 0 | Q12: 13209288482 | S12: =M12+O12+Q12 -> 13209288482 | U12: =S12/$S$37 -> 0.00097580727
A13: صندوق طلای عیار مفید | C13: 0 | E13: 2569972922474 | G13: 1705833463344 | I13: =C13+E13+G13 -> 4275806385818 | K13: =I13/$I$37 -> 0.37263348 | M13: 0 | O13: 3596013640976 | Q13: 3845843605246 | S13: =M13+O13+Q13 -> 7441857246222 | U13: =S13/$S$37 -> 0.54975091
A14: ص.س.درآمد ثابت کیمیا-د | C14: 0 | E14: -209752723 | G14: 952551866 | I14: =C14+E14+G14 -> 742799143 | K14: =I14/$I$37 -> 6.4734417e-05 | M14: 0 | O14: 127333968 | Q14: 4687028714 | S14: =M14+O14+Q14 -> 4814362682 | U14: =S14/$S$37 -> 0.0003556505
A15: صندوق س توسعه فولاد- ثابت | C15: 0 | E15: 51710304255 | G15: 9893652758 | I15: =C15+E15+G15 -> 61603957013 | K15: =I15/$I$37 -> 0.005368741 | M15: 0 | O15: 52041907322 | Q15: 25820835329 | S15: =M15+O15+Q15 -> 77862742651 | U15: =S15/$S$37 -> 0.0057519396
A16: صندوق س. ثبات ویستا -د | C16: 0 | E16: 0 | G16: 4773395031 | I16: =C16+E16+G16 -> 4773395031 | K16: =I16/$I$37 -> 0.00041599798 | M16: 0 | O16: 0 | Q16: 4773395031 | S16: =M16+O16+Q16 -> 4773395031 | U16: =S16/$S$37 -> 0.00035262411
A17: صندوق س نوع دوم افق آتی-ثابت | C17: 0 | E17: 5388844380 | G17: 18048448784 | I17: =C17+E17+G17 -> 23437293164 | K17: =I17/$I$37 -> 0.0020425434 | M17: 0 | O17: 31100143416 | Q17: 25307193483 | S17: =M17+O17+Q17 -> 56407336899 | U17: =S17/$S$37 -> 0.0041669685
A18: صندوق س صنایع مفید5-بخشی | C18: 0 | E18: 686308605628 | G18: 242974544988 | I18: =C18+E18+G18 -> 929283150616 | K18: =I18/$I$37 -> 0.080986365 | M18: 0 | O18: 787644505734 | Q18: 671013964045 | S18: =M18+O18+Q18 -> 1458658469779 | U18: =S18/$S$37 -> 0.1077552
A19: صندوق س. با درآمد ثابت کیان | C19: 0 | E19: 5253885661 | G19: 3995572354 | I19: =C19+E19+G19 -> 9249458015 | K19: =I19/$I$37 -> 0.00080608368 | M19: 0 | O19: 7173199001 | Q19: 6802615296 | S19: =M19+O19+Q19 -> 13975814297 | U19: =S19/$S$37 -> 0.0010324327
... A36: صندوق تداوم اطمینان تمدن-ثابت | C36: 0 | E36: 0 | G36: 0 | I36: =C36+E36+G36 -> 0 | K36: =I36/$I$37 -> 0 | M36: 0 | O36: 0 | Q36: 142816848090 | S36: =M36+O36+Q36 -> 142816848090 | U36: =S36/$S$37 -> 0.010550282
C37: =SUM(C8:C36) -> 0 | E37: =SUM(E8:E36) -> 7507310926594 | G37: =SUM(G8:G36) -> 3967252101073 | I37: =SUM(I8:I36) -> 11474563027667 | K37: =SUM(K8:K36) -> 1 | M37: =SUM(M8:M36) -> 0 | O37: =SUM(O8:O36) -> 7137504405796 | Q37: =SUM(Q8:Q36) -> 6399275790097 | S37: =SUM(S8:S36) -> 13536780195893 | U37: =SUM(U8:U36) -> 1

Sheet سرمایه‌گذاری در اوراق بهادار
A2: صندوق سرمایه‌گذاری اختصاصی بازارگردانی مفید | B2: صندوق سرمایه‌گذاری اختصاصی بازارگردانی مفید | C2: صندوق سرمایه‌گذاری اختصاصی بازارگردانی مفید | D2: صندوق سرمایه‌گذاری اختصاصی بازارگردانی مفید | E2: صندوق سرمایه‌گذاری اختصاصی بازارگردانی مفید | F2: صندوق سرمایه‌گذاری اختصاصی بازارگردانی مفید | G2: صندوق سرمایه‌گذاری اختصاصی بازارگردانی مفید | H2: صندوق سرمایه‌گذاری اختصاصی بازارگردانی مفید | I2: صندوق سرمایه‌گذاری اختصاصی بازارگردانی مفید | J2: صندوق سرمایه‌گذاری اختصاصی بازارگردانی مفید | K2: صندوق سرمایه‌گذاری اختصاصی بازارگردانی مفید | L2: صندوق سرمایه‌گذاری اختصاصی بازارگردانی مفید | M2: صندوق سرمایه‌گذاری اختصاصی بازارگردانی مفید | N2: صندوق سرمایه‌گذاری اختصاصی بازارگردانی مفید | O2: صندوق سرمایه‌گذاری اختصاصی بازارگردانی مفید | P2: صندوق سرمایه‌گذاری اختصاصی بازارگردانی مفید | Q2: صندوق سرمایه‌گذاری اختصاصی بازارگردانی مفید
A3: صورت وضعیت درآمدها | B3: صورت وضعیت درآمدها | C3: صورت وضعیت درآمدها | D3: صورت وضعیت درآمدها | E3: صورت وضعیت درآمدها | F3: صورت وضعیت درآمدها | G3: صورت وضعیت درآمدها | H3: صورت وضعیت درآمدها | I3: صورت وضعیت درآمدها | J3: صورت وضعیت درآمدها | K3: صورت وضعیت درآمدها | L3: صورت وضعیت درآمدها | M3: صورت وضعیت درآمدها | N3: صورت وضعیت درآمدها | O3: صورت وضعیت درآمدها | P3: صورت وضعیت درآمدها | Q3: صورت وضعیت درآمدها
A4: برای ماه منتهی به 1405/05/31 | B4: برای ماه منتهی به 1405/05/31 | C4: برای ماه منتهی به 1405/05/31 | D4: برای ماه منتهی به 1405/05/31 | E4: برای ماه منتهی به 1405/05/31 | F4: برای ماه منتهی به 1405/05/31 | G4: برای ماه منتهی به 1405/05/31 | H4: برای ماه منتهی به 1405/05/31 | I4: برای ماه منتهی به 1405/05/31 | J4: برای ماه منتهی به 1405/05/31 | K4: برای ماه منتهی به 1405/05/31 | L4: برای ماه منتهی به 1405/05/31 | M4: برای ماه منتهی به 1405/05/31 | N4: برای ماه منتهی به 1405/05/31 | O4: برای ماه منتهی به 1405/05/31 | P4: برای ماه منتهی به 1405/05/31 | Q4: برای ماه منتهی به 1405/05/31
A5: 3-2-درآمد حاصل از سرمایه­گذاری در اوراق بهادار با درآمد ثابت:
A6: توضیحات | C6: طی مرداد ماه | D6: طی ماه | E6: طی ماه | F6: طی ماه | G6: طی ماه | H6: طی ماه | I6: طی ماه | K6: از ابتدای سال مالی تا پایان مرداد ماه | L6: از ابتدای سال مالی تا پایان ماه | M6: از ابتدای سال مالی تا پایان ماه | N6: از ابتدای سال مالی تا پایان ماه | O6: از ابتدای سال مالی تا پایان ماه | P6: از ابتدای سال مالی تا پایان ماه | Q6: از ابتدای سال مالی تا پایان ماه
A7: توضیحات | C7: درآمد سود اوراق | E7: درآمد تغییر ارزش | G7: درآمد فروش | I7: جمع کل | K7: درآمد سود اوراق | M7: درآمد تغییر ارزش | O7: درآمد فروش | Q7: جمع کل
A8: سلف موازی آریان کیمیاتک | C8: 0 | E8: 0 | G8: 2155213080 | I8: =C8+E8+G8 -> 2155213080 | K8: 0 | M8: 0 | O8: 2155213080 | Q8: =K8+M8+O8 -> 2155213080
A9: صکوک مرابحه دعبید803-بدون ضامن | C9: 11368728410 | E9: 0 | G9: 0 | I9: =C9+E9+G9 -> 11368728410 | K9: 22253417033 | M9: -4945988390 | O9: 0 | Q9: =K9+M9+O9 -> 17307428643
A10: سلف موازی پدیده شیمی قرن | C10: 0 | E10: 0 | G10: 0 | I10: =C10+E10+G10 -> 0 | K10: 0 | M10: 0 | O10: 1746418967 | Q10: =K10+M10+O10 -> 1746418967
A11: سلف شیرفرادما سولیکو | C11: 0 | E11: 0 | G11: 0 | I11: =C11+E11+G11 -> 0 | K11: 0 | M11: 129708081 | O11: 435535824 | Q11: =K11+M11+O11 -> 565243905
A12: سلف موازی گروه صنعتی پاکشو | C12: 0 | E12: 0 | G12: 0 | I12: =C12+E12+G12 -> 0 | K12: 0 | M12: 0 | O12: 2761969670 | Q12: =K12+M12+O12 -> 2761969670
A13: صکوک مرابحه دعبید802-3ماهه23% | C13: 6491018500 | E13: -33016 | G13: 0 | I13: =C13+E13+G13 -> 6490985484 | K13: 12396573117 | M13: -41629 | O13: 0 | Q13: =K13+M13+O13 -> 12396531488
A14: صکوک مرابحه شدوص810-3ماهه23% | C14: 1899591496 | E14: 0 | G14: 0 | I14: =C14+E14+G14 -> 1899591496 | K14: 3884522658 | M14: -5800 | O14: 0 | Q14: =K14+M14+O14 -> 3884516858
A15: مرابحه طبیعت سبز-مفید070311 | C15: 2002260273 | E15: 0 | G15: 0 | I15: =C15+E15+G15 -> 2002260273 | K15: 3928825343 | M15: 0 | O15: 0 | Q15: =K15+M15+O15 -> 3928825343
A16: صکوک مرابحه پاکشو603-3ماهه23% | C16: 201202741 | E16: 0 | G16: 0 | I16: =C16+E16+G16 -> 201202741 | K16: 394835960 | M16: 0 | O16: 0 | Q16: =K16+M16+O16 -> 394835960
A17: مشارکت ش قم0612-3 ماهه 20.5% | C17: 53333317 | E17: 0 | G17: 0 | I17: =C17+E17+G17 -> 53333317 | K17: 104830743 | M17: 0 | O17: 0 | Q17: =K17+M17+O17 -> 104830743
A18: مرابحه طبیعت سبز-مفید060920 | C18: 99014212 | E18: 0 | G18: 0 | I18: =C18+E18+G18 -> 99014212 | K18: 194243664 | M18: 0 | O18: 0 | Q18: =K18+M18+O18 -> 194243664
A19: اجاره اهداف مفید 14070531 | C19: 4058239725 | E19: 0 | G19: 0 | I19: =C19+E19+G19 -> 4058239725 | K19: 7965089041 | M19: 0 | O19: 0 | Q19: =K19+M19+O19 -> 7965089041
... A25: سلف موازی هیدروکربن آفتاب054 | C25: 0 | E25: 1234419223 | G25: 0 | I25: =C25+E25+G25 -> 1234419223 | K25: 0 | M25: 2497382874 | O25: 0 | Q25: =K25+M25+O25 -> 2497382874
C26: =SUM(C8:C25) -> 26851926215 | E26: =SUM(E8:E25) -> 4262436248 | G26: =SUM(G8:G25) -> 2155213080 | I26: =SUM(I8:I25) -> 33269575543 | K26: =SUM(K8:K25) -> 52458298875 | M26: =SUM(M8:M25) -> 3802199620 | O26: =SUM(O8:O25) -> 7099137541 | Q26: =SUM(Q8:Q25) -> 63359636036

Sheet درآمد سپرده بانکی
A2: صندوق سرمایه‌گذاری اختصاصی بازارگردانی مفید | B2: صندوق سرمایه‌گذاری اختصاصی بازارگردانی مفید | C2: صندوق سرمایه‌گذاری اختصاصی بازارگردانی مفید | D2: صندوق سرمایه‌گذاری اختصاصی بازارگردانی مفید | E2: صندوق سرمایه‌گذاری اختصاصی بازارگردانی مفید | F2: صندوق سرمایه‌گذاری اختصاصی بازارگردانی مفید | G2: صندوق سرمایه‌گذاری اختصاصی بازارگردانی مفید | H2: صندوق سرمایه‌گذاری اختصاصی بازارگردانی مفید | I2: صندوق سرمایه‌گذاری اختصاصی بازارگردانی مفید
A3: صورت وضعیت درآمدها | B3: صورت وضعیت درآمدها | C3: صورت وضعیت درآمدها | D3: صورت وضعیت درآمدها | E3: صورت وضعیت درآمدها | F3: صورت وضعیت درآمدها | G3: صورت وضعیت درآمدها | H3: صورت وضعیت درآمدها | I3: صورت وضعیت درآمدها
A4: برای ماه منتهی به 1405/05/31 | B4: برای ماه منتهی به 1405/05/31 | C4: برای ماه منتهی به 1405/05/31 | D4: برای ماه منتهی به 1405/05/31 | E4: برای ماه منتهی به 1405/05/31 | F4: برای ماه منتهی به 1405/05/31 | G4: برای ماه منتهی به 1405/05/31 | H4: برای ماه منتهی به 1405/05/31 | I4: برای ماه منتهی به 1405/05/31
A5: 4-2-درآمد حاصل از سرمایه­گذاری در سپرده بانکی و گواهی سپرده:
A6: نام سپرده بانکی | B6: نام سپرده بانکی | C6: طی مرداد ماه | D6: طی ماه | E6: طی ماه | G6: از ابتدای سال مالی تا پایان مرداد ماه | H6: از ابتدای سال مالی تا پایان ماه | I6: از ابتدای سال مالی تا پایان ماه
A7: نام سپرده | C7: سود سپرده بانکی و گواهی سپرده | E7: درصد سود به میانگین سپرده | G7: سود سپرده بانکی و گواهی سپرده | I7: درصد سود به میانگین سپرده
A8: بانک پاسارگاد هفت تیر | C8: 10689 | E8: =C8/$C$97 -> 6.0048334e-08 | G8: 23941 | I8: =G8/$G$97 -> 6.9165284e-08
A9: بانک پاسارگاد هفت تیر | C9: 48240 | E9: =C9/$C$97 -> 2.7100118e-07 | G9: 96277 | I9: =G9/$G$97 -> 2.7814319e-07
A10: بانک پاسارگاد هفت تیر | C10: 48606 | E10: =C10/$C$97 -> 2.7305729e-07 | G10: 97007 | I10: =G10/$G$97 -> 2.8025215e-07
A11: بانک پاسارگاد هفت تیر | C11: 51995 | E11: =C11/$C$97 -> 2.9209591e-07 | G11: 103771 | I11: =G11/$G$97 -> 2.9979327e-07
A12: بانک خاورمیانه آفریقا | C12: 863878578 | E12: =C12/$C$97 -> 0.0048530704 | G12: 1483216542 | I12: =G12/$G$97 -> 0.0042849962
A13: بانک خاورمیانه آفریقا | C13: 7211351710 | E13: =C13/$C$97 -> 0.040511709 | G13: 16109063567 | I13: =G13/$G$97 -> 0.046538906
A14: بانک خاورمیانه آفریقا | C14: 2237738710 | E14: =C14/$C$97 -> 0.012571099 | G14: 2762522794 | I14: =G14/$G$97 -> 0.0079808977
A15: بانک خاورمیانه آفریقا | C15: 676482582 | E15: =C15/$C$97 -> 0.003800323 | G15: 1348961098 | I15: =G15/$G$97 -> 0.0038971337
A16: بانک خاورمیانه آفریقا | C16: 244002866 | E16: =C16/$C$97 -> 0.0013707518 | G16: 1303145590 | I16: =G16/$G$97 -> 0.0037647732
A17: بانک خاورمیانه آفریقا | C17: 40082293 | E17: =C17/$C$97 -> 0.00022517307 | G17: 50452553 | I17: =G17/$G$97 -> 0.00014575687
A18: بانک خاورمیانه آفریقا | C18: 62226751 | E18: =C18/$C$97 -> 0.00034957552 | G18: 88107571 | I18: =G18/$G$97 -> 0.0002545418
A19: بانک خاورمیانه آفریقا | C19: 722871607 | E19: =C19/$C$97 -> 0.0040609258 | G19: 1128772851 | I19: =G19/$G$97 -> 0.0032610123
... A96: بانک خاورمیانه آفریقا | C96: 913382159 | E96: =C96/$C$97 -> 0.0051311701 | G96: 1003016607 | I96: =G96/$G$97 -> 0.0028977039
C97: =SUM(C8:C96) -> 178006602499 | E97: =SUM(E8:E96) -> 1 | G97: =SUM(G8:G96) -> 346141860601 | I97: =SUM(I8:I96) -> 1

Sheet سایر درآمدها
A2: صندوق سرمایه‌گذاری اختصاصی بازارگردانی مفید | B2: صندوق سرمایه‌گذاری اختصاصی بازارگردانی مفید | C2: صندوق سرمایه‌گذاری اختصاصی بازارگردانی مفید | D2: صندوق سرمایه‌گذاری اختصاصی بازارگردانی مفید | E2: صندوق سرمایه‌گذاری اختصاصی بازارگردانی مفید
A3: صورت وضعیت درآمدها | B3: صورت وضعیت درآمدها | C3: صورت وضعیت درآمدها | D3: صورت وضعیت درآمدها | E3: صورت وضعیت درآمدها
A4: برای ماه منتهی به 1405/05/31 | B4: برای ماه منتهی به 1405/05/31 | C4: برای ماه منتهی به 1405/05/31 | D4: برای ماه منتهی به 1405/05/31 | E4: برای ماه منتهی به 1405/05/31
A5: 5-2-سایر درآمدها: | E5: از ابتدای سال مالی
A6: سایر درآمدها | C6: طی مرداد ماه | E6: تا پایان مرداد ماه
A7: سایر درآمدها | C7: مبلغ | E7: مبلغ
A8: سایر درآمدهای تنزیل سود بانک | C8: 0 | E8: 2496667389
A9: درآمد حاصل از کارمزد بازارگردانی | C9: 553214251822 | E9: =3391363133328+C9 -> 3944577385150
C10: =SUM(C8:C9) -> 553214251822 | E10: =SUM(E8:E9) -> 3947074052539

Sheet مبالغ تخصیص یافته
A2: صندوق سرمایه‌گذاری اختصاصی بازارگردانی مفید
A3: صورت وضعیت پورتفوی
A4: برای ماه منتهی به 1405/05/31
A6: جزئیات قراردادهای خرید و نگهداری اوراق با درآمد ثابت
A7: شرح | C7: نوع ارتباط با طرف قرارداد | E7: مبلغ اوراق بهادار واگذار شده | G7: بهای تمام شده درآمد عملیاتی/ هزینه بازارگردانی و تعهد پذیره نویسی | I7: میانگین نرخ بازده تا سر رسید اوراق بهادار
A8: هزینه کارمزد خرید و نگهداری اوراق صعبید069 - صندوق حامی | C8: فروشنده | E8: 1490608114101 | G8: 6014109337 | I8: 34
A9: هزینه کارمزد خرید و نگهداری اوراق اورند پیشرو052 -صندوق حامی | C9: فروشنده | E9: 1995000000000 | G9: 8243956046 | I9: 33.5
A10: هزینه کارمزد خرید و نگهداری اوراق اورند پیشرو052 -صندوق آوند | C10: فروشنده | E10: 1000000000000 | G10: 4121978023 | I10: 34.5
A11: هزینه کارمزد خرید و نگهداری اوراق اهداف 073 - صندوق حامی | C11: فروشنده | E11: 3336000000000 | G11: 27058695619 | I11: 39
A12: هزینه کارمزد خرید و نگهداری اوراق صکشو603 - صندوق اندوخته ملت | C12: فروشنده | E12: 2400000000000 | G12: 5256024580 | I12: 37.5
A13: هزینه کارمزد خرید و نگهداری اوراق صعبید069 - صندوق آوند | C13: فروشنده | E13: 2000000000000 | G13: 8018812470 | I13: 34
A14: هزینه کارمزد خرید و نگهداری اوراق عکرمان - صندوق حامی 2 | C14: فروشنده | E14: 4947864134400 | G14: 43333839180 | I14: 37
A15: هزینه کارمزد خرید و نگهداری اوراق عکرمان - صندوق آوند | C15: فروشنده | E15: 4947864134400 | G15: 43333839180 | I15: 37
A16: هزینه کارمزد خرید و نگهداری اوراق سهیدرو - صندوق حامی | C16: فروشنده | E16: 1939466031800 | G16: 18289725836 | I16: 37.5
A17: هزینه کارمزد خرید و نگهداری اوراق طبیعت066 - صندوق آوند | C17: فروشنده | E17: 2500000000000 | G17: 22726733578 | I17: 38.1
A18: هزینه کارمزد خرید و نگهداری اوراق اهداف 073 - صندوق آوند | C18: فروشنده | E18: 1440000000000 | G18: 11596077961 | I18: 39
A19: هزینه کارمزد خرید و نگهداری اوراق شهرداری قم - صندوق آوند | C19: فروشنده | E19: 15000000000000 | G19: 10415492970 | I19: 41
... A24: هزینه کارمزد خرید و نگهداری اوراق صعبید803- صندوق پاسارگاد | C24: فروشنده | E24: 1000000000000 | G24: 5857696512 | I24: 45

Sheet درآمد سود سهام
A2: صندوق سرمایه‌گذاری اختصاصی بازارگردانی مفید | B2: صندوق سرمایه‌گذاری اختصاصی بازارگردانی مفید | C2: صندوق سرمایه‌گذاری اختصاصی بازارگردانی مفید | D2: صندوق سرمایه‌گذاری اختصاصی بازارگردانی مفید | E2: صندوق سرمایه‌گذاری اختصاصی بازارگردانی مفید | F2: صندوق سرمایه‌گذاری اختصاصی بازارگردانی مفید | G2: صندوق سرمایه‌گذاری اختصاصی بازارگردانی مفید | H2: صندوق سرمایه‌گذاری اختصاصی بازارگردانی مفید | I2: صندوق سرمایه‌گذاری اختصاصی بازارگردانی مفید | J2: صندوق سرمایه‌گذاری اختصاصی بازارگردانی مفید | K2: صندوق سرمایه‌گذاری اختصاصی بازارگردانی مفید | L2: صندوق سرمایه‌گذاری اختصاصی بازارگردانی مفید | M2: صندوق سرمایه‌گذاری اختصاصی بازارگردانی مفید | N2: صندوق سرمایه‌گذاری اختصاصی بازارگردانی مفید | O2: صندوق سرمایه‌گذاری اختصاصی بازارگردانی مفید | P2: صندوق سرمایه‌گذاری اختصاصی بازارگردانی مفید | Q2: صندوق سرمایه‌گذاری اختصاصی بازارگردانی مفید | R2: صندوق سرمایه‌گذاری اختصاصی بازارگردانی مفید | S2: صندوق سرمایه‌گذاری اختصاصی بازارگردانی مفید
A3: صورت وضعیت درآمدها | B3: صورت وضعیت درآمدها | C3: صورت وضعیت درآمدها | D3: صورت وضعیت درآمدها | E3: صورت وضعیت درآمدها | F3: صورت وضعیت درآمدها | G3: صورت وضعیت درآمدها | H3: صورت وضعیت درآمدها | I3: صورت وضعیت درآمدها | J3: صورت وضعیت درآمدها | K3: صورت وضعیت درآمدها | L3: صورت وضعیت درآمدها | M3: صورت وضعیت درآمدها | N3: صورت وضعیت درآمدها | O3: صورت وضعیت درآمدها | P3: صورت وضعیت درآمدها | Q3: صورت وضعیت درآمدها | R3: صورت وضعیت درآمدها | S3: صورت وضعیت درآمدها
A4: برای ماه منتهی به 1405/05/31 | B4: برای ماه منتهی به 1405/05/31 | C4: برای ماه منتهی به 1405/05/31 | D4: برای ماه منتهی به 1405/05/31 | E4: برای ماه منتهی به 1405/05/31 | F4: برای ماه منتهی به 1405/05/31 | G4: برای ماه منتهی به 1405/05/31 | H4: برای ماه منتهی به 1405/05/31 | I4: برای ماه منتهی به 1405/05/31 | J4: برای ماه منتهی به 1405/05/31 | K4: برای ماه منتهی به 1405/05/31 | L4: برای ماه منتهی به 1405/05/31 | M4: برای ماه منتهی به 1405/05/31 | N4: برای ماه منتهی به 1405/05/31 | O4: برای ماه منتهی به 1405/05/31 | P4: برای ماه منتهی به 1405/05/31 | Q4: برای ماه منتهی به 1405/05/31 | R4: برای ماه منتهی به 1405/05/31 | S4: برای ماه منتهی به 1405/05/31
A5: درآمد سود سهام
A6: نام شرکت | C6: اطلاعات مجمع | D6: اطلاعات مجمع | E6: اطلاعات مجمع | F6: اطلاعات مجمع | G6: اطلاعات مجمع | I6: طی مرداد ماه | J6: طی ماه | K6: طی ماه | L6: طی ماه | M6: طی ماه | O6: از ابتدای سال مالی تا پایان مرداد ماه | P6: از ابتدای سال مالی تا پایان ماه | Q6: از ابتدای سال مالی تا پایان ماه | R6: از ابتدای سال مالی تا پایان ماه | S6: از ابتدای سال مالی تا پایان ماه
A7: نام شرکت | C7: تاریخ مجمع | E7: تعداد سهام متعلقه در زمان مجمع | G7: سود متعلق به هر سهم | I7: جمع درآمد سود سهام | K7: هزینه تنزیل | M7: خالص درآمد سود سهام | O7: جمع درآمد سود سهام | Q7: هزینه تنزیل | S7: خالص درآمد سود سهام
A8: بانک خاورمیانه | C8: 1405/04/31 | E8: 768340025 | G8: 166 | I8: 0 | K8: 0 | M8: =I8-K8 -> 0 | O8: 127544444150 | Q8: 0 | S8: =O8-Q8 -> 127544444150
A9: معدنکاران نسوز | C9: 1405/05/27 | E9: 977659062 | G9: 850 | I9: 831010202700 | K9: 60187524211 | M9: =I9-K9 -> 770822678489 | O9: 831010202700 | Q9: 60187524211 | S9: =O9-Q9 -> 770822678489
A10: مجتمع کاشی و سنگ پرسپولیس یزد | C10: 1405/04/22 | E10: 1068395505 | G10: 400 | I10: 0 | K10: 0 | M10: =I10-K10 -> 0 | O10: 427358202000 | Q10: 52166996396 | S10: =O10-Q10 -> 375191205604
A11: بیمه زندگی مفید | C11: 1405/05/04 | E11: 20058877 | G11: 500 | I11: 10029438500 | K11: 588445457 | M11: =I11-K11 -> 9440993043 | O11: 10029438500 | Q11: 588445457 | S11: =O11-Q11 -> 9440993043
A12: کولان سل | C12: 1405/04/10 | E12: 114386196 | G12: 1177 | I12: 0 | K12: 0 | M12: =I12-K12 -> 0 | O12: 134632552692 | Q12: 0 | S12: =O12-Q12 -> 134632552692
I13: =SUM(I8:I12) -> 841039641200 | K13: =SUM(K8:K12) -> 60775969668 | M13: =SUM(M8:M12) -> 780263671532 | O13: =SUM(O8:O12) -> 1530574840042 | Q13: =SUM(Q8:Q12) -> 112942966064 | S13: =SUM(S8:S12) -> 1417631873978

Sheet سود اوراق بهادار  
A2: صندوق سرمایه‌گذاری اختصاصی بازارگردانی مفید | B2: صندوق سرمایه‌گذاری اختصاصی بازارگردانی مفید | C2: صندوق سرمایه‌گذاری اختصاصی بازارگردانی مفید | D2: صندوق سرمایه‌گذاری اختصاصی بازارگردانی مفید | E2: صندوق سرمایه‌گذاری اختصاصی بازارگردانی مفید | F2: صندوق سرمایه‌گذاری اختصاصی بازارگردانی مفید | G2: صندوق سرمایه‌گذاری اختصاصی بازارگردانی مفید | H2: صندوق سرمایه‌گذاری اختصاصی بازارگردانی مفید | I2: صندوق سرمایه‌گذاری اختصاصی بازارگردانی مفید | J2: صندوق سرمایه‌گذاری اختصاصی بازارگردانی مفید | K2: صندوق سرمایه‌گذاری اختصاصی بازارگردانی مفید | L2: صندوق سرمایه‌گذاری اختصاصی بازارگردانی مفید | M2: صندوق سرمایه‌گذاری اختصاصی بازارگردانی مفید
A3: صورت وضعیت درآمدها | B3: صورت وضعیت درآمدها | C3: صورت وضعیت درآمدها | D3: صورت وضعیت درآمدها | E3: صورت وضعیت درآمدها | F3: صورت وضعیت درآمدها | G3: صورت وضعیت درآمدها | H3: صورت وضعیت درآمدها | I3: صورت وضعیت درآمدها | J3: صورت وضعیت درآمدها | K3: صورت وضعیت درآمدها | L3: صورت وضعیت درآمدها | M3: صورت وضعیت درآمدها
A4: برای ماه منتهی به 1405/05/31 | B4: برای ماه منتهی به 1405/05/31 | C4: برای ماه منتهی به 1405/05/31 | D4: برای ماه منتهی به 1405/05/31 | E4: برای ماه منتهی به 1405/05/31 | F4: برای ماه منتهی به 1405/05/31 | G4: برای ماه منتهی به 1405/05/31 | H4: برای ماه منتهی به 1405/05/31 | I4: برای ماه منتهی به 1405/05/31 | J4: برای ماه منتهی به 1405/05/31 | K4: برای ماه منتهی به 1405/05/31 | L4: برای ماه منتهی به 1405/05/31 | M4: برای ماه منتهی به 1405/05/31
A5: سود اوراق بهادار با درآمد ثابت
A6: مشخصات | B6: مشخصات | C6: طی مرداد ماه | D6: طی ماه | E6: طی ماه | F6: طی ماه | G6: طی ماه | I6: از ابتدای سال مالی تا پایان مرداد ماه | J6: از ابتدای سال مالی تا پایان ماه | K6: از ابتدای سال مالی تا پایان ماه | L6: از ابتدای سال مالی تا پایان ماه | M6: از ابتدای سال مالی تا پایان ماه
A7: توضیحات | C7: درآمد سود | E7: هزینه تنزیل | G7: خالص درآمد | I7: درآمد سود | K7: هزینه تنزیل | M7: خالص درآمد
A8: صکوک مرابحه دعبید803-بدون ضامن | C8: 11368728410 | E8: 0 | G8: =C8-E8 -> 11368728410 | I8: 22253417033 | K8: 0 | M8: =I8-K8 -> 22253417033
A9: صکوک مرابحه دعبید802-3ماهه23% | C9: 6491018500 | E9: 0 | G9: =C9-E9 -> 6491018500 | I9: 12396573117 | K9: 0 | M9: =I9-K9 -> 12396573117
A10: صکوک مرابحه شدوص810-3ماهه23% | C10: 1899591496 | E10: 0 | G10: =C10-E10 -> 1899591496 | I10: 3884522658 | K10: 0 | M10: =I10-K10 -> 3884522658
A11: مرابحه طبیعت سبز-مفید070311 | C11: 2002260273 | E11: 0 | G11: =C11-E11 -> 2002260273 | I11: 3928825343 | K11: 0 | M11: =I11-K11 -> 3928825343
A12: صکوک مرابحه پاکشو603-3ماهه23% | C12: 201202741 | E12: 0 | G12: =C12-E12 -> 201202741 | I12: 394835960 | K12: 0 | M12: =I12-K12 -> 394835960
A13: مشارکت ش قم0612-3 ماهه 20.5% | C13: 53333317 | E13: 0 | G13: =C13-E13 -> 53333317 | I13: 104830743 | K13: 0 | M13: =I13-K13 -> 104830743
A14: مرابحه طبیعت سبز-مفید060920 | C14: 99014212 | E14: 0 | G14: =C14-E14 -> 99014212 | I14: 194243664 | K14: 0 | M14: =I14-K14 -> 194243664
A15: اجاره اهداف مفید 14070531 | C15: 4058239725 | E15: 0 | G15: =C15-E15 -> 4058239725 | I15: 7965089041 | K15: 0 | M15: =I15-K15 -> 7965089041
A16: مرابحه اورند پیشرو-مفید051118 | C16: 98285053 | E16: 0 | G16: =C16-E16 -> 98285053 | I16: 197543443 | K16: 0 | M16: =I16-K16 -> 197543443
A17: مرابحه شهر فرش-مفید060921 | C17: 395568493 | E17: 0 | G17: =C17-E17 -> 395568493 | I17: 775997945 | K17: 0 | M17: =I17-K17 -> 775997945
A18: صکوک مرابحه دعبید69-3ماهه23% | C18: 184683995 | E18: 0 | G18: =C18-E18 -> 184683995 | I18: 362419928 | K18: 0 | M18: =I18-K18 -> 362419928
C19: =SUM(C8:C18) -> 26851926215 | E19: =SUM(E8:E18) -> 0 | G19: =SUM(G8:G18) -> 26851926215 | I19: =SUM(I8:I18) -> 52458298875 | K19: =SUM(K8:K18) -> 0 | M19: =SUM(M8:M18) -> 52458298875

Sheet سود سپرده بانکی
A2: صندوق سرمایه‌گذاری اختصاصی بازارگردانی مفید | B2: صندوق سرمایه‌گذاری اختصاصی بازارگردانی مفید | C2: صندوق سرمایه‌گذاری اختصاصی بازارگردانی مفید | D2: صندوق سرمایه‌گذاری اختصاصی بازارگردانی مفید | E2: صندوق سرمایه‌گذاری اختصاصی بازارگردانی مفید | F2: صندوق سرمایه‌گذاری اختصاصی بازارگردانی مفید | G2: صندوق سرمایه‌گذاری اختصاصی بازارگردانی مفید | H2: صندوق سرمایه‌گذاری اختصاصی بازارگردانی مفید | I2: صندوق سرمایه‌گذاری اختصاصی بازارگردانی مفید | J2: صندوق سرمایه‌گذاری اختصاصی بازارگردانی مفید | K2: صندوق سرمایه‌گذاری اختصاصی بازارگردانی مفید | L2: صندوق سرمایه‌گذاری اختصاصی بازارگردانی مفید | M2: صندوق سرمایه‌گذاری اختصاصی بازارگردانی مفید
A3: صورت وضعیت درآمدها | B3: صورت وضعیت درآمدها | C3: صورت وضعیت درآمدها | D3: صورت وضعیت درآمدها | E3: صورت وضعیت درآمدها | F3: صورت وضعیت درآمدها | G3: صورت وضعیت درآمدها | H3: صورت وضعیت درآمدها | I3: صورت وضعیت درآمدها | J3: صورت وضعیت درآمدها | K3: صورت وضعیت درآمدها | L3: صورت وضعیت درآمدها | M3: صورت وضعیت درآمدها
A4: برای ماه منتهی به 1405/05/31 | B4: برای ماه منتهی به 1405/05/31 | C4: برای ماه منتهی به 1405/05/31 | D4: برای ماه منتهی به 1405/05/31 | E4: برای ماه منتهی به 1405/05/31 | F4: برای ماه منتهی به 1405/05/31 | G4: برای ماه منتهی به 1405/05/31 | H4: برای ماه منتهی به 1405/05/31 | I4: برای ماه منتهی به 1405/05/31 | J4: برای ماه منتهی به 1405/05/31 | K4: برای ماه منتهی به 1405/05/31 | L4: برای ماه منتهی به 1405/05/31 | M4: برای ماه منتهی به 1405/05/31
A6: مشخصات | B6: مشخصات | C6: طی مرداد ماه | D6: طی ماه | E6: طی ماه | F6: طی ماه | G6: طی ماه | I6: از ابتدای سال مالی تا پایان مرداد ماه | J6: از ابتدای سال مالی تا پایان ماه | K6: از ابتدای سال مالی تا پایان ماه | L6: از ابتدای سال مالی تا پایان ماه | M6: از ابتدای سال مالی تا پایان ماه
A7: توضیحات | C7: درآمد سود | E7: هزینه تنزیل | G7: خالص درآمد | I7: درآمد سود | K7: هزینه تنزیل | M7: خالص درآمد
A8: بانک پاسارگاد هفت تیر | C8: 10689 | E8: 0 | G8: =C8-E8 -> 10689 | I8: 23941 | K8: 0 | M8: =I8-K8 -> 23941
A9: بانک پاسارگاد هفت تیر | C9: 48240 | E9: 0 | G9: =C9-E9 -> 48240 | I9: 96277 | K9: 0 | M9: =I9-K9 -> 96277
A10: بانک پاسارگاد هفت تیر | C10: 48606 | E10: 0 | G10: =C10-E10 -> 48606 | I10: 97007 | K10: 0 | M10: =I10-K10 -> 97007
A11: بانک پاسارگاد هفت تیر | C11: 51995 | E11: 0 | G11: =C11-E11 -> 51995 | I11: 103771 | K11: 0 | M11: =I11-K11 -> 103771
A12: بانک خاورمیانه آفریقا | C12: 863878578 | E12: 0 | G12: =C12-E12 -> 863878578 | I12: 1483216542 | K12: 0 | M12: =I12-K12 -> 1483216542
A13: بانک خاورمیانه آفریقا | C13: 7211351710 | E13: 0 | G13: =C13-E13 -> 7211351710 | I13: 16109063567 | K13: 0 | M13: =I13-K13 -> 16109063567
A14: بانک خاورمیانه آفریقا | C14: 2237738710 | E14: 0 | G14: =C14-E14 -> 2237738710 | I14: 2762522794 | K14: 0 | M14: =I14-K14 -> 2762522794
A15: بانک خاورمیانه آفریقا | C15: 676482582 | E15: 0 | G15: =C15-E15 -> 676482582 | I15: 1348961098 | K15: 0 | M15: =I15-K15 -> 1348961098
A16: بانک خاورمیانه آفریقا | C16: 244002866 | E16: 0 | G16: =C16-E16 -> 244002866 | I16: 1303145590 | K16: 0 | M16: =I16-K16 -> 1303145590
A17: بانک خاورمیانه آفریقا | C17: 40082293 | E17: 0 | G17: =C17-E17 -> 40082293 | I17: 50452553 | K17: 0 | M17: =I17-K17 -> 50452553
A18: بانک خاورمیانه آفریقا | C18: 62226751 | E18: 0 | G18: =C18-E18 -> 62226751 | I18: 88107571 | K18: 0 | M18: =I18-K18 -> 88107571
A19: بانک خاورمیانه آفریقا | C19: 722871607 | E19: 0 | G19: =C19-E19 -> 722871607 | I19: 1128772851 | K19: 0 | M19: =I19-K19 -> 1128772851
... A96: بانک خاورمیانه آفریقا | C96: 913382159 | E96: 0 | G96: =C96-E96 -> 913382159 | I96: 1003016607 | K96: 0 | M96: =I96-K96 -> 1003016607
C97: =SUM(C8:C96) -> 181277402009 | E97: =SUM(E8:E96) -> 3270799510 | G97: =SUM(G8:G96) -> 178006602499 | I97: =SUM(I8:I96) -> 355158262011 | K97: =SUM(K8:K96) -> 9016401410 | M97: =SUM(M8:M96) -> 346141860601

Sheet درآمد ناشی از فروش
A2: صندوق سرمایه‌گذاری اختصاصی بازارگردانی مفید | B2: صندوق سرمایه‌گذاری اختصاصی بازارگردانی مفید | C2: صندوق سرمایه‌گذاری اختصاصی بازارگردانی مفید | D2: صندوق سرمایه‌گذاری اختصاصی بازارگردانی مفید | E2: صندوق سرمایه‌گذاری اختصاصی بازارگردانی مفید | F2: صندوق سرمایه‌گذاری اختصاصی بازارگردانی مفید | G2: صندوق سرمایه‌گذاری اختصاصی بازارگردانی مفید | H2: صندوق سرمایه‌گذاری اختصاصی بازارگردانی مفید | I2: صندوق سرمایه‌گذاری اختصاصی بازارگردانی مفید | J2: صندوق سرمایه‌گذاری اختصاصی بازارگردانی مفید | K2: صندوق سرمایه‌گذاری اختصاصی بازارگردانی مفید | L2: صندوق سرمایه‌گذاری اختصاصی بازارگردانی مفید | M2: صندوق سرمایه‌گذاری اختصاصی بازارگردانی مفید | N2: صندوق سرمایه‌گذاری اختصاصی بازارگردانی مفید | O2: صندوق سرمایه‌گذاری اختصاصی بازارگردانی مفید | P2: صندوق سرمایه‌گذاری اختصاصی بازارگردانی مفید | Q2: صندوق سرمایه‌گذاری اختصاصی بازارگردانی مفید
A3: صورت وضعیت درآمدها | B3: صورت وضعیت درآمدها | C3: صورت وضعیت درآمدها | D3: صورت وضعیت درآمدها | E3: صورت وضعیت درآمدها | F3: صورت وضعیت درآمدها | G3: صورت وضعیت درآمدها | H3: صورت وضعیت درآمدها | I3: صورت وضعیت درآمدها | J3: صورت وضعیت درآمدها | K3: صورت وضعیت درآمدها | L3: صورت وضعیت درآمدها | M3: صورت وضعیت درآمدها | N3: صورت وضعیت درآمدها | O3: صورت وضعیت درآمدها | P3: صورت وضعیت درآمدها | Q3: صورت وضعیت درآمدها
A4: برای ماه منتهی به 1405/05/31 | B4: برای ماه منتهی به 1405/05/31 | C4: برای ماه منتهی به 1405/05/31 | D4: برای ماه منتهی به 1405/05/31 | E4: برای ماه منتهی به 1405/05/31 | F4: برای ماه منتهی به 1405/05/31 | G4: برای ماه منتهی به 1405/05/31 | H4: برای ماه منتهی به 1405/05/31 | I4: برای ماه منتهی به 1405/05/31 | J4: برای ماه منتهی به 1405/05/31 | K4: برای ماه منتهی به 1405/05/31 | L4: برای ماه منتهی به 1405/05/31 | M4: برای ماه منتهی به 1405/05/31 | N4: برای ماه منتهی به 1405/05/31 | O4: برای ماه منتهی به 1405/05/31 | P4: برای ماه منتهی به 1405/05/31 | Q4: برای ماه منتهی به 1405/05/31
A5: سود(زیان) حاصل از فروش اوراق بهادار
A6: نام شرکت | C6: طی مرداد ماه | D6: طی ماه | E6: طی ماه | F6: طی ماه | G6: طی ماه | H6: طی ماه | I6: طی ماه | K6: از ابتدای سال مالی تا پایان مرداد ماه | L6: از ابتدای سال مالی تا پایان ماه | M6: از ابتدای سال مالی تا پایان ماه | N6: از ابتدای سال مالی تا پایان ماه | O6: از ابتدای سال مالی تا پایان ماه | P6: از ابتدای سال مالی تا پایان ماه | Q6: از ابتدای سال مالی تا پایان ماه
C7: تعداد | E7: بهای فروش | G7: ارزش دفتری | I7: سود و زیان ناشی از فروش | K7: تعداد | M7: بهای فروش | O7: ارزش دفتری | Q7: سود و زیان ناشی از فروش
A8: صندوق س.توسعه اندوخته آینده-س | C8: 92365276 | E8: 12260039743924 | G8: 11465948710113 | I8: =E8-G8 -> 794091033811 | K8: 175701561 | M8: 21999815002101 | O8: 21199552931844 | Q8: =M8-O8 -> 800262070257
A9: صندوق ارمغان فیروزه آسیا-ثابت | C9: 9300000 | E9: 817445435248 | G9: 812446482403 | I9: =E9-G9 -> 4998952845 | K9: 13400000 | M9: 1168230135776 | O9: 1156914953855 | Q9: =M9-O9 -> 11315181921
A10: صندوق س صنایع مفید6- بخشی | C10: 67503763 | E10: 1061504349568 | G10: 909569338426 | I10: =E10-G10 -> 151935011142 | K10: 124934341 | M10: 1777355502103 | O10: 1645397187295 | Q10: =M10-O10 -> 131958314808
A11: صندوق س شاخصی آرام مفید | C11: 42791548 | E11: 1532688845790 | G11: 1413072042919 | I11: =E11-G11 -> 119616802871 | K11: 84350161 | M11: 2884730672779 | O11: 2753075090711 | Q11: =M11-O11 -> 131655582068
A12: صندوق س.درآمد ثابت کارآمد-د | C12: 76400000 | E12: 1349466100991 | G12: 1338883631108 | I12: =E12-G12 -> 10582469883 | K12: 126100000 | M12: 2194396005751 | O12: 2181186717269 | Q12: =M12-O12 -> 13209288482
A13: کولان سل | C13: 1275000 | E13: 35389843526 | G13: 36458854895 | I13: =E13-G13 -> -1069011369 | K13: 4134187 | M13: 112926410383 | O13: 118676834074 | Q13: =M13-O13 -> -5750423691
A14: مجتمع کاشی و سنگ پرسپولیس یزد | C14: 65661128 | E14: 462546990516 | G14: 444907498065 | I14: =E14-G14 -> 17639492451 | K14: 127911118 | M14: 837548970196 | O14: 867817136111 | Q14: =M14-O14 -> -30268165915
A15: صندوق طلای عیار مفید | C15: 101950856 | E15: 52788763298000 | G15: 51082929834656 | I15: =E15-G15 -> 1705833463344 | K15: 154114357 | M15: 79056188584808 | O15: 75210344979562 | Q15: =M15-O15 -> 3845843605246
A16: ص.س.درآمد ثابت کیمیا-د | C16: 11715471 | E16: 278293543362 | G16: 277340991496 | I16: =E16-G16 -> 952551866 | K16: 21751137 | M16: 512271656918 | O16: 507584628204 | Q16: =M16-O16 -> 4687028714
A17: صندوق س توسعه فولاد- ثابت | C17: 34092000 | E17: 800941289633 | G17: 791047636875 | I17: =E17-G17 -> 9893652758 | K17: 109842000 | M17: 2529982782318 | O17: 2504161946989 | Q17: =M17-O17 -> 25820835329
A18: صندوق س. ثبات ویستا -د | C18: 14500000 | E18: 529102621459 | G18: 524329226428 | I18: =E18-G18 -> 4773395031 | K18: 14500000 | M18: 529102621459 | O18: 524329226428 | Q18: =M18-O18 -> 4773395031
A19: صندوق س نوع دوم افق آتی-ثابت | C19: 43200000 | E19: 492383166879 | G19: 474334718095 | I19: =E19-G19 -> 18048448784 | K19: 116000000 | M19: 1293686177507 | O19: 1268378984024 | Q19: =M19-O19 -> 25307193483
... A46: سلف موازی گروه صنعتی پاکشو | C46: 0 | E46: 0 | G46: 0 | I46: =E46-G46 -> 0 | K46: 33370 | M46: 72477838020 | O46: 69715868350 | Q46: =M46-O46 -> 2761969670
E47: =SUM(E8:E46) -> 182122964944361 | G47: =SUM(G8:G46) -> 178072009167606 | I47: =SUM(I8:I46) -> 4050955776755 | M47: =SUM(M8:M46) -> 455932145915462 | O47: =SUM(O8:O46) -> 449309945228117 | Q47: =SUM(Q8:Q46) -> 6622200687345

Sheet درآمد ناشی از تغییر قیمت اوراق
A2: صندوق سرمایه‌گذاری اختصاصی بازارگردانی مفید | B2: صندوق سرمایه‌گذاری اختصاصی بازارگردانی مفید | C2: صندوق سرمایه‌گذاری اختصاصی بازارگردانی مفید | D2: صندوق سرمایه‌گذاری اختصاصی بازارگردانی مفید | E2: صندوق سرمایه‌گذاری اختصاصی بازارگردانی مفید | F2: صندوق سرمایه‌گذاری اختصاصی بازارگردانی مفید | G2: صندوق سرمایه‌گذاری اختصاصی بازارگردانی مفید | H2: صندوق سرمایه‌گذاری اختصاصی بازارگردانی مفید | I2: صندوق سرمایه‌گذاری اختصاصی بازارگردانی مفید | J2: صندوق سرمایه‌گذاری اختصاصی بازارگردانی مفید | K2: صندوق سرمایه‌گذاری اختصاصی بازارگردانی مفید | L2: صندوق سرمایه‌گذاری اختصاصی بازارگردانی مفید | M2: صندوق سرمایه‌گذاری اختصاصی بازارگردانی مفید | N2: صندوق سرمایه‌گذاری اختصاصی بازارگردانی مفید | O2: صندوق سرمایه‌گذاری اختصاصی بازارگردانی مفید | P2: صندوق سرمایه‌گذاری اختصاصی بازارگردانی مفید | Q2: صندوق سرمایه‌گذاری اختصاصی بازارگردانی مفید
A3: صورت وضعیت درآمدها | B3: صورت وضعیت درآمدها | C3: صورت وضعیت درآمدها | D3: صورت وضعیت درآمدها | E3: صورت وضعیت درآمدها | F3: صورت وضعیت درآمدها | G3: صورت وضعیت درآمدها | H3: صورت وضعیت درآمدها | I3: صورت وضعیت درآمدها | J3: صورت وضعیت درآمدها | K3: صورت وضعیت درآمدها | L3: صورت وضعیت درآمدها | M3: صورت وضعیت درآمدها | N3: صورت وضعیت درآمدها | O3: صورت وضعیت درآمدها | P3: صورت وضعیت درآمدها | Q3: صورت وضعیت درآمدها
A4: برای ماه منتهی به 1405/05/31 | B4: برای ماه منتهی به 1405/05/31 | C4: برای ماه منتهی به 1405/05/31 | D4: برای ماه منتهی به 1405/05/31 | E4: برای ماه منتهی به 1405/05/31 | F4: برای ماه منتهی به 1405/05/31 | G4: برای ماه منتهی به 1405/05/31 | H4: برای ماه منتهی به 1405/05/31 | I4: برای ماه منتهی به 1405/05/31 | J4: برای ماه منتهی به 1405/05/31 | K4: برای ماه منتهی به 1405/05/31 | L4: برای ماه منتهی به 1405/05/31 | M4: برای ماه منتهی به 1405/05/31 | N4: برای ماه منتهی به 1405/05/31 | O4: برای ماه منتهی به 1405/05/31 | P4: برای ماه منتهی به 1405/05/31 | Q4: برای ماه منتهی به 1405/05/31
A6: نام شرکت | C6: طی مرداد ماه | D6: طی ماه | E6: طی ماه | F6: طی ماه | G6: طی ماه | H6: طی ماه | I6: طی ماه | K6: از ابتدای سال مالی تا پایان مرداد ماه | L6: از ابتدای سال مالی تا پایان ماه | M6: از ابتدای سال مالی تا پایان ماه | N6: از ابتدای سال مالی تا پایان ماه | O6: از ابتدای سال مالی تا پایان ماه | P6: از ابتدای سال مالی تا پایان ماه | Q6: از ابتدای سال مالی تا پایان ماه
C7: تعداد | E7: بهای فروش | G7: ارزش دفتری | I7: سود و زیان ناشی از تغییر قیمت | K7: تعداد | M7: بهای فروش | O7: ارزش دفتری | Q7: سود و زیان ناشی از تغییر قیمت
A8: صندوق س.توسعه اندوخته آینده-س | C8: 26549492 | E8: 3789766053560 | G8: 3676455823895 | I8: =E8-G8 -> 113310229665 | K8: 26549492 | M8: 3789766053560 | O8: 3564129022307 | Q8: =M8-O8 -> 225637031253
A9: صندوق س. شاخصی هم وزن همسنگ-س | C9: 92994783 | E9: 1645842146055 | G9: 1606863153957 | I9: =E9-G9 -> 38978992098 | K9: 92994783 | M9: 1645842146055 | O9: 1522225314741 | Q9: =M9-O9 -> 123616831314
A10: صندوق س. آوند مفید-د | C10: 250495956 | E10: 7391812255624 | G10: 7391019225082 | I10: =E10-G10 -> 793030542 | K10: 250495956 | M10: 7391812255624 | O10: 7388845620701 | Q10: =M10-O10 -> 2966634923
A11: صندوق س سپر سرمایه بیدار- ثابت | C11: 19632543 | E11: 896385737351 | G11: 874939125307 | I11: =E11-G11 -> 21446612044 | K11: 19632543 | M11: 896385737351 | O11: 870565365750 | Q11: =M11-O11 -> 25820371601
A12: صندوق س صنایع مفید4-بخشی | C12: 113519962 | E12: 2579612052901 | G12: 2267622065502 | I12: =E12-G12 -> 311989987399 | K12: 113519962 | M12: 2579612052901 | O12: 2450532936092 | Q12: =M12-O12 -> 129079116809
A13: صندوق س صنایع مفید2-بخشی | C13: 137424070 | E13: 1918746360188 | G13: 1599712492252 | I13: =E13-G13 -> 319033867936 | K13: 137424070 | M13: 1918746360188 | O13: 1696342335087 | Q13: =M13-O13 -> 222404025101
A14: صندوق سرمایه گذاری ماهور-ثابت | C14: 16960000 | E14: 385867258960 | G14: 381674735961 | I14: =E14-G14 -> 4192522999 | K14: 16960000 | M14: 385867258960 | O14: 381668551260 | Q14: =M14-O14 -> 4198707700
A15: ح.بیمه زندگی مفید | C15: 30088315 | E15: 165059308864 | G15: 31261759285 | I15: =E15-G15 -> 133797549579 | K15: 30088315 | M15: 165059308864 | O15: 31261759285 | Q15: =M15-O15 -> 133797549579
A16: صندوق س توسعه فولاد- ثابت | C16: 131818000 | E16: 3121221590968 | G16: 3069511286713 | I16: =E16-G16 -> 51710304255 | K16: 131818000 | M16: 3121221590968 | O16: 3069179683646 | Q16: =M16-O16 -> 52041907322
A17: صندوق س نوع دوم افق آتی-ثابت | C17: 54500000 | E17: 629569760512 | G17: 624180916132 | I17: =E17-G17 -> 5388844380 | K17: 54500000 | M17: 629569760512 | O17: 598469617096 | Q17: =M17-O17 -> 31100143416
A18: صندوق س صنایع مفید5-بخشی | C18: 136188772 | E18: 4741493435924 | G18: 4055184830296 | I18: =E18-G18 -> 686308605628 | K18: 136188772 | M18: 4741493435924 | O18: 3953848930190 | Q18: =M18-O18 -> 787644505734
A19: صندوق س. با درآمد ثابت کیان | C19: 3814321 | E19: 414582003143 | G19: 409328117482 | I19: =E19-G19 -> 5253885661 | K19: 3814321 | M19: 414582003143 | O19: 407408804142 | Q19: =M19-O19 -> 7173199001
... A50: صکوک مرابحه دعبید803-بدون ضامن | C50: 500000 | E50: 494691088750 | G50: 494691088750 | I50: =E50-G50 -> 0 | K50: 500000 | M50: 494691088750 | O50: 499637077140 | Q50: =M50-O50 -> -4945988390
E51: =SUM(E8:E50) -> 104167444362584 | G51: =SUM(G8:G50) -> 93206273656963 | I51: =SUM(I8:I50) -> 10961170705621 | M51: =SUM(M8:M50) -> 104167444362584 | O51: =SUM(O8:O50) -> 96793563837401 | Q51: =SUM(Q8:Q50) -> 7373880525183
