Workbook

Sheet بازارگردانی مفید

Sheet سهام
A2: صندوق سرمایه‌گذاری اختصاصی بازارگردانی مفید | B2: صندوق سرمایه‌گذاری اختصاصی بازارگردانی مفید | C2: صندوق سرمایه‌گذاری اختصاصی بازارگردانی مفید | D2: صندوق سرمایه‌گذاری اختصاصی بازارگردانی مفید | E2: صندوق سرمایه‌گذاری اختصاصی بازارگردانی مفید | F2: صندوق سرمایه‌گذاری اختصاصی بازارگردانی مفید | G2: صندوق سرمایه‌گذاری اختصاصی بازارگردانی مفید | H2: صندوق سرمایه‌گذاری اختصاصی بازارگردانی مفید | I2: صندوق سرمایه‌گذاری اختصاصی بازارگردانی مفید | J2: صندوق سرمایه‌گذاری اختصاصی بازارگردانی مفید | K2: صندوق سرمایه‌گذاری اختصاصی بازارگردانی مفید | L2: صندوق سرمایه‌گذاری اختصاصی بازارگردانی مفید | M2: صندوق سرمایه‌گذاری اختصاصی بازارگردانی مفید | N2: صندوق سرمایه‌گذاری اختصاصی بازارگردانی مفید | O2: صندوق سرمایه‌گذاری اختصاصی بازارگردانی مفید | P2: صندوق سرمایه‌گذاری اختصاصی بازارگردانی مفید | Q2: صندوق سرمایه‌گذاری اختصاصی بازارگردانی مفید | R2: صندوق سرمایه‌گذاری اختصاصی بازارگردانی مفید | S2: صندوق سرمایه‌گذاری اختصاصی بازارگردانی مفید | T2: صندوق سرمایه‌گذاری اختصاصی بازارگردانی مفید | U2: صندوق سرمایه‌گذاری اختصاصی بازارگردانی مفید | V2: صندوق سرمایه‌گذاری اختصاصی بازارگردانی مفید | W2: صندوق سرمایه‌گذاری اختصاصی بازارگردانی مفید | X2: صندوق سرمایه‌گذاری اختصاصی بازارگردانی مفید | Y2: صندوق سرمایه‌گذاری اختصاصی بازارگردانی مفید
A3: صورت وضعیت پورتفوی | B3: صورت وضعیت پورتفوی | C3: صورت وضعیت پورتفوی | D3: صورت وضعیت پورتفوی | E3: صورت وضعیت پورتفوی | F3: صورت وضعیت پورتفوی | G3: صورت وضعیت پورتفوی | H3: صورت وضعیت پورتفوی | I3: صورت وضعیت پورتفوی | J3: صورت وضعیت پورتفوی | K3: صورت وضعیت پورتفوی | L3: صورت وضعیت پورتفوی | M3: صورت وضعیت پورتفوی | N3: صورت وضعیت پورتفوی | O3: صورت وضعیت پورتفوی | P3: صورت وضعیت پورتفوی | Q3: صورت وضعیت پورتفوی | R3: صورت وضعیت پورتفوی | S3: صورت وضعیت پورتفوی | T3: صورت وضعیت پورتفوی | U3: صورت وضعیت پورتفوی | V3: صورت وضعیت پورتفوی | W3: صورت وضعیت پورتفوی | X3: صورت وضعیت پورتفوی | Y3: صورت وضعیت پورتفوی
A4: برای ماه منتهی به 1405/06/31 | B4: برای ماه منتهی به 1405/06/31 | C4: برای ماه منتهی به 1405/06/31 | D4: برای ماه منتهی به 1405/06/31 | E4: برای ماه منتهی به 1405/06/31 | F4: برای ماه منتهی به 1405/06/31 | G4: برای ماه منتهی به 1405/06/31 | H4: برای ماه منتهی به 1405/06/31 | I4: برای ماه منتهی به 1405/06/31 | J4: برای ماه منتهی به 1405/06/31 | K4: برای ماه منتهی به 1405/06/31 | L4: برای ماه منتهی به 1405/06/31 | M4: برای ماه منتهی به 1405/06/31 | N4: برای ماه منتهی به 1405/06/31 | O4: برای ماه منتهی به 1405/06/31 | P4: برای ماه منتهی به 1405/06/31 | Q4: برای ماه منتهی به 1405/06/31 | R4: برای ماه منتهی به 1405/06/31 | S4: برای ماه منتهی به 1405/06/31 | T4: برای ماه منتهی به 1405/06/31 | U4: برای ماه منتهی به 1405/06/31 | V4: برای ماه منتهی به 1405/06/31 | W4: برای ماه منتهی به 1405/06/31 | X4: برای ماه منتهی به 1405/06/31 | Y4: برای ماه منتهی به 1405/06/31
A5: 1- سرمایه گذاری ها
A6: 1-1-سرمایه‌گذاری در سهام و حق تقدم سهام
A7: نام شرکت | C7: 1405/06/01 | D7: 1405/05/31 | E7: 1405/05/31 | F7: 1405/05/31 | G7: 1405/05/31 | I7: تغییرات طی دوره | J7: تغییرات طی دوره | K7: تغییرات طی دوره | L7: تغییرات طی دوره | M7: تغییرات طی دوره | N7: تغییرات طی دوره | O7: تغییرات طی دوره | Q7: 1405/06/31 | R7: 1405/06/31 | S7: 1405/06/31 | T7: 1405/06/31 | U7: 1405/06/31 | V7: 1405/06/31 | W7: 1405/06/31 | X7: 1405/06/31 | Y7: 1405/06/31
A8: نام شرکت | C8: تعداد | E8: بهای تمام شده | G8: خالص ارزش فروش | I8: خرید طی دوره | J8: خرید طی دوره | K8: خرید طی دوره | M8: فروش طی دوره | N8: فروش طی دوره | O8: فروش طی دوره | Q8: تعداد | S8: قیمت بازار | U8: بهای تمام شده | W8: خالص ارزش فروش | Y8: درصد به کل دارایی‌های صندوق
A9: نام شرکت | C9: تعداد | E9: بهای تمام شده | G9: خالص ارزش فروش | I9: تعداد | K9: بهای تمام شده | M9: تعداد | O9: مبلغ فروش | Q9: تعداد | S9: قیمت بازار | U9: بهای تمام شده | W9: خالص ارزش فروش | Y9: درصد به کل دارایی‌های صندوق
A10: بانک خاورمیانه | C10: 806303471 | E10: 3022076646728 | G10: 5091965099888 | I10: 266528661 | K10: 1646909227576 | M10: -103704053 | O10: 619642609144 | Q10: =C10+I10+M10 -> 969128079 | S10: 6010 | U10: 4259926645496 | W10: 5820033165376 | Y10: 0.03794531
A11: معدنکاران نسوز | C11: 977626675 | E11: 10249514291325 | G11: 13031628274218 | I11: 12041563 | K11: 166908028361 | M11: -28803915 | O11: 396010578692 | Q11: =C11+I11+M11 -> 960864323 | S11: 13740 | U11: 10114157597857 | W11: 13192242068414 | Y11: 0.086010458
A12: ح.بیمه زندگی مفید | C12: 30088315 | E12: 31261759285 | G12: 165059308864 | I12: 0 | K12: 0 | M12: -8000000 | O12: 57093120000 | Q12: =C12+I12+M12 -> 22088315 | S12: 7020 | U12: 22949759285 | W12: 153695443553 | Y12: 0.0010020598
A13: مجتمع کاشی و سنگ پرسپولیس یزد | C13: 1013244400 | E13: 6605831503477 | G13: 7998547240622 | I13: 45890172 | K13: 377076118464 | M13: -47381937 | O13: 397165035218 | Q13: =C13+I13+M13 -> 1011752635 | S13: 8760 | U13: 6672621968402 | W13: 8856217238257 | Y13: 0.057740549
A14: کولان سل | C14: 138100015 | E14: 3590006580671 | G14: 3794864122187 | I14: 13654224 | K14: 403752146508 | M14: -3651285 | O14: 112199589452 | Q14: =C14+I14+M14 -> 148102954 | S14: 30070 | U14: 3898411144496 | W14: 4450071200352 | Y14: 0.029013466
E15: =SUM(E10:E14) -> 23498690781486 | G15: =SUM(G10:G14) -> 30082064045779 | K15: =SUM(K10:K14) -> 2594645520909 | O15: =SUM(O10:O14) -> 1582110932506 | U15: =SUM(U10:U14) -> 24968067115536 | W15: =SUM(W10:W14) -> 32472259115952 | Y15: =SUM(Y10:Y14) -> 0.21171184

Sheet واحد های صندوق
A2: صندوق سرمایه‌گذاری اختصاصی بازارگردانی مفید | B2: صندوق سرمایه‌گذاری اختصاصی بازارگردانی مفید | C2: صندوق سرمایه‌گذاری اختصاصی بازارگردانی مفید | D2: صندوق سرمایه‌گذاری اختصاصی بازارگردانی مفید | E2: صندوق سرمایه‌گذاری اختصاصی بازارگردانی مفید | F2: صندوق سرمایه‌گذاری اختصاصی بازارگردانی مفید | G2: صندوق سرمایه‌گذاری اختصاصی بازارگردانی مفید | H2: صندوق سرمایه‌گذاری اختصاصی بازارگردانی مفید | I2: صندوق سرمایه‌گذاری اختصاصی بازارگردانی مفید | J2: صندوق سرمایه‌گذاری اختصاصی بازارگردانی مفید | K2: صندوق سرمایه‌گذاری اختصاصی بازارگردانی مفید | L2: صندوق سرمایه‌گذاری اختصاصی بازارگردانی مفید | M2: صندوق سرمایه‌گذاری اختصاصی بازارگردانی مفید | N2: صندوق سرمایه‌گذاری اختصاصی بازارگردانی مفید | O2: صندوق سرمایه‌گذاری اختصاصی بازارگردانی مفید | P2: صندوق سرمایه‌گذاری اختصاصی بازارگردانی مفید | Q2: صندوق سرمایه‌گذاری اختصاصی بازارگردانی مفید | R2: صندوق سرمایه‌گذاری اختصاصی بازارگردانی مفید | S2: صندوق سرمایه‌گذاری اختصاصی بازارگردانی مفید | T2: صندوق سرمایه‌گذاری اختصاصی بازارگردانی مفید | U2: صندوق سرمایه‌گذاری اختصاصی بازارگردانی مفید | V2: صندوق سرمایه‌گذاری اختصاصی بازارگردانی مفید | W2: صندوق سرمایه‌گذاری اختصاصی بازارگردانی مفید | X2: صندوق سرمایه‌گذاری اختصاصی بازارگردانی مفید | Y2: صندوق سرمایه‌گذاری اختصاصی بازارگردانی مفید
A3: صورت وضعیت پورتفوی | B3: صورت وضعیت پورتفوی | C3: صورت وضعیت پورتفوی | D3: صورت وضعیت پورتفوی | E3: صورت وضعیت پورتفوی | F3: صورت وضعیت پورتفوی | G3: صورت وضعیت پورتفوی | H3: صورت وضعیت پورتفوی | I3: صورت وضعیت پورتفوی | J3: صورت وضعیت پورتفوی | K3: صورت وضعیت پورتفوی | L3: صورت وضعیت پورتفوی | M3: صورت وضعیت پورتفوی | N3: صورت وضعیت پورتفوی | O3: صورت وضعیت پورتفوی | P3: صورت وضعیت پورتفوی | Q3: صورت وضعیت پورتفوی | R3: صورت وضعیت پورتفوی | S3: صورت وضعیت پورتفوی | T3: صورت وضعیت پورتفوی | U3: صورت وضعیت پورتفوی | V3: صورت وضعیت پورتفوی | W3: صورت وضعیت پورتفوی | X3: صورت وضعیت پورتفوی | Y3: صورت وضعیت پورتفوی
A4: برای ماه منتهی به 1405/06/31 | B4: برای ماه منتهی به 1405/06/31 | C4: برای ماه منتهی به 1405/06/31 | D4: برای ماه منتهی به 1405/06/31 | E4: برای ماه منتهی به 1405/06/31 | F4: برای ماه منتهی به 1405/06/31 | G4: برای ماه منتهی به 1405/06/31 | H4: برای ماه منتهی به 1405/06/31 | I4: برای ماه منتهی به 1405/06/31 | J4: برای ماه منتهی به 1405/06/31 | K4: برای ماه منتهی به 1405/06/31 | L4: برای ماه منتهی به 1405/06/31 | M4: برای ماه منتهی به 1405/06/31 | N4: برای ماه منتهی به 1405/06/31 | O4: برای ماه منتهی به 1405/06/31 | P4: برای ماه منتهی به 1405/06/31 | Q4: برای ماه منتهی به 1405/06/31 | R4: برای ماه منتهی به 1405/06/31 | S4: برای ماه منتهی به 1405/06/31 | T4: برای ماه منتهی به 1405/06/31 | U4: برای ماه منتهی به 1405/06/31 | V4: برای ماه منتهی به 1405/06/31 | W4: برای ماه منتهی به 1405/06/31 | X4: برای ماه منتهی به 1405/06/31 | Y4: برای ماه منتهی به 1405/06/31
A6: 2-1-سرمایه‌گذاری در واحدهای صندوق های سرمایه گذاری
A7: نام شرکت | C7: 1405/06/01 | D7: 1405/05/31 | E7: 1405/05/31 | F7: 1405/05/31 | G7: 1405/05/31 | I7: تغییرات طی دوره | J7: تغییرات طی دوره | K7: تغییرات طی دوره | L7: تغییرات طی دوره | M7: تغییرات طی دوره | N7: تغییرات طی دوره | O7: تغییرات طی دوره | Q7: 1405/06/31 | R7: 1405/06/31 | S7: 1405/06/31 | T7: 1405/06/31 | U7: 1405/06/31 | V7: 1405/06/31 | W7: 1405/06/31 | X7: 1405/06/31 | Y7: 1405/06/31
A8: نام شرکت | C8: تعداد | E8: بهای تمام شده | G8: خالص ارزش فروش | I8: خرید طی دوره | J8: خرید طی دوره | K8: خرید طی دوره | M8: فروش طی دوره | N8: فروش طی دوره | O8: فروش طی دوره | Q8: تعداد | S8: قیمت بازار | U8: بهای تمام شده | W8: خالص ارزش فروش | Y8: درصد به کل دارایی‌های صندوق
A9: نام شرکت | C9: تعداد | E9: بهای تمام شده | G9: خالص ارزش فروش | I9: تعداد | K9: بهای تمام شده | M9: تعداد | O9: مبلغ فروش | Q9: تعداد | S9: قیمت بازار | U9: بهای تمام شده | W9: خالص ارزش فروش | Y9: درصد به کل دارایی‌های صندوق
A10: صندوق طلای عیار مفید | C10: 42683086 | E10: 21637029325799 | G10: 25155924176758 | I10: 289816918 | K10: 185541420534642 | M10: -264154762 | O10: 169466144276441 | Q10: 68345242 | S10: 661114 | U10: 44475355085281 | W10: 45156885921796 | Y10: 0.29441276
A11: صندوق س توسعه فولاد- ثابت | C11: 131818000 | E11: 3069179683646 | G11: 3121221590969 | I11: 171710000 | K11: 4135276722183 | M11: -232400000 | O11: 5605095576430 | Q11: 71128000 | S11: 24367 | U11: 1706896252825 | W11: 1732536867359 | Y11: 0.011295752
A12: صندوق س.توسعه اندوخته آینده-س | C12: 26549492 | E12: 3561031920663 | G12: 3789766053561 | I12: 100561036 | K12: 15292066102597 | M12: -84596094 | O12: 13072259892606 | Q12: 42514434 | S12: 154380 | U12: 6585690448336 | W12: 6561606208773 | Y12: 0.0427802
A13: صندوق ارمغان فیروزه آسیا-ثابت | C13: 200000 | E13: 17615294351 | G13: 17777642076 | I13: 18000000 | K13: 1628750837426 | M13: -13000000 | O13: 1179919022461 | Q13: 5200000 | S13: 91572 | U13: 473252979675 | W13: 475998810690 | Y13: 0.0031034054
A14: صندوق س شاخصی آرام مفید | C14: 61059971 | E14: 2048185379400 | G14: 2379047733416 | I14: 62693753 | K14: 2783324928849 | M14: -70714976 | O14: 3180446253381 | Q14: 53038748 | S14: 46391 | U14: 2218391555067 | W14: 2459856217917 | Y14: 0.016037711
A15: صندوق س. آوند مفید-د | C15: 250495956 | E15: 7389264799797 | G15: 7391812255625 | I15: 6756018451 | K15: 203028755138157 | M15: -6886673631 | O15: 206856781116809 | Q15: 119840776 | S15: 30340 | U15: 3636308842558 | W15: 3635810070190 | Y15: 0.023704666
A16: صندوق س صنایع مفید1- بخشی | C16: 107973180 | E16: 2353898962376 | G16: 3220402108720 | I16: 91316227 | K16: 3352893348255 | M16: -120952192 | O16: 4495559269952 | Q16: 78337215 | S16: 36484 | U16: 2520808284216 | W16: 2857283277223 | Y16: 0.018628846
A17: صندوق س. آرمان آتی کوثر-د | C17: 1545000 | E17: 184513176546 | G17: 187382637164 | I17: 17201000 | K17: 2129572188171 | M17: -6216000 | O17: 774764836231 | Q17: 12530000 | S17: 124873 | U17: 1547218760550 | W17: 1564081722108 | Y17: 0.010197462
A18: صندوق س صنایع مفید2-بخشی | C18: 137424070 | E18: 1692056329405 | G18: 1918746360188 | I18: 112369060 | K18: 1746127868217 | M18: -112857655 | O18: 1758605515725 | Q18: 136935475 | S18: 15381 | U18: 1947037430237 | W18: 2105635865749 | Y18: 0.013728273
A19: صندوق س صنایع مفید3- بخشی | C19: 127871505 | E19: 4542842003705 | G19: 4779057648867 | I19: 133113875 | K19: 5398871349591 | M19: -123127605 | O19: 4969261365425 | Q19: 137857775 | S19: 39875 | U19: 5387887221423 | W19: 5495594566855 | Y19: 0.035830043
A20: ص.س.درآمد ثابت کیمیا-د | C20: 419517 | E20: 10012837607 | G20: 10140180489 | I20: 0 | K20: 0 | M20: -419000 | O20: 10164961290 | Q20: 517 | S20: 24888 | U20: 12339517 | W20: 12862351 | Y20: 8.3859642e-08
A21: صندوق س. اهرمی توان مفید-س | C21: 149301183 | E21: 6285792730277 | G21: 8009487635252 | I21: 77567731 | K21: 4708438502729 | M21: -66866165 | O21: 3927269497714 | Q21: 160002749 | S21: 64674 | U21: 7955161469799 | W21: 10345223824023 | Y21: 0.067448538
... A36: صندوق س.درآمد ثابت کارآمد-د | C36: 0 | E36: 0 | G36: 0 | I36: 74800000 | K36: 1357845025518 | M36: -74800000 | O36: 1365882840001 | Q36: 0 | S36: 0 | U36: 0 | W36: 0 | Y36: 0
E37: =SUM(E10:E36) -> 64063104180722 | G37: =SUM(G10:G36) -> 72550173372038 | K37: =SUM(K10:K36) -> 464945785864516 | O37: =SUM(O10:O36) -> 446841772105633 | U37: =SUM(U10:U36) -> 95319438956379 | W37: =SUM(W10:W36) -> 100198793465269 | Y37: =SUM(Y10:Y36) -> 0.65327365

Sheet اوراق مشارکت
A2: صندوق سرمایه‌گذاری اختصاصی بازارگردانی مفید | B2: صندوق سرمایه‌گذاری اختصاصی بازارگردانی مفید | C2: صندوق سرمایه‌گذاری اختصاصی بازارگردانی مفید | D2: صندوق سرمایه‌گذاری اختصاصی بازارگردانی مفید | E2: صندوق سرمایه‌گذاری اختصاصی بازارگردانی مفید | F2: صندوق سرمایه‌گذاری اختصاصی بازارگردانی مفید | G2: صندوق سرمایه‌گذاری اختصاصی بازارگردانی مفید | H2: صندوق سرمایه‌گذاری اختصاصی بازارگردانی مفید | I2: صندوق سرمایه‌گذاری اختصاصی بازارگردانی مفید | J2: صندوق سرمایه‌گذاری اختصاصی بازارگردانی مفید | K2: صندوق سرمایه‌گذاری اختصاصی بازارگردانی مفید | L2: صندوق سرمایه‌گذاری اختصاصی بازارگردانی مفید | M2: صندوق سرمایه‌گذاری اختصاصی بازارگردانی مفید | N2: صندوق سرمایه‌گذاری اختصاصی بازارگردانی مفید | O2: صندوق سرمایه‌گذاری اختصاصی بازارگردانی مفید | P2: صندوق سرمایه‌گذاری اختصاصی بازارگردانی مفید | Q2: صندوق سرمایه‌گذاری اختصاصی بازارگردانی مفید | R2: صندوق سرمایه‌گذاری اختصاصی بازارگردانی مفید | S2: صندوق سرمایه‌گذاری اختصاصی بازارگردانی مفید | T2: صندوق سرمایه‌گذاری اختصاصی بازارگردانی مفید | U2: صندوق سرمایه‌گذاری اختصاصی بازارگردانی مفید | V2: صندوق سرمایه‌گذاری اختصاصی بازارگردانی مفید | W2: صندوق سرمایه‌گذاری اختصاصی بازارگردانی مفید | X2: صندوق سرمایه‌گذاری اختصاصی بازارگردانی مفید | Y2: صندوق سرمایه‌گذاری اختصاصی بازارگردانی مفید
A3: صورت وضعیت پورتفوی | B3: صورت وضعیت پورتفوی | C3: صورت وضعیت پورتفوی | D3: صورت وضعیت پورتفوی | E3: صورت وضعیت پورتفوی | F3: صورت وضعیت پورتفوی | G3: صورت وضعیت پورتفوی | H3: صورت وضعیت پورتفوی | I3: صورت وضعیت پورتفوی | J3: صورت وضعیت پورتفوی | K3: صورت وضعیت پورتفوی | L3: صورت وضعیت پورتفوی | M3: صورت وضعیت پورتفوی | N3: صورت وضعیت پورتفوی | O3: صورت وضعیت پورتفوی | P3: صورت وضعیت پورتفوی | Q3: صورت وضعیت پورتفوی | R3: صورت وضعیت پورتفوی | S3: صورت وضعیت پورتفوی | T3: صورت وضعیت پورتفوی | U3: صورت وضعیت پورتفوی | V3: صورت وضعیت پورتفوی | W3: صورت وضعیت پورتفوی | X3: صورت وضعیت پورتفوی | Y3: صورت وضعیت پورتفوی
A4: برای ماه منتهی به 1405/06/31 | B4: برای ماه منتهی به 1405/06/31 | C4: برای ماه منتهی به 1405/06/31 | D4: برای ماه منتهی به 1405/06/31 | E4: برای ماه منتهی به 1405/06/31 | F4: برای ماه منتهی به 1405/06/31 | G4: برای ماه منتهی به 1405/06/31 | H4: برای ماه منتهی به 1405/06/31 | I4: برای ماه منتهی به 1405/06/31 | J4: برای ماه منتهی به 1405/06/31 | K4: برای ماه منتهی به 1405/06/31 | L4: برای ماه منتهی به 1405/06/31 | M4: برای ماه منتهی به 1405/06/31 | N4: برای ماه منتهی به 1405/06/31 | O4: برای ماه منتهی به 1405/06/31 | P4: برای ماه منتهی به 1405/06/31 | Q4: برای ماه منتهی به 1405/06/31 | R4: برای ماه منتهی به 1405/06/31 | S4: برای ماه منتهی به 1405/06/31 | T4: برای ماه منتهی به 1405/06/31 | U4: برای ماه منتهی به 1405/06/31 | V4: برای ماه منتهی به 1405/06/31 | W4: برای ماه منتهی به 1405/06/31 | X4: برای ماه منتهی به 1405/06/31 | Y4: برای ماه منتهی به 1405/06/31
A5: 3-1-سرمایه‌گذاری در اوراق بهادار با درآمد ثابت یا علی‌الحساب
A6: اطلاعات اوراق بهادار با درآمد ثابت | B6: اطلاعات اوراق بهادار با درآمد ثابت | C6: 1405/06/01 | D6: 1405/05/31 | E6: 1405/05/31 | F6: 1405/05/31 | G6: 1405/05/31 | I6: تغییرات طی دوره | J6: تغییرات طی دوره | K6: تغییرات طی دوره | L6: تغییرات طی دوره | M6: تغییرات طی دوره | N6: تغییرات طی دوره | O6: تغییرات طی دوره | Q6: 1405/06/31 | R6: 1405/06/31 | S6: 1405/06/31 | T6: 1405/06/31 | U6: 1405/06/31 | V6: 1405/06/31 | W6: 1405/06/31 | X6: 1405/06/31 | Y6: 1405/06/31
A7: نام اوراق | C7: تعداد | E7: بهای تمام شده | G7: خالص ارزش فروش | I7: خرید طی دوره | J7: خرید طی دوره | K7: خرید طی دوره | M7: فروش طی دوره | N7: فروش طی دوره | O7: فروش طی دوره | Q7: تعداد | S7: قیمت بازار هر ورقه | U7: بهای تمام شده | W7: خالص ارزش فروش | Y7: درصد به کل دارایی‌های صندوق
A8: نام اوراق | C8: تعداد | E8: بهای تمام شده | G8: خالص ارزش فروش | I8: تعداد | K8: بهای تمام شده | M8: تعداد | O8: مبلغ فروش | Q8: تعداد | S8: قیمت بازار هر ورقه | U8: بهای تمام شده | W8: خالص ارزش فروش | Y8: درصد به کل دارایی‌های صندوق
A9: سلف موازی میلگرد تبریز | C9: 10619 | E9: 31141143001 | G9: 44406950186 | I9: 0 | K9: 0 | M9: 0 | O9: 0 | Q9: =C9+I9-M9 -> 10619 | S9: 4252758 | U9: 31141143001 | W9: 45143669918 | Y9: 0.0002943266
A10: سلف استاندارد خودروی کرمان | C10: 64800 | E10: 99976334535 | G10: 141016936601 | I10: 0 | K10: 0 | M10: 0 | O10: 0 | Q10: =C10+I10-M10 -> 64800 | S10: 2212349 | U10: 99976334535 | W10: 143308266911 | Y10: 0.00093433774
A11: سلف شیرفرادما سولیکو | C11: 4649 | E11: 26480549550 | G11: 27512103246 | I11: 0 | K11: 0 | M11: 4649 | O11: 27489707839 | Q11: =C11+I11-M11 -> 0 | S11: 0 | U11: 0 | W11: 0 | Y11: 0
A12: سلف موازی هیدروکربن آفتاب054 | C12: 14500 | E12: 60180307000 | G12: 81183547195 | I12: 0 | K12: 0 | M12: 0 | O12: 0 | Q12: =C12+I12-M12 -> 14500 | S12: 5686058 | U12: 60180307000 | W12: 82417966417 | Y12: 0.00053734665
A13: صکوک مرابحه دعبید69-3ماهه23% | C13: 9179 | E13: 9158200339 | G13: 9085158141 | I13: 0 | K13: 0 | M13: 0 | O13: 0 | Q13: =C13+I13-M13 -> 9179 | S13: 989920 | U13: 9158200339 | W13: 9085158141 | Y13: 5.9233192e-05
A14: مرابحه شهر فرش-مفید060921 | C14: 20000 | E14: 20000000000 | G14: 18397332000 | I14: 0 | K14: 0 | M14: 0 | O14: 0 | Q14: =C14+I14-M14 -> 20000 | S14: 920000 | U14: 20000000000 | W14: 18397332000 | Y14: 0.00011994648
A15: مرابحه اورند پیشرو-مفید051118 | C15: 5000 | E15: 5000000000 | G15: 4996375000 | I15: 0 | K15: 0 | M15: 0 | O15: 0 | Q15: =C15+I15-M15 -> 5000 | S15: 1000000 | U15: 5000000000 | W15: 4996375000 | Y15: 3.2575244e-05
A16: اجاره اهداف مفید 14070531 | C16: 200000 | E16: 200000000000 | G16: 199855000000 | I16: 0 | K16: 0 | M16: 0 | O16: 0 | Q16: =C16+I16-M16 -> 200000 | S16: 1000000 | U16: 200000000000 | W16: 199855000000 | Y16: 0.0013030098
A17: مرابحه طبیعت سبز-مفید060920 | C17: 5000 | E17: 5000725000 | G17: 4999275000 | I17: 0 | K17: 0 | M17: 0 | O17: 0 | Q17: =C17+I17-M17 -> 5000 | S17: 1000000 | U17: 5000725000 | W17: 4999275000 | Y17: 3.2594151e-05
A18: مشارکت ش قم0612-3 ماهه 20.5% | C18: 3053 | E18: 3053442685 | G18: 3083079835 | I18: 0 | K18: 0 | M18: 0 | O18: 0 | Q18: =C18+I18-M18 -> 3053 | S18: 1009999 | U18: 3053442685 | W18: 3083079835 | Y18: 2.0100989e-05
A19: صکوک مرابحه پاکشو603-3ماهه23% | C19: 10000 | E19: 10001420293 | G19: 9899564355 | I19: 0 | K19: 0 | M19: 0 | O19: 0 | Q19: =C19+I19-M19 -> 10000 | S19: 990100 | U19: 10001420293 | W19: 9899564355 | Y19: 6.4542938e-05
A20: مرابحه طبیعت سبز-مفید070311 | C20: 100000 | E20: 100000000000 | G20: 99927500000 | I20: 0 | K20: 0 | M20: 0 | O20: 0 | Q20: =C20+I20-M20 -> 100000 | S20: 1000000 | U20: 100000000000 | W20: 99927500000 | Y20: 0.00065150488
... A24: صکوک مرابحه گل گهر760-3ماهه23% | C24: 0 | E24: 0 | G24: 0 | I24: 399950 | K24: 399950000000 | M24: 16 | O24: 16148286 | Q24: =C24+I24-M24 -> 399934 | S24: 1010000 | U24: 399934000000 | W24: 403640488328 | Y24: 0.0026316454
E25: =SUM(E9:E24) -> 1469335156911 | G25: =SUM(G9:G24) -> 1535206944777 | K25: =SUM(K9:K24) -> 399950000000 | O25: =SUM(O9:O24) -> 27505856125 | U25: =SUM(U9:U24) -> 1842788607361 | W25: =SUM(W9:W24) -> 1915597799123 | Y25: =SUM(Y9:Y24) -> 0.012489268

Sheet سپرده 
A2: صندوق سرمایه‌گذاری اختصاصی بازارگردانی مفید | B2: صندوق سرمایه‌گذاری اختصاصی بازارگردانی مفید | C2: صندوق سرمایه‌گذاری اختصاصی بازارگردانی مفید | D2: صندوق سرمایه‌گذاری اختصاصی بازارگردانی مفید | E2: صندوق سرمایه‌گذاری اختصاصی بازارگردانی مفید | F2: صندوق سرمایه‌گذاری اختصاصی بازارگردانی مفید | G2: صندوق سرمایه‌گذاری اختصاصی بازارگردانی مفید | H2: صندوق سرمایه‌گذاری اختصاصی بازارگردانی مفید | I2: صندوق سرمایه‌گذاری اختصاصی بازارگردانی مفید | J2: صندوق سرمایه‌گذاری اختصاصی بازارگردانی مفید | K2: صندوق سرمایه‌گذاری اختصاصی بازارگردانی مفید
A3: صورت وضعیت پورتفوی | B3: صورت وضعیت پورتفوی | C3: صورت وضعیت پورتفوی | D3: صورت وضعیت پورتفوی | E3: صورت وضعیت پورتفوی | F3: صورت وضعیت پورتفوی | G3: صورت وضعیت پورتفوی | H3: صورت وضعیت پورتفوی | I3: صورت وضعیت پورتفوی | J3: صورت وضعیت پورتفوی | K3: صورت وضعیت پورتفوی
A4: برای ماه منتهی به 1405/06/31 | B4: برای ماه منتهی به 1405/06/31 | C4: برای ماه منتهی به 1405/06/31 | D4: برای ماه منتهی به 1405/06/31 | E4: برای ماه منتهی به 1405/06/31 | F4: برای ماه منتهی به 1405/06/31 | G4: برای ماه منتهی به 1405/06/31 | H4: برای ماه منتهی به 1405/06/31 | I4: برای ماه منتهی به 1405/06/31 | J4: برای ماه منتهی به 1405/06/31 | K4: برای ماه منتهی به 1405/06/31
A5: 4-1- سرمایه‌گذاری در سپرده‌ بانکی
A6: سپرده | C6: 1405/06/01 | E6: تغییرات طی دوره | F6: تغییرات طی دوره | G6: تغییرات طی دوره | I6: 1405/06/31 | J6: 1405/06/31 | K6: 1405/06/31
A7: سپرده | C7: مبلغ | E7: افزایش | G7: کاهش | I7: مبلغ | K7: درصد به کل دارایی‌ها
A8: بانک پاسارگاد هفت تیر | C8: 2527850 | E8: 10689 | G8: 0 | I8: =C8+E8-G8 -> 2538539 | K8: 1.6550705e-08
A9: بانک خاورمیانه ظفر | C9: 240269843429 | E9: 1358179000000 | G9: 1397793518363 | I9: =C9+E9-G9 -> 200655325066 | K9: 0.0013082277
A10: بانک پاسارگاد هفت تیر | C10: 11456147 | E10: 48444 | G10: 0 | I10: =C10+E10-G10 -> 11504591 | K10: 7.5007352e-08
A11: بانک پاسارگاد هفت تیر | C11: 11542996 | E11: 48811 | G11: 0 | I11: =C11+E11-G11 -> 11591807 | K11: 7.5575981e-08
A12: بانک پاسارگاد هفت تیر | C12: 12347966 | E12: 52215 | G12: 0 | I12: =C12+E12-G12 -> 12400181 | K12: 8.0846398e-08
A13: بانک خاورمیانه آفریقا | C13: 12519193559 | E13: 950294948417 | G13: 961333689908 | I13: =C13+E13-G13 -> 1480452068 | K13: 9.6522153e-06
A14: بانک خاورمیانه آفریقا | C14: 4141788400958 | E14: 193144409305895 | G14: 197209836742743 | I14: =C14+E14-G14 -> 76360964110 | K14: 0.00049785635
A15: بانک خاورمیانه آفریقا | C15: 2396724284 | E15: 5355515397839 | G15: 5356600408173 | I15: =C15+E15-G15 -> 1311713950 | K15: 8.5520806e-06
A16: بانک خاورمیانه آفریقا | C16: 1022561030 | E16: 75515356001402 | G16: 75515395209062 | I16: =C16+E16-G16 -> 983353370 | K16: 6.4112433e-06
A17: بانک خاورمیانه آفریقا | C17: 334597541 | E17: 2353769781233 | G17: 2353584311182 | I17: =C17+E17-G17 -> 520067592 | K17: 3.390724e-06
A18: بانک خاورمیانه آفریقا | C18: 1100208499 | E18: 14608602978 | G18: 256002116 | I18: =C18+E18-G18 -> 15452809361 | K18: 0.00010074885
A19: بانک خاورمیانه آفریقا | C19: 9866583692 | E19: 4322327816 | G19: 11005486185 | I19: =C19+E19-G19 -> 3183425323 | K19: 2.0755219e-05
... A89: بانک خاورمیانه آفریقا | C89: 263849560831 | E89: 8570810328 | G89: 272420371159 | I89: =C89+E89-G89 -> 0 | K89: 0
A90: بانک خاورمیانه آفریقا | C90: 157500143398 | E90: =1596707624+3506644972 -> 5103352596 | G90: 162603495994 | I90: =C90+E90-G90 -> 0 | K90: 0
A91: بانک خاورمیانه آفریقا | C91: 179105948287 | E91: 6043017611 | G91: 185148965898 | I91: =C91+E91-G91 -> 0 | K91: 0
A92: بانک تجارت حافظ جنوبی | C92: 0 | E92: 400000000000 | G92: 0 | I92: =C92+E92-G92 -> 400000000000 | K92: 0.0026079102
C93: =SUM(C8:C92) -> 12056831467698 | E93: =SUM(E8:E92) -> 297180912554828 | G93: =SUM(G8:G92) -> 301043988479295 | I93: =SUM(I8:I92) -> 8193755543231 | K93: =SUM(K8:K92) -> 0.053421448

Sheet  درآمدها
A2: صندوق سرمایه‌گذاری اختصاصی بازارگردانی مفید | B2: صندوق سرمایه‌گذاری اختصاصی بازارگردانی مفید | E2: صندوق سرمایه‌گذاری اختصاصی بازارگردانی مفید | F2: صندوق سرمایه‌گذاری اختصاصی بازارگردانی مفید | G2: صندوق سرمایه‌گذاری اختصاصی بازارگردانی مفید | H2: صندوق سرمایه‌گذاری اختصاصی بازارگردانی مفید | I2: صندوق سرمایه‌گذاری اختصاصی بازارگردانی مفید
A3: صورت وضعیت درآمدها | B3: صورت وضعیت درآمدها | E3: صورت وضعیت درآمدها | F3: صورت وضعیت درآمدها | G3: صورت وضعیت درآمدها | H3: صورت وضعیت درآمدها | I3: صورت وضعیت درآمدها
A4: برای ماه منتهی به 1405/06/31 | B4: برای ماه منتهی به 1405/06/31 | E4: برای ماه منتهی به 1405/06/31 | F4: برای ماه منتهی به 1405/06/31 | G4: برای ماه منتهی به 1405/06/31 | H4: برای ماه منتهی به 1405/06/31 | I4: برای ماه منتهی به 1405/06/31
A6: توضیحات | C6: یادداشت | E6: مبلغ | G6: درصد از کل درآمدها | I6: درصد به کل دارایی‌های صندوق
A7: درآمد حاصل از سرمایه گذاری در سهام و حق تقدم سهام | C7: 1-2 | E7: ='سرمایه‌گذاری در سهام'!$I$14 -> 1377660481768 | G7: =E7/$E$12 -> 0.11138593 | I7: 0.0089820372
A8: درآمد حاصل از سرمایه گذاری در واحدهای صندوق های سرمایه گذاری | C8: 2-2 | E8: ='سرمایه‌گذاری در صندوق '!$I$38 -> 9544643988025 | G8: =E8/$E$12 -> 0.77169887 | I8: 0.062228937
A9: سرمایه‌گذاری در اوراق بهادار | C9: 3-2 | E9: ='سرمایه‌گذاری در اوراق بهادار'!$I$24 -> 37328491361 | G9: =E9/$E$12 -> 0.0030180649 | I9: 0.00024337339
A10: درآمد حاصل از سرمایه گذاری در سپرده بانکی و گواهی سپرده | C10: 4-2 | E10: ='سود سپرده بانکی'!$G$106 -> 204312196145 | G10: =E10/$E$12 -> 0.016518949 | I10: 0.0013320697
A11: سایر درآمدها | C11: 5-2 | E11: ='سایر درآمدها'!$C$11 -> 1204407747524 | G11: =E11/$E$12 -> 0.097378184 | I11: 0.0078524683
E12: =SUM(E7:E11) -> 12368352904823 | G12: =SUM(G7:G11) -> 1 | I12: =SUM(I7:I11) -> 0.080638886

Sheet سرمایه‌گذاری در سهام
A2: صندوق سرمایه‌گذاری اختصاصی بازارگردانی مفید | B2: صندوق سرمایه‌گذاری اختصاصی بازارگردانی مفید | C2: صندوق سرمایه‌گذاری اختصاصی بازارگردانی مفید | D2: صندوق سرمایه‌گذاری اختصاصی بازارگردانی مفید | E2: صندوق سرمایه‌گذاری اختصاصی بازارگردانی مفید | F2: صندوق سرمایه‌گذاری اختصاصی بازارگردانی مفید | G2: صندوق سرمایه‌گذاری اختصاصی بازارگردانی مفید | H2: صندوق سرمایه‌گذاری اختصاصی بازارگردانی مفید | I2: صندوق سرمایه‌گذاری اختصاصی بازارگردانی مفید | J2: صندوق سرمایه‌گذاری اختصاصی بازارگردانی مفید | K2: صندوق سرمایه‌گذاری اختصاصی بازارگردانی مفید | L2: صندوق سرمایه‌گذاری اختصاصی بازارگردانی مفید | M2: صندوق سرمایه‌گذاری اختصاصی بازارگردانی مفید | N2: صندوق سرمایه‌گذاری اختصاصی بازارگردانی مفید | O2: صندوق سرمایه‌گذاری اختصاصی بازارگردانی مفید | P2: صندوق سرمایه‌گذاری اختصاصی بازارگردانی مفید | Q2: صندوق سرمایه‌گذاری اختصاصی بازارگردانی مفید | R2: صندوق سرمایه‌گذاری اختصاصی بازارگردانی مفید | S2: صندوق سرمایه‌گذاری اختصاصی بازارگردانی مفید | T2: صندوق سرمایه‌گذاری اختصاصی بازارگردانی مفید | U2: صندوق سرمایه‌گذاری اختصاصی بازارگردانی مفید
A3: صورت وضعیت درآمدها | B3: صورت وضعیت درآمدها | C3: صورت وضعیت درآمدها | D3: صورت وضعیت درآمدها | E3: صورت وضعیت درآمدها | F3: صورت وضعیت درآمدها | G3: صورت وضعیت درآمدها | H3: صورت وضعیت درآمدها | I3: صورت وضعیت درآمدها | J3: صورت وضعیت درآمدها | K3: صورت وضعیت درآمدها | L3: صورت وضعیت درآمدها | M3: صورت وضعیت درآمدها | N3: صورت وضعیت درآمدها | O3: صورت وضعیت درآمدها | P3: صورت وضعیت درآمدها | Q3: صورت وضعیت درآمدها | R3: صورت وضعیت درآمدها | S3: صورت وضعیت درآمدها | T3: صورت وضعیت درآمدها | U3: صورت وضعیت درآمدها
A4: برای ماه منتهی به 1405/06/31 | B4: برای ماه منتهی به 1405/06/31 | C4: برای ماه منتهی به 1405/06/31 | D4: برای ماه منتهی به 1405/06/31 | E4: برای ماه منتهی به 1405/06/31 | F4: برای ماه منتهی به 1405/06/31 | G4: برای ماه منتهی به 1405/06/31 | H4: برای ماه منتهی به 1405/06/31 | I4: برای ماه منتهی به 1405/06/31 | J4: برای ماه منتهی به 1405/06/31 | K4: برای ماه منتهی به 1405/06/31 | L4: برای ماه منتهی به 1405/06/31 | M4: برای ماه منتهی به 1405/06/31 | N4: برای ماه منتهی به 1405/06/31 | O4: برای ماه منتهی به 1405/06/31 | P4: برای ماه منتهی به 1405/06/31 | Q4: برای ماه منتهی به 1405/06/31 | R4: برای ماه منتهی به 1405/06/31 | S4: برای ماه منتهی به 1405/06/31 | T4: برای ماه منتهی به 1405/06/31 | U4: برای ماه منتهی به 1405/06/31
A5: 1-2-درآمد حاصل از سرمایه­گذاری در سهام و حق تقدم سهام:
A6: نام شرکت | C6: طی شهریور ماه | D6: طی ماه | E6: طی ماه | F6: طی ماه | G6: طی ماه | H6: طی ماه | I6: طی ماه | J6: طی ماه | K6: طی ماه | M6: از ابتدای سال مالی تا پایان شهریور ماه | N6: از ابتدای سال مالی تا پایان ماه | O6: از ابتدای سال مالی تا پایان ماه | P6: از ابتدای سال مالی تا پایان ماه | Q6: از ابتدای سال مالی تا پایان ماه | R6: از ابتدای سال مالی تا پایان ماه | S6: از ابتدای سال مالی تا پایان ماه | T6: از ابتدای سال مالی تا پایان ماه | U6: از ابتدای سال مالی تا پایان ماه
A7: نام شرکت | C7: درآمد سود سهام | E7: درآمد تغییر ارزش | G7: درآمد فروش | I7: مبلغ | K7: درصد از کل درآمدها | M7: درآمد سود سهام | O7: درآمد تغییر ارزش | Q7: درآمد فروش | S7: مبلغ | U7: درصد از کل درآمدها
A8: بانک خاورمیانه | C8: 0 | E8: -392520456258 | G8: 93321903314 | I8: =C8+E8+G8 -> -299198552944 | K8: =I8/$I$14 -> -0.21717873 | M8: 127544444150 | O8: 685521631581 | Q8: 205623616938 | S8: =M8+O8+Q8 -> 1018689692669 | U8: =S8/$S$14 -> 0.31185991
A9: معدنکاران نسوز | C9: 0 | E9: 435009644765 | G9: -45293300239 | I9: =C9+E9+G9 -> 389716344526 | K9: =I9/$I$14 -> 0.28288272 | M9: 786309070604 | O9: -1519689149403 | Q9: -60857704425 | S9: =M9+O9+Q9 -> -794237783224 | U9: =S9/$S$14 -> -0.24314659
A10: کولان سل | C10: 0 | E10: 355590124164 | G10: 8064396945 | I10: =C10+E10+G10 -> 363654521109 | K10: =I10/$I$14 -> 0.26396527 | M10: 134632552692 | O10: 211624439821 | Q10: 2313973254 | S10: =M10+O10+Q10 -> 348570965767 | U10: =S10/$S$14 -> 0.10671092
A11: مجتمع کاشی و سنگ پرسپولیس یزد | C11: 0 | E11: 803397285368 | G11: 74361629021 | I11: =C11+E11+G11 -> 877758914389 | K11: =I11/$I$14 -> 0.63713733 | M11: 382317999338 | O11: 1922796046228 | Q11: 44093463106 | S11: =M11+O11+Q11 -> 2349207508672 | U11: =S11/$S$14 -> 0.71918234
A12: ح.بیمه زندگی مفید | C12: 0 | E12: -3051865312 | G12: 48781120000 | I12: =C12+E12+G12 -> 45729254688 | K12: =I12/$I$14 -> 0.033193414 | M12: 0 | O12: 130745684267 | Q12: 48781120000 | S12: =M12+O12+Q12 -> 179526804267 | U12: =S12/$S$14 -> 0.054960027
A13: بیمه زندگی مفید | C13: 0 | E13: 0 | G13: 0 | I13: =C13+E13+G13 -> 0 | K13: =I13/$I$14 -> 0 | M13: 9633539612 | O13: 0 | Q13: 155107039875 | S13: =M13+O13+Q13 -> 164740579487 | U13: =S13/$S$14 -> 0.050433397
C14: =SUM(C8:C13) -> 0 | E14: =SUM(E8:E13) -> 1198424732727 | G14: =SUM(G8:G13) -> 179235749041 | I14: =SUM(I8:I13) -> 1377660481768 | K14: =SUM(K8:K13) -> 1 | M14: =SUM(M8:M13) -> 1440437606396 | O14: =SUM(O8:O13) -> 1430998652494 | Q14: =SUM(Q8:Q13) -> 395061508748 | S14: =SUM(S8:S13) -> 3266497767638 | U14: =SUM(U8:U13) -> 1

Sheet سرمایه‌گذاری در صندوق 
A2: صندوق سرمایه‌گذاری اختصاصی بازارگردانی مفید | B2: صندوق سرمایه‌گذاری اختصاصی بازارگردانی مفید | C2: صندوق سرمایه‌گذاری اختصاصی بازارگردانی مفید | D2: صندوق سرمایه‌گذاری اختصاصی بازارگردانی مفید | E2: صندوق سرمایه‌گذاری اختصاصی بازارگردانی مفید | F2: صندوق سرمایه‌گذاری اختصاصی بازارگردانی مفید | G2: صندوق سرمایه‌گذاری اختصاصی بازارگردانی مفید | H2: صندوق سرمایه‌گذاری اختصاصی بازارگردانی مفید | I2: صندوق سرمایه‌گذاری اختصاصی بازارگردانی مفید | J2: صندوق سرمایه‌گذاری اختصاصی بازارگردانی مفید | K2: صندوق سرمایه‌گذاری اختصاصی بازارگردانی مفید | L2: صندوق سرمایه‌گذاری اختصاصی بازارگردانی مفید | M2: صندوق سرمایه‌گذاری اختصاصی بازارگردانی مفید | N2: صندوق سرمایه‌گذاری اختصاصی بازارگردانی مفید | O2: صندوق سرمایه‌گذاری اختصاصی بازارگردانی مفید | P2: صندوق سرمایه‌گذاری اختصاصی بازارگردانی مفید | Q2: صندوق سرمایه‌گذاری اختصاصی بازارگردانی مفید | R2: صندوق سرمایه‌گذاری اختصاصی بازارگردانی مفید | S2: صندوق سرمایه‌گذاری اختصاصی بازارگردانی مفید | T2: صندوق سرمایه‌گذاری اختصاصی بازارگردانی مفید | U2: صندوق سرمایه‌گذاری اختصاصی بازارگردانی مفید
A3: صورت وضعیت درآمدها | B3: صورت وضعیت درآمدها | C3: صورت وضعیت درآمدها | D3: صورت وضعیت درآمدها | E3: صورت وضعیت درآمدها | F3: صورت وضعیت درآمدها | G3: صورت وضعیت درآمدها | H3: صورت وضعیت درآمدها | I3: صورت وضعیت درآمدها | J3: صورت وضعیت درآمدها | K3: صورت وضعیت درآمدها | L3: صورت وضعیت درآمدها | M3: صورت وضعیت درآمدها | N3: صورت وضعیت درآمدها | O3: صورت وضعیت درآمدها | P3: صورت وضعیت درآمدها | Q3: صورت وضعیت درآمدها | R3: صورت وضعیت درآمدها | S3: صورت وضعیت درآمدها | T3: صورت وضعیت درآمدها | U3: صورت وضعیت درآمدها
A4: برای ماه منتهی به 1405/06/31 | B4: برای ماه منتهی به 1405/06/31 | C4: برای ماه منتهی به 1405/06/31 | D4: برای ماه منتهی به 1405/06/31 | E4: برای ماه منتهی به 1405/06/31 | F4: برای ماه منتهی به 1405/06/31 | G4: برای ماه منتهی به 1405/06/31 | H4: برای ماه منتهی به 1405/06/31 | I4: برای ماه منتهی به 1405/06/31 | J4: برای ماه منتهی به 1405/06/31 | K4: برای ماه منتهی به 1405/06/31 | L4: برای ماه منتهی به 1405/06/31 | M4: برای ماه منتهی به 1405/06/31 | N4: برای ماه منتهی به 1405/06/31 | O4: برای ماه منتهی به 1405/06/31 | P4: برای ماه منتهی به 1405/06/31 | Q4: برای ماه منتهی به 1405/06/31 | R4: برای ماه منتهی به 1405/06/31 | S4: برای ماه منتهی به 1405/06/31 | T4: برای ماه منتهی به 1405/06/31 | U4: برای ماه منتهی به 1405/06/31
A5: 2-2-درآمد حاصل از سرمایه­گذاری در واحدهای صندوق:
A6: نام شرکت | C6: طی شهریور ماه | D6: طی ماه | E6: طی ماه | F6: طی ماه | G6: طی ماه | H6: طی ماه | I6: طی ماه | J6: طی ماه | K6: طی ماه | M6: از ابتدای سال مالی تا پایان شهریور ماه | N6: از ابتدای سال مالی تا پایان ماه | O6: از ابتدای سال مالی تا پایان ماه | P6: از ابتدای سال مالی تا پایان ماه | Q6: از ابتدای سال مالی تا پایان ماه | R6: از ابتدای سال مالی تا پایان ماه | S6: از ابتدای سال مالی تا پایان ماه | T6: از ابتدای سال مالی تا پایان ماه | U6: از ابتدای سال مالی تا پایان ماه
A7: نام شرکت | C7: درآمد سود سهام | E7: درآمد تغییر ارزش | G7: درآمد فروش | I7: مبلغ | K7: درصد از کل درآمدها | M7: درآمد سود سهام | O7: درآمد تغییر ارزش | Q7: درآمد فروش | S7: مبلغ | U7: درصد از کل درآمدها
A8: صندوق س صنایع مفید4-بخشی | C8: 0 | E8: 371469036857 | G8: 413411431336 | I8: =C8+E8+G8 -> 784880468193 | K8: =I8/$I$38 -> 0.082232556 | M8: 0 | O8: 500548153666 | Q8: 459030316866 | S8: =M8+O8+Q8 -> 959578470532 | U8: =S8/$S$38 -> 0.041573625
A9: صندوق س صنایع مفید2-بخشی | C9: 0 | E9: -65637191241 | G9: 265004344309 | I9: =C9+E9+G9 -> 199367153068 | K9: =I9/$I$38 -> 0.020887856 | M9: 0 | O9: 156766833860 | Q9: 315101980629 | S9: =M9+O9+Q9 -> 471868814489 | U9: =S9/$S$38 -> 0.020443661
A10: صندوق سرمایه گذاری ماهور-ثابت | C10: 0 | E10: 8622303932 | G10: 7099090865 | I10: =C10+E10+G10 -> 15721394797 | K10: =I10/$I$38 -> 0.0016471431 | M10: 0 | O10: 12821011632 | Q10: 8205696218 | S10: =M10+O10+Q10 -> 21026707850 | U10: =S10/$S$38 -> 0.00091097966
A11: صندوق س. شاخصی هم وزن همسنگ-س | C11: 0 | E11: -92368107517 | G11: 326054342846 | I11: =C11+E11+G11 -> 233686235329 | K11: =I11/$I$38 -> 0.024483494 | M11: 0 | O11: 31248723797 | Q11: 637305623726 | S11: =M11+O11+Q11 -> 668554347523 | U11: =S11/$S$38 -> 0.028965039
A12: صندوق س. آوند مفید-د | C12: 0 | E12: -3465407292 | G12: 75489200509 | I12: =C12+E12+G12 -> 72023793217 | K12: =I12/$I$38 -> 0.0075459905 | M12: 0 | O12: -498772369 | Q12: 226832432605 | S12: =M12+O12+Q12 -> 226333660236 | U12: =S12/$S$38 -> 0.0098058793
A13: صندوق س.درآمد ثابت پاسارگاد-د | C13: 0 | E13: 0 | G13: 100769717 | I13: =C13+E13+G13 -> 100769717 | K13: =I13/$I$38 -> 1.0557724e-05 | M13: 0 | O13: 0 | Q13: 15492929611 | S13: =M13+O13+Q13 -> 15492929611 | U13: =S13/$S$38 -> 0.00067122936
A14: صندوق س نگین سامان-ثابت | C14: 0 | E14: 683099260 | G14: 17964066418 | I14: =C14+E14+G14 -> 18647165678 | K14: =I14/$I$38 -> 0.0019536785 | M14: 0 | O14: 974628214 | Q14: 44540446794 | S14: =M14+O14+Q14 -> 45515075008 | U14: =S14/$S$38 -> 0.0019719353
A15: صندوق س. اهرمی توان مفید-س | C15: 0 | E15: 994295687339 | G15: 560271496417 | I15: =C15+E15+G15 -> 1554567183756 | K15: =I15/$I$38 -> 0.16287325 | M15: 0 | O15: 1786035957582 | Q15: 446648362461 | S15: =M15+O15+Q15 -> 2232684320043 | U15: =S15/$S$38 -> 0.096730787
A16: صندوق س. آرمان آتی کوثر-د | C16: 0 | E16: 13993500941 | G16: 7898232064 | I16: =C16+E16+G16 -> 21891733005 | K16: =I16/$I$38 -> 0.0022936144 | M16: 0 | O16: 16862961558 | Q16: 13329731741 | S16: =M16+O16+Q16 -> 30192693299 | U16: =S16/$S$38 -> 0.0013080949
A17: صندوق س صنایع مفید3- بخشی | C17: 0 | E17: -81530165385 | G17: 368457099206 | I17: =C17+E17+G17 -> 286926933821 | K17: =I17/$I$38 -> 0.030061565 | M17: 0 | O17: 78814709973 | Q17: 172231412900 | S17: =M17+O17+Q17 -> 251046122873 | U17: =S17/$S$38 -> 0.010876544
A18: صندوق س یاقوت آگاه-ثابت | C18: 0 | E18: 9943744805 | G18: -1812818233 | I18: =C18+E18+G18 -> 8130926572 | K18: =I18/$I$38 -> 0.00085188369 | M18: 0 | O18: 2614552362 | Q18: 16258864060 | S18: =M18+O18+Q18 -> 18873416422 | U18: =S18/$S$38 -> 0.00081768856
A19: صندوق س. با درآمد ثابت کیان | C19: 0 | E19: 5913627327 | G19: 6374165839 | I19: =C19+E19+G19 -> 12287793166 | K19: =I19/$I$38 -> 0.0012874019 | M19: 0 | O19: 13086826328 | Q19: 13176781135 | S19: =M19+O19+Q19 -> 26263607463 | U19: =S19/$S$38 -> 0.0011378677
... A37: صندوق تداوم اطمینان تمدن-ثابت | C37: 0 | E37: 0 | G37: 0 | I37: =C37+E37+G37 -> 0 | K37: =I37/$I$38 -> 0 | M37: 0 | O37: 0 | Q37: 142816848090 | S37: =M37+O37+Q37 -> 142816848090 | U37: =S37/$S$38 -> 0.0061875232
C38: =SUM(C8:C37) -> 0 | E38: =SUM(E8:E37) -> -3016091206815 | G38: =SUM(G8:G37) -> 12560735194840 | I38: =SUM(I8:I37) -> 9544643988025 | K38: =SUM(K8:K37) -> 1 | M38: =SUM(M8:M37) -> 0 | O38: =SUM(O8:O37) -> 4121413198981 | Q38: =SUM(Q8:Q37) -> 18960010959386 | S38: =SUM(S8:S37) -> 23081424158367 | U38: =SUM(U8:U37) -> 1

Sheet سرمایه‌گذاری در اوراق بهادار
A2: صندوق سرمایه‌گذاری اختصاصی بازارگردانی مفید | B2: صندوق سرمایه‌گذاری اختصاصی بازارگردانی مفید | C2: صندوق سرمایه‌گذاری اختصاصی بازارگردانی مفید | D2: صندوق سرمایه‌گذاری اختصاصی بازارگردانی مفید | E2: صندوق سرمایه‌گذاری اختصاصی بازارگردانی مفید | F2: صندوق سرمایه‌گذاری اختصاصی بازارگردانی مفید | G2: صندوق سرمایه‌گذاری اختصاصی بازارگردانی مفید | H2: صندوق سرمایه‌گذاری اختصاصی بازارگردانی مفید | I2: صندوق سرمایه‌گذاری اختصاصی بازارگردانی مفید | J2: صندوق سرمایه‌گذاری اختصاصی بازارگردانی مفید | K2: صندوق سرمایه‌گذاری اختصاصی بازارگردانی مفید | L2: صندوق سرمایه‌گذاری اختصاصی بازارگردانی مفید | M2: صندوق سرمایه‌گذاری اختصاصی بازارگردانی مفید | N2: صندوق سرمایه‌گذاری اختصاصی بازارگردانی مفید | O2: صندوق سرمایه‌گذاری اختصاصی بازارگردانی مفید | P2: صندوق سرمایه‌گذاری اختصاصی بازارگردانی مفید | Q2: صندوق سرمایه‌گذاری اختصاصی بازارگردانی مفید
A3: صورت وضعیت درآمدها | B3: صورت وضعیت درآمدها | C3: صورت وضعیت درآمدها | D3: صورت وضعیت درآمدها | E3: صورت وضعیت درآمدها | F3: صورت وضعیت درآمدها | G3: صورت وضعیت درآمدها | H3: صورت وضعیت درآمدها | I3: صورت وضعیت درآمدها | J3: صورت وضعیت درآمدها | K3: صورت وضعیت درآمدها | L3: صورت وضعیت درآمدها | M3: صورت وضعیت درآمدها | N3: صورت وضعیت درآمدها | O3: صورت وضعیت درآمدها | P3: صورت وضعیت درآمدها | Q3: صورت وضعیت درآمدها
A4: برای ماه منتهی به 1405/06/31 | B4: برای ماه منتهی به 1405/06/31 | C4: برای ماه منتهی به 1405/06/31 | D4: برای ماه منتهی به 1405/06/31 | E4: برای ماه منتهی به 1405/06/31 | F4: برای ماه منتهی به 1405/06/31 | G4: برای ماه منتهی به 1405/06/31 | H4: برای ماه منتهی به 1405/06/31 | I4: برای ماه منتهی به 1405/06/31 | J4: برای ماه منتهی به 1405/06/31 | K4: برای ماه منتهی به 1405/06/31 | L4: برای ماه منتهی به 1405/06/31 | M4: برای ماه منتهی به 1405/06/31 | N4: برای ماه منتهی به 1405/06/31 | O4: برای ماه منتهی به 1405/06/31 | P4: برای ماه منتهی به 1405/06/31 | Q4: برای ماه منتهی به 1405/06/31
A5: 3-2-درآمد حاصل از سرمایه­گذاری در اوراق بهادار با درآمد ثابت:
A6: توضیحات | C6: طی شهریور ماه | D6: طی ماه | E6: طی ماه | F6: طی ماه | G6: طی ماه | H6: طی ماه | I6: طی ماه | K6: از ابتدای سال مالی تا پایان شهریور ماه | L6: از ابتدای سال مالی تا پایان ماه | M6: از ابتدای سال مالی تا پایان ماه | N6: از ابتدای سال مالی تا پایان ماه | O6: از ابتدای سال مالی تا پایان ماه | P6: از ابتدای سال مالی تا پایان ماه | Q6: از ابتدای سال مالی تا پایان ماه
A7: توضیحات | C7: درآمد سود اوراق | E7: درآمد تغییر ارزش | G7: درآمد فروش | I7: جمع کل | K7: درآمد سود اوراق | M7: درآمد تغییر ارزش | O7: درآمد فروش | Q7: جمع کل
A8: سلف شیرفرادما سولیکو | C8: 0 | E8: 0 | G8: 1017271916 | I8: =C8+E8+G8 -> 1017271916 | K8: 0 | M8: 0 | O8: 1452807740 | Q8: =K8+M8+O8 -> 1452807740
A9: صکوک مرابحه گل گهر760-3ماهه23% | C9: 3113017968 | E9: 3706488328 | G9: 148286 | I9: =C9+E9+G9 -> 6819654582 | K9: 3113017968 | M9: 3706488328 | O9: 148286 | Q9: =K9+M9+O9 -> 6819654582
A10: صکوک مرابحه دعبید803-بدون ضامن | C10: 10871827477 | E10: 0 | G10: 0 | I10: =C10+E10+G10 -> 10871827477 | K10: 33125244510 | M10: -4945988390 | O10: 0 | Q10: =K10+M10+O10 -> 28179256120
A11: صکوک مرابحه دعبید802-3ماهه23% | C11: 5681344289 | E11: 0 | G11: 0 | I11: =C11+E11+G11 -> 5681344289 | K11: 18077917406 | M11: -41629 | O11: 0 | Q11: =K11+M11+O11 -> 18077875777
A12: صکوک مرابحه شدوص810-3ماهه23% | C12: 1975282161 | E12: 0 | G12: 0 | I12: =C12+E12+G12 -> 1975282161 | K12: 5859804819 | M12: -5800 | O12: 0 | Q12: =K12+M12+O12 -> 5859799019
A13: مرابحه طبیعت سبز-مفید070311 | C13: 1931781202 | E13: 0 | G13: 0 | I13: =C13+E13+G13 -> 1931781202 | K13: 5860606545 | M13: 0 | O13: 0 | Q13: =K13+M13+O13 -> 5860606545
A14: صکوک مرابحه پاکشو603-3ماهه23% | C14: 191239748 | E14: 0 | G14: 0 | I14: =C14+E14+G14 -> 191239748 | K14: 586075708 | M14: 0 | O14: 0 | Q14: =K14+M14+O14 -> 586075708
A15: مشارکت ش قم0612-3 ماهه 20.5% | C15: 54636356 | E15: 0 | G15: 0 | I15: =C15+E15+G15 -> 54636356 | K15: 159467099 | M15: 0 | O15: 0 | Q15: =K15+M15+O15 -> 159467099
A16: مرابحه طبیعت سبز-مفید060920 | C16: 98774847 | E16: 0 | G16: 0 | I16: =C16+E16+G16 -> 98774847 | K16: 293018511 | M16: 0 | O16: 0 | Q16: =K16+M16+O16 -> 293018511
A17: اجاره اهداف مفید 14070531 | C17: 3757086757 | E17: 0 | G17: 0 | I17: =C17+E17+G17 -> 3757086757 | K17: 11722175798 | M17: 0 | O17: 0 | Q17: =K17+M17+O17 -> 11722175798
A18: مرابحه اورند پیشرو-مفید051118 | C18: 95511196 | E18: 0 | G18: 0 | I18: =C18+E18+G18 -> 95511196 | K18: 293054639 | M18: 0 | O18: 0 | Q18: =K18+M18+O18 -> 293054639
A19: مرابحه شهر فرش-مفید060921 | C19: 396072603 | E19: 0 | G19: 0 | I19: =C19+E19+G19 -> 396072603 | K19: 1172070548 | M19: 0 | O19: 0 | Q19: =K19+M19+O19 -> 1172070548
... A23: سلف موازی هیدروکربن آفتاب054 | C23: 0 | E23: 1234419222 | G23: 0 | I23: =C23+E23+G23 -> 1234419222 | K23: 0 | M23: 3731802096 | O23: 0 | Q23: =K23+M23+O23 -> 3731802096
C24: =SUM(C8:C23) -> 28342113567 | E24: =SUM(E8:E23) -> 7968957592 | G24: =SUM(G8:G23) -> 1017420202 | I24: =SUM(I8:I23) -> 37328491361 | K24: =SUM(K8:K23) -> 80800412442 | M24: =SUM(M8:M23) -> 11641449131 | O24: =SUM(O8:O23) -> 1452956026 | Q24: =SUM(Q8:Q23) -> 93894817599

Sheet درآمد سپرده بانکی
A2: صندوق سرمایه‌گذاری اختصاصی بازارگردانی مفید | B2: صندوق سرمایه‌گذاری اختصاصی بازارگردانی مفید | C2: صندوق سرمایه‌گذاری اختصاصی بازارگردانی مفید | D2: صندوق سرمایه‌گذاری اختصاصی بازارگردانی مفید | E2: صندوق سرمایه‌گذاری اختصاصی بازارگردانی مفید | F2: صندوق سرمایه‌گذاری اختصاصی بازارگردانی مفید | G2: صندوق سرمایه‌گذاری اختصاصی بازارگردانی مفید | H2: صندوق سرمایه‌گذاری اختصاصی بازارگردانی مفید | I2: صندوق سرمایه‌گذاری اختصاصی بازارگردانی مفید
A3: صورت وضعیت درآمدها | B3: صورت وضعیت درآمدها | C3: صورت وضعیت درآمدها | D3: صورت وضعیت درآمدها | E3: صورت وضعیت درآمدها | F3: صورت وضعیت درآمدها | G3: صورت وضعیت درآمدها | H3: صورت وضعیت درآمدها | I3: صورت وضعیت درآمدها
A4: برای ماه منتهی به 1405/06/31 | B4: برای ماه منتهی به 1405/06/31 | C4: برای ماه منتهی به 1405/06/31 | D4: برای ماه منتهی به 1405/06/31 | E4: برای ماه منتهی به 1405/06/31 | F4: برای ماه منتهی به 1405/06/31 | G4: برای ماه منتهی به 1405/06/31 | H4: برای ماه منتهی به 1405/06/31 | I4: برای ماه منتهی به 1405/06/31
A5: 4-2-درآمد حاصل از سرمایه­گذاری در سپرده بانکی و گواهی سپرده:
A6: نام سپرده بانکی | B6: نام سپرده بانکی | C6: طی شهریور ماه | D6: طی ماه | E6: طی ماه | G6: از ابتدای سال مالی تا پایان شهریور ماه | H6: از ابتدای سال مالی تا پایان ماه | I6: از ابتدای سال مالی تا پایان ماه
A7: نام سپرده | C7: سود سپرده بانکی و گواهی سپرده | E7: درصد سود به میانگین سپرده | G7: سود سپرده بانکی و گواهی سپرده | I7: درصد سود به میانگین سپرده
A8: بانک پاسارگاد هفت تیر | C8: 10689 | E8: =C8/$C$106 -> 5.2316994e-08 | G8: 34630 | I8: =G8/$G$106 -> 6.4666065e-08
A9: بانک پاسارگاد هفت تیر | C9: 48444 | E9: =C9/$C$106 -> 2.3710772e-07 | G9: 144721 | I9: =G9/$G$106 -> 2.7024365e-07
A10: بانک پاسارگاد هفت تیر | C10: 48811 | E10: =C10/$C$106 -> 2.38904e-07 | G10: 145818 | I10: =G10/$G$106 -> 2.7229212e-07
A11: بانک پاسارگاد هفت تیر | C11: 52215 | E11: =C11/$C$106 -> 2.5556477e-07 | G11: 155986 | I11: =G11/$G$106 -> 2.9127926e-07
A12: بانک خاورمیانه آفریقا | C12: 990977918 | E12: =C12/$C$106 -> 0.0048503121 | G12: 2474194460 | I12: =G12/$G$106 -> 0.0046201681
A13: بانک خاورمیانه آفریقا | C13: 2858305895 | E13: =C13/$C$106 -> 0.013989894 | G13: 18967369462 | I13: =G13/$G$106 -> 0.035418572
A14: بانک خاورمیانه آفریقا | C14: 348197839 | E14: =C14/$C$106 -> 0.001704244 | G14: 3110720633 | I14: =G14/$G$106 -> 0.0058087803
A15: بانک خاورمیانه آفریقا | C15: 735694598 | E15: =C15/$C$106 -> 0.0036008354 | G15: 2084655696 | I15: =G15/$G$106 -> 0.0038927658
A16: بانک خاورمیانه آفریقا | C16: 170974214 | E16: =C16/$C$106 -> 0.00083682823 | G16: 1474119804 | I16: =G16/$G$106 -> 0.0027526863
A17: بانک خاورمیانه آفریقا | C17: 232165351 | E17: =C17/$C$106 -> 0.0011363264 | G17: 282617904 | I17: =G17/$G$106 -> 0.00052774438
A18: بانک خاورمیانه آفریقا | C18: 55307865 | E18: =C18/$C$106 -> 0.00027070271 | G18: 143415436 | I18: =G18/$G$106 -> 0.00026780572
A19: بانک خاورمیانه آفریقا | C19: 228151168 | E19: =C19/$C$106 -> 0.0011166791 | G19: 1356924019 | I19: =G19/$G$106 -> 0.0025338417
... A105: بانک تجارت حافظ جنوبی | C105: 3558475325 | E105: =C105/$C$106 -> 0.017416852 | G105: 3558475325 | I105: =G105/$G$106 -> 0.0066448916
C106: =SUM(C8:C105) -> 204312196145 | E106: =SUM(E8:E105) -> 1 | G106: =SUM(G8:G105) -> 535520445433 | I106: =SUM(I8:I105) -> 1

Sheet سایر درآمدها
A2: صندوق سرمایه‌گذاری اختصاصی بازارگردانی مفید | B2: صندوق سرمایه‌گذاری اختصاصی بازارگردانی مفید | C2: صندوق سرمایه‌گذاری اختصاصی بازارگردانی مفید | D2: صندوق سرمایه‌گذاری اختصاصی بازارگردانی مفید | E2: صندوق سرمایه‌گذاری اختصاصی بازارگردانی مفید
A3: صورت وضعیت درآمدها | B3: صورت وضعیت درآمدها | C3: صورت وضعیت درآمدها | D3: صورت وضعیت درآمدها | E3: صورت وضعیت درآمدها
A4: برای ماه منتهی به 1405/06/31 | B4: برای ماه منتهی به 1405/06/31 | C4: برای ماه منتهی به 1405/06/31 | D4: برای ماه منتهی به 1405/06/31 | E4: برای ماه منتهی به 1405/06/31
A5: 5-2-سایر درآمدها: | E5: از ابتدای سال مالی
A6: سایر درآمدها | C6: طی شهریور ماه | E6: تا پایان شهریور ماه
A7: سایر درآمدها | C7: مبلغ | E7: مبلغ
A8: سایر درآمدها برای تنزیل سود سهام | C8: 1212535 | E8: 1212535
A9: سایر درآمدهای تنزیل سود بانک | C9: 0 | E9: 2290225026
A10: درآمد حاصل از کارمزد بازارگردانی | C10: 1204406534989 | E10: 5148983920139
C11: =SUM(C8:C10) -> 1204407747524 | E11: =SUM(E8:E10) -> 5151275357700

Sheet مبالغ تخصیص یافته
A2: صندوق سرمایه‌گذاری اختصاصی بازارگردانی مفید
A3: صورت وضعیت پورتفوی
A4: برای ماه منتهی به 1405/06/31
A6: جزئیات قراردادهای خرید و نگهداری اوراق با درآمد ثابت
A7: شرح | C7: نوع ارتباط با طرف قرارداد | E7: مبلغ اوراق بهادار واگذار شده | G7: بهای تمام شده درآمد عملیاتی/ هزینه بازارگردانی و تعهد پذیره نویسی | I7: میانگین نرخ بازده تا سر رسید اوراق بهادار
A8: هزینه کارمزد خرید و نگهداری اوراق صعبید069 - صندوق حامی | C8: فروشنده | E8: 1490608114101 | G8: 6014109337 | I8: 34
A9: هزینه کارمزد خرید و نگهداری اوراق اورند پیشرو052 -صندوق حامی | C9: فروشنده | E9: 1995000000000 | G9: 8243956046 | I9: 33.5
A10: هزینه کارمزد خرید و نگهداری اوراق اورند پیشرو052 -صندوق آوند | C10: فروشنده | E10: 1000000000000 | G10: 4121978023 | I10: 34.5
A11: هزینه کارمزد خرید و نگهداری اوراق اهداف 073 - صندوق حامی | C11: فروشنده | E11: 3336000000000 | G11: 26185834470 | I11: 39
A12: هزینه کارمزد خرید و نگهداری اوراق صکشو603 - صندوق اندوخته ملت | C12: فروشنده | E12: 2400000000000 | G12: 5256024580 | I12: 37.5
A13: هزینه کارمزد خرید و نگهداری اوراق صعبید069 - صندوق آوند | C13: فروشنده | E13: 2000000000000 | G13: 8018812470 | I13: 34
A14: هزینه کارمزد خرید و نگهداری اوراق عکرمان - صندوق حامی 2 | C14: فروشنده | E14: 4947864134400 | G14: 43333839180 | I14: 37
A15: هزینه کارمزد خرید و نگهداری اوراق عکرمان - صندوق آوند | C15: فروشنده | E15: 4947864134400 | G15: 43333839180 | I15: 37
A16: هزینه کارمزد خرید و نگهداری اوراق سهیدرو - صندوق حامی | C16: فروشنده | E16: 1939466031800 | G16: 18289725836 | I16: 37.5
A17: هزینه کارمزد خرید و نگهداری اوراق طبیعت066 - صندوق آوند | C17: فروشنده | E17: 2500000000000 | G17: 22726733578 | I17: 38.1
A18: هزینه کارمزد خرید و نگهداری اوراق اهداف 073 - صندوق آوند | C18: فروشنده | E18: 1440000000000 | G18: 11222010930 | I18: 39
A19: هزینه کارمزد خرید و نگهداری اوراق شهرداری قم - صندوق آوند | C19: فروشنده | E19: 15000000000000 | G19: 11109859168 | I19: 41
... A24: هزینه کارمزد خرید و نگهداری اوراق صعبید803- صندوق پاسارگاد | C24: فروشنده | E24: 1000000000000 | G24: 5857696512 | I24: 45

Sheet درآمد سود سهام
A2: صندوق سرمایه‌گذاری اختصاصی بازارگردانی مفید | B2: صندوق سرمایه‌گذاری اختصاصی بازارگردانی مفید | C2: صندوق سرمایه‌گذاری اختصاصی بازارگردانی مفید | D2: صندوق سرمایه‌گذاری اختصاصی بازارگردانی مفید | E2: صندوق سرمایه‌گذاری اختصاصی بازارگردانی مفید | F2: صندوق سرمایه‌گذاری اختصاصی بازارگردانی مفید | G2: صندوق سرمایه‌گذاری اختصاصی بازارگردانی مفید | H2: صندوق سرمایه‌گذاری اختصاصی بازارگردانی مفید | I2: صندوق سرمایه‌گذاری اختصاصی بازارگردانی مفید | J2: صندوق سرمایه‌گذاری اختصاصی بازارگردانی مفید | K2: صندوق سرمایه‌گذاری اختصاصی بازارگردانی مفید | L2: صندوق سرمایه‌گذاری اختصاصی بازارگردانی مفید | M2: صندوق سرمایه‌گذاری اختصاصی بازارگردانی مفید | N2: صندوق سرمایه‌گذاری اختصاصی بازارگردانی مفید | O2: صندوق سرمایه‌گذاری اختصاصی بازارگردانی مفید | P2: صندوق سرمایه‌گذاری اختصاصی بازارگردانی مفید | Q2: صندوق سرمایه‌گذاری اختصاصی بازارگردانی مفید | R2: صندوق سرمایه‌گذاری اختصاصی بازارگردانی مفید | S2: صندوق سرمایه‌گذاری اختصاصی بازارگردانی مفید
A3: صورت وضعیت درآمدها | B3: صورت وضعیت درآمدها | C3: صورت وضعیت درآمدها | D3: صورت وضعیت درآمدها | E3: صورت وضعیت درآمدها | F3: صورت وضعیت درآمدها | G3: صورت وضعیت درآمدها | H3: صورت وضعیت درآمدها | I3: صورت وضعیت درآمدها | J3: صورت وضعیت درآمدها | K3: صورت وضعیت درآمدها | L3: صورت وضعیت درآمدها | M3: صورت وضعیت درآمدها | N3: صورت وضعیت درآمدها | O3: صورت وضعیت درآمدها | P3: صورت وضعیت درآمدها | Q3: صورت وضعیت درآمدها | R3: صورت وضعیت درآمدها | S3: صورت وضعیت درآمدها
A4: برای ماه منتهی به 1405/06/31 | B4: برای ماه منتهی به 1405/06/31 | C4: برای ماه منتهی به 1405/06/31 | D4: برای ماه منتهی به 1405/06/31 | E4: برای ماه منتهی به 1405/06/31 | F4: برای ماه منتهی به 1405/06/31 | G4: برای ماه منتهی به 1405/06/31 | H4: برای ماه منتهی به 1405/06/31 | I4: برای ماه منتهی به 1405/06/31 | J4: برای ماه منتهی به 1405/06/31 | K4: برای ماه منتهی به 1405/06/31 | L4: برای ماه منتهی به 1405/06/31 | M4: برای ماه منتهی به 1405/06/31 | N4: برای ماه منتهی به 1405/06/31 | O4: برای ماه منتهی به 1405/06/31 | P4: برای ماه منتهی به 1405/06/31 | Q4: برای ماه منتهی به 1405/06/31 | R4: برای ماه منتهی به 1405/06/31 | S4: برای ماه منتهی به 1405/06/31
A5: درآمد سود سهام
A6: نام شرکت | C6: اطلاعات مجمع | D6: اطلاعات مجمع | E6: اطلاعات مجمع | F6: اطلاعات مجمع | G6: اطلاعات مجمع | I6: طی شهریور ماه | J6: طی ماه | K6: طی ماه | L6: طی ماه | M6: طی ماه | O6: از ابتدای سال مالی تا پایان شهریورماه | P6: از ابتدای سال مالی تا پایان ماه | Q6: از ابتدای سال مالی تا پایان ماه | R6: از ابتدای سال مالی تا پایان ماه | S6: از ابتدای سال مالی تا پایان ماه
A7: نام شرکت | C7: تاریخ مجمع | E7: تعداد سهام متعلقه در زمان مجمع | G7: سود متعلق به هر سهم | I7: جمع درآمد سود سهام | K7: هزینه تنزیل | M7: خالص درآمد سود سهام | O7: جمع درآمد سود سهام | Q7: هزینه تنزیل | S7: خالص درآمد سود سهام
A8: بانک خاورمیانه | C8: 1405/04/31 | E8: 768340025 | G8: 166 | I8: 0 | K8: 0 | M8: =I8-K8 -> 0 | O8: 127544444150 | Q8: 0 | S8: =O8-Q8 -> 127544444150
A9: معدنکاران نسوز | C9: 1405/05/27 | E9: 977659062 | G9: 850 | I9: 0 | K9: 0 | M9: =I9-K9 -> 0 | O9: 831010202700 | Q9: 44701132096 | S9: =O9-Q9 -> 786309070604
A10: مجتمع کاشی و سنگ پرسپولیس یزد | C10: 1405/04/22 | E10: 1068395505 | G10: 400 | I10: 0 | K10: 0 | M10: =I10-K10 -> 0 | O10: 427358202000 | Q10: 45040202662 | S10: =O10-Q10 -> 382317999338
A11: بیمه زندگی مفید | C11: 1405/05/04 | E11: 20058877 | G11: 500 | I11: 0 | K11: 0 | M11: =I11-K11 -> 0 | O11: 10029438500 | Q11: 395898888 | S11: =O11-Q11 -> 9633539612
A12: کولان سل | C12: 1405/04/10 | E12: 114386196 | G12: 1177 | I12: 0 | K12: 0 | M12: =I12-K12 -> 0 | O12: 134632552692 | Q12: 0 | S12: =O12-Q12 -> 134632552692
I13: =SUM(I8:I12) -> 0 | K13: =SUM(K8:K12) -> 0 | M13: =SUM(M8:M12) -> 0 | O13: =SUM(O8:O12) -> 1530574840042 | Q13: =SUM(Q8:Q12) -> 90137233646 | S13: =SUM(S8:S12) -> 1440437606396

Sheet سود اوراق بهادار   
A2: صندوق سرمایه‌گذاری اختصاصی بازارگردانی مفید | B2: صندوق سرمایه‌گذاری اختصاصی بازارگردانی مفید | C2: صندوق سرمایه‌گذاری اختصاصی بازارگردانی مفید | D2: صندوق سرمایه‌گذاری اختصاصی بازارگردانی مفید | E2: صندوق سرمایه‌گذاری اختصاصی بازارگردانی مفید | F2: صندوق سرمایه‌گذاری اختصاصی بازارگردانی مفید | G2: صندوق سرمایه‌گذاری اختصاصی بازارگردانی مفید | H2: صندوق سرمایه‌گذاری اختصاصی بازارگردانی مفید | I2: صندوق سرمایه‌گذاری اختصاصی بازارگردانی مفید | J2: صندوق سرمایه‌گذاری اختصاصی بازارگردانی مفید | K2: صندوق سرمایه‌گذاری اختصاصی بازارگردانی مفید | L2: صندوق سرمایه‌گذاری اختصاصی بازارگردانی مفید | M2: صندوق سرمایه‌گذاری اختصاصی بازارگردانی مفید
A3: صورت وضعیت درآمدها | B3: صورت وضعیت درآمدها | C3: صورت وضعیت درآمدها | D3: صورت وضعیت درآمدها | E3: صورت وضعیت درآمدها | F3: صورت وضعیت درآمدها | G3: صورت وضعیت درآمدها | H3: صورت وضعیت درآمدها | I3: صورت وضعیت درآمدها | J3: صورت وضعیت درآمدها | K3: صورت وضعیت درآمدها | L3: صورت وضعیت درآمدها | M3: صورت وضعیت درآمدها
A4: برای ماه منتهی به 1405/06/31 | B4: برای ماه منتهی به 1405/06/31 | C4: برای ماه منتهی به 1405/06/31 | D4: برای ماه منتهی به 1405/06/31 | E4: برای ماه منتهی به 1405/06/31 | F4: برای ماه منتهی به 1405/06/31 | G4: برای ماه منتهی به 1405/06/31 | H4: برای ماه منتهی به 1405/06/31 | I4: برای ماه منتهی به 1405/06/31 | J4: برای ماه منتهی به 1405/06/31 | K4: برای ماه منتهی به 1405/06/31 | L4: برای ماه منتهی به 1405/06/31 | M4: برای ماه منتهی به 1405/06/31
A5: سود اوراق بهادار با درآمد ثابت
A6: مشخصات | B6: مشخصات | C6: طی شهریور ماه | D6: طی ماه | E6: طی ماه | F6: طی ماه | G6: طی ماه | I6: از ابتدای سال مالی تا پایان شهریور ماه | J6: از ابتدای سال مالی تا پایان ماه | K6: از ابتدای سال مالی تا پایان ماه | L6: از ابتدای سال مالی تا پایان ماه | M6: از ابتدای سال مالی تا پایان ماه
A7: توضیحات | C7: درآمد سود | E7: هزینه تنزیل | G7: خالص درآمد | I7: درآمد سود | K7: هزینه تنزیل | M7: خالص درآمد
A8: صکوک مرابحه گل گهر760-3ماهه23% | C8: 3113017968 | E8: 0 | G8: =C8-E8 -> 3113017968 | I8: 3113017968 | K8: 0 | M8: =I8-K8 -> 3113017968
A9: صکوک مرابحه دعبید803-بدون ضامن | C9: 10871827477 | E9: 0 | G9: =C9-E9 -> 10871827477 | I9: 33125244510 | K9: 0 | M9: =I9-K9 -> 33125244510
A10: صکوک مرابحه دعبید802-3ماهه23% | C10: 5681344289 | E10: 0 | G10: =C10-E10 -> 5681344289 | I10: 18077917406 | K10: 0 | M10: =I10-K10 -> 18077917406
A11: صکوک مرابحه شدوص810-3ماهه23% | C11: 1975282161 | E11: 0 | G11: =C11-E11 -> 1975282161 | I11: 5859804819 | K11: 0 | M11: =I11-K11 -> 5859804819
A12: مرابحه طبیعت سبز-مفید070311 | C12: 1931781202 | E12: 0 | G12: =C12-E12 -> 1931781202 | I12: 5860606545 | K12: 0 | M12: =I12-K12 -> 5860606545
A13: صکوک مرابحه پاکشو603-3ماهه23% | C13: 191239748 | E13: 0 | G13: =C13-E13 -> 191239748 | I13: 586075708 | K13: 0 | M13: =I13-K13 -> 586075708
A14: مشارکت ش قم0612-3 ماهه 20.5% | C14: 54636356 | E14: 0 | G14: =C14-E14 -> 54636356 | I14: 159467099 | K14: 0 | M14: =I14-K14 -> 159467099
A15: مرابحه طبیعت سبز-مفید060920 | C15: 98774847 | E15: 0 | G15: =C15-E15 -> 98774847 | I15: 293018511 | K15: 0 | M15: =I15-K15 -> 293018511
A16: اجاره اهداف مفید 14070531 | C16: 3757086757 | E16: 0 | G16: =C16-E16 -> 3757086757 | I16: 11722175798 | K16: 0 | M16: =I16-K16 -> 11722175798
A17: مرابحه اورند پیشرو-مفید051118 | C17: 95511196 | E17: 0 | G17: =C17-E17 -> 95511196 | I17: 293054639 | K17: 0 | M17: =I17-K17 -> 293054639
A18: مرابحه شهر فرش-مفید060921 | C18: 396072603 | E18: 0 | G18: =C18-E18 -> 396072603 | I18: 1172070548 | K18: 0 | M18: =I18-K18 -> 1172070548
A19: صکوک مرابحه دعبید69-3ماهه23% | C19: 175538963 | E19: 0 | G19: =C19-E19 -> 175538963 | I19: 537958891 | K19: 0 | M19: =I19-K19 -> 537958891
C20: =SUM(C8:C19) -> 28342113567 | E20: =SUM(E8:E19) -> 0 | G20: =SUM(G8:G19) -> 28342113567 | I20: =SUM(I8:I19) -> 80800412442 | K20: =SUM(K8:K19) -> 0 | M20: =SUM(M8:M19) -> 80800412442

Sheet سود سپرده بانکی
A2: صندوق سرمایه‌گذاری اختصاصی بازارگردانی مفید | B2: صندوق سرمایه‌گذاری اختصاصی بازارگردانی مفید | C2: صندوق سرمایه‌گذاری اختصاصی بازارگردانی مفید | D2: صندوق سرمایه‌گذاری اختصاصی بازارگردانی مفید | E2: صندوق سرمایه‌گذاری اختصاصی بازارگردانی مفید | F2: صندوق سرمایه‌گذاری اختصاصی بازارگردانی مفید | G2: صندوق سرمایه‌گذاری اختصاصی بازارگردانی مفید | H2: صندوق سرمایه‌گذاری اختصاصی بازارگردانی مفید | I2: صندوق سرمایه‌گذاری اختصاصی بازارگردانی مفید | J2: صندوق سرمایه‌گذاری اختصاصی بازارگردانی مفید | K2: صندوق سرمایه‌گذاری اختصاصی بازارگردانی مفید | L2: صندوق سرمایه‌گذاری اختصاصی بازارگردانی مفید | M2: صندوق سرمایه‌گذاری اختصاصی بازارگردانی مفید
A3: صورت وضعیت درآمدها | B3: صورت وضعیت درآمدها | C3: صورت وضعیت درآمدها | D3: صورت وضعیت درآمدها | E3: صورت وضعیت درآمدها | F3: صورت وضعیت درآمدها | G3: صورت وضعیت درآمدها | H3: صورت وضعیت درآمدها | I3: صورت وضعیت درآمدها | J3: صورت وضعیت درآمدها | K3: صورت وضعیت درآمدها | L3: صورت وضعیت درآمدها | M3: صورت وضعیت درآمدها
A4: برای ماه منتهی به 1405/06/31 | B4: برای ماه منتهی به 1405/06/31 | C4: برای ماه منتهی به 1405/06/31 | D4: برای ماه منتهی به 1405/06/31 | E4: برای ماه منتهی به 1405/06/31 | F4: برای ماه منتهی به 1405/06/31 | G4: برای ماه منتهی به 1405/06/31 | H4: برای ماه منتهی به 1405/06/31 | I4: برای ماه منتهی به 1405/06/31 | J4: برای ماه منتهی به 1405/06/31 | K4: برای ماه منتهی به 1405/06/31 | L4: برای ماه منتهی به 1405/06/31 | M4: برای ماه منتهی به 1405/06/31
A5: سود سپرده بانکی
A6: مشخصات | B6: مشخصات | C6: طی شهریور ماه | D6: طی ماه | E6: طی ماه | F6: طی ماه | G6: طی ماه | I6: از ابتدای سال مالی تا پایان شهریور ماه | J6: از ابتدای سال مالی تا پایان ماه | K6: از ابتدای سال مالی تا پایان ماه | L6: از ابتدای سال مالی تا پایان ماه | M6: از ابتدای سال مالی تا پایان ماه
A7: توضیحات | C7: درآمد سود | E7: هزینه تنزیل | G7: خالص درآمد | I7: درآمد سود | K7: هزینه تنزیل | M7: خالص درآمد
A8: بانک پاسارگاد هفت تیر | C8: 10689 | E8: 0 | G8: =C8-E8 -> 10689 | I8: 34630 | K8: 0 | M8: =I8-K8 -> 34630
A9: بانک پاسارگاد هفت تیر | C9: 48444 | E9: 0 | G9: =C9-E9 -> 48444 | I9: 144721 | K9: 0 | M9: =I9-K9 -> 144721
A10: بانک پاسارگاد هفت تیر | C10: 48811 | E10: 0 | G10: =C10-E10 -> 48811 | I10: 145818 | K10: 0 | M10: =I10-K10 -> 145818
A11: بانک پاسارگاد هفت تیر | C11: 52215 | E11: 0 | G11: =C11-E11 -> 52215 | I11: 155986 | K11: 0 | M11: =I11-K11 -> 155986
A12: بانک خاورمیانه آفریقا | C12: 990977918 | E12: 0 | G12: =C12-E12 -> 990977918 | I12: 2474194460 | K12: 0 | M12: =I12-K12 -> 2474194460
A13: بانک خاورمیانه آفریقا | C13: 2858305895 | E13: 0 | G13: =C13-E13 -> 2858305895 | I13: 18967369462 | K13: 0 | M13: =I13-K13 -> 18967369462
A14: بانک خاورمیانه آفریقا | C14: 348197839 | E14: 0 | G14: =C14-E14 -> 348197839 | I14: 3110720633 | K14: 0 | M14: =I14-K14 -> 3110720633
A15: بانک خاورمیانه آفریقا | C15: 735694598 | E15: 0 | G15: =C15-E15 -> 735694598 | I15: 2084655696 | K15: 0 | M15: =I15-K15 -> 2084655696
A16: بانک خاورمیانه آفریقا | C16: 170974214 | E16: 0 | G16: =C16-E16 -> 170974214 | I16: 1474119804 | K16: 0 | M16: =I16-K16 -> 1474119804
A17: بانک خاورمیانه آفریقا | C17: 232165351 | E17: 0 | G17: =C17-E17 -> 232165351 | I17: 282617904 | K17: 0 | M17: =I17-K17 -> 282617904
A18: بانک خاورمیانه آفریقا | C18: 55307865 | E18: 0 | G18: =C18-E18 -> 55307865 | I18: 143415436 | K18: 0 | M18: =I18-K18 -> 143415436
A19: بانک خاورمیانه آفریقا | C19: 228151168 | E19: 0 | G19: =C19-E19 -> 228151168 | I19: 1356924019 | K19: 0 | M19: =I19-K19 -> 1356924019
... A105: بانک تجارت حافظ جنوبی | C105: 3561643830 | E105: 3168505 | G105: =C105-E105 -> 3558475325 | I105: 3561643830 | K105: 3168505 | M105: =I105-K105 -> 3558475325
C106: =SUM(C8:C105) -> 204439243690 | E106: =SUM(E8:E105) -> 127047545 | G106: =SUM(G8:G105) -> 204312196145 | I106: =SUM(I8:I105) -> 536093201238 | K106: =SUM(K8:K105) -> 572755805 | M106: =SUM(M8:M105) -> 535520445433

Sheet درآمد ناشی از فروش
